Workbook

Sheet Basics
E1: Complete only the highlighted sections. All other sections are formula based and will auto-fill.
A4: Grade:
A6: Total Number of Students: | E6: =IF(COUNTA('1st Quarter'!B7:B41)>0,COUNTA('1st Quarter'!B7:B41),"") | F6: Will auto-fill based on Name Entries in 1st Quarter
A8: Teacher:
A10: School Year:

Sheet 1st Quarter
A2: First Quarter
A3: Student # | B3: Last Name | C3: First Name | D3: M.I. | F3: Math | AG3: Reading | BH3: Spelling | CI3: Science | DJ3: Social Studies | EK3: English
F4: 1 | G4: 2 | H4: 3 | I4: 4 | J4: 5 | K4: 6 | L4: 7 | M4: 8 | N4: 9 | O4: 10 | P4: 11 | Q4: 12 | R4: 13 | S4: 14 | T4: 15 | U4: 16 | V4: 17 | W4: 18 | X4: 19 | Y4: 20 | Z4: 21 | AA4: 22 | AB4: 23 | AC4: 24 | AD4: 25 | AE4: Average | AG4: 1 | AH4: 2 | AI4: 3 | AJ4: 4 | AK4: 5 | AL4: 6 | AM4: 7 | AN4: 8 | AO4: 9 | AP4: 10 | AQ4: 11 | AR4: 12 | AS4: 13 | AT4: 14 | AU4: 15 | AV4: 16 | AW4: 17 | AX4: 18 | AY4: 19 | AZ4: 20 | BA4: 21 | BB4: 22 | BC4: 23 | BD4: 24 | BE4: 25 | BF4: Average | BH4: 1 | BI4: 2 | BJ4: 3 | BK4: 4 | BL4: 5 | BM4: 6 | BN4: 7 | BO4: 8 | BP4: 9 | BQ4: 10 | BR4: 11 | BS4: 12 | BT4: 13 | BU4: 14 | BV4: 15 | BW4: 16 | BX4: 17 | BY4: 18 | BZ4: 19 | CA4: 20 | CB4: 21 | CC4: 22 | CD4: 23 | CE4: 24 | CF4: 25 | CG4: Average | CI4: 1 | CJ4: 2 | CK4: 3 | CL4: 4 | CM4: 5 | CN4: 6 | CO4: 7 | CP4: 8 | CQ4: 9 | CR4: 10 | CS4: 11 | CT4: 12 | CU4: 13 | CV4: 14 | CW4: 15 | CX4: 16 | CY4: 17 | CZ4: 18 | DA4: 19 | DB4: 20 | DC4: 21 | DD4: 22 | DE4: 23 | DF4: 24 | DG4: 25 | DH4: Average | DJ4: 1 | DK4: 2 | DL4: 3 | DM4: 4 | DN4: 5 | DO4: 6 | DP4: 7 | DQ4: 8 | DR4: 9 | DS4: 10 | DT4: 11 | DU4: 12 | DV4: 13 | DW4: 14 | DX4: 15 | DY4: 16 | DZ4: 17 | EA4: 18 | EB4: 19 | EC4: 20 | ED4: 21 | EE4: 22 | EF4: 23 | EG4: 24 | EH4: 25 | EI4: Average | EK4: 1 | EL4: 2 | EM4: 3 | EN4: 4 | EO4: 5 | EP4: 6 | EQ4: 7 | ER4: 8 | ES4: 9 | ET4: 10 | EU4: 11 | EV4: 12 | EW4: 13 | EX4: 14 | EY4: 15 | EZ4: 16 | FA4: 17 | FB4: 18 | FC4: 19 | FD4: 20 | FE4: 21 | FF4: 22 | FG4: 23 | FH4: 24 | FI4: 25 | FJ4: Average
E5: Weight | F5: 1 | AG5: 1 | BH5: 1 | CI5: 1 | DJ5: 1 | EK5: 1
D6: Assignment
A7: 1 | AE7: =ROUND(((F7*$F$5)+(G7*$G$5)+(H7*$H$5)+(I7*$I$5)+(J7*$J$5)+(K7*$K$5)+(L7*$L$5)+(M7*$M$5)+(N7*$N$5)+(O7*$O$5)+(P7*$P$5)+(Q7*$Q$5)+(R7*$R$5)+(S7*$S$5)+(T7*$T$5)+(U7*$U$5)+(V7*$V$5)+(W7*$W$5)+(X7*$X$5)+(Y7*$Y$5)+(Z7*$Z$5)+(AA7*$AA$5)+(AB7*$AB$5)+(AC7*$AC$5)+(AD7*$AD$5))/(SUM($F$5:$AD$5)),3) -> 0 | AF7: =LOOKUP(AE7,'Final Average'!$H$45:$I$57) -> F | BF7: =ROUND(((AG7*$AG$5)+(AH7*$AH$5)+(AI7*$AI$5)+(AJ7*$AJ$5)+(AK7*$AK$5)+(AL7*$AL$5)+(AM7*$AM$5)+(AN7*$AN$5)+(AO7*$AO$5)+(AP7*$AP$5)+(AQ7*$AQ$5)+(AR7*$AR$5)+(AS7*$AS$5)+(AT7*$AT$5)+(AU7*$AU$5)+(AV7*$AV$5)+(AW7*$AW$5)+(AX7*$AX$5)+(AY7*$AY$5)+(AZ7*$AZ$5)+(BA7*$BA$5)+(BB7*$BB$5)+(BC7*$BC$5)+(BD7*$BD$5)+(BE7*$BE$5))/(SUM($AG$5:$BE$5)),3) -> 0 | BG7: =LOOKUP(BF7,'Final Average'!$H$45:$I$57) -> F | CG7: =ROUND(((BH7*$BH$5)+(BI7*$BI$5)+(BJ7*$BJ$5)+(BK7*$BK$5)+(BL7*$BL$5)+(BM7*$BM$5)+(BN7*$BN$5)+(BO7*$BO$5)+(BP7*$BP$5)+(BQ7*$BQ$5)+(BR7*$BR$5)+(BS7*$BS$5)+(BT7*$BT$5)+(BU7*$BU$5)+(BV7*$BV$5)+(BW7*$BW$5)+(BX7*$BX$5)+(BY7*$BY$5)+(BZ7*$BZ$5)+(CA7*$CA$5)+(CB7*$CB$5)+(CC7*$CC$5)+(CD7*$CD$5)+(CE7*$CE$5)+(CF7*$CF$5))/(SUM($BH$5:$CF$5)),3) -> 0 | CH7: =LOOKUP(CG7,'Final Average'!$H$45:$I$57) -> F | DH7: =ROUND(((CI7*$CI$5)+(CJ7*$CJ$5)+(CK7*$CK$5)+(CL7*$CL$5)+(CM7*$CM$5)+(CN7*$CN$5)+(CO7*$CO$5)+(CP7*$CP$5)+(CQ7*$CQ$5)+(CR7*$CR$5)+(CS7*$CS$5)+(CT7*$CT$5)+(CU7*$CU$5)+(CV7*$CV$5)+(CW7*$CW$5)+(CX7*$CX$5)+(CY7*$CY$5)+(CZ7*$CZ$5)+(DA7*$DA$5)+(DB7*$DB$5)+(DC7*$DC$5)+(DD7*$DD$5)+(DE7*$DE$5)+(DF7*$DF$5)+(DG7*$DG$5))/(SUM($CI$5:$DG$5)),3) -> 0 | DI7: =LOOKUP(DH7,'Final Average'!$H$45:$I$57) -> F | EI7: =ROUND(((DJ7*$DJ$5)+(DK7*$DK$5)+(DL7*$DL$5)+(DM7*$DM$5)+(DN7*$DN$5)+(DO7*$DO$5)+(DP7*$DP$5)+(DQ7*$DQ$5)+(DR7*$DR$5)+(DS7*$DS$5)+(DT7*$DT$5)+(DU7*$DU$5)+(DV7*$DV$5)+(DW7*$DW$5)+(DX7*$DX$5)+(DY7*$DY$5)+(DZ7*$DZ$5)+(EA7*$EA$5)+(EB7*$EB$5)+(EC7*$EC$5)+(ED7*$ED$5)+(EE7*$EE$5)+(EF7*$EF$5)+(EG7*$EG$5)+(EH7*$EH$5))/(SUM($DJ$5:$EH$5)),3) -> 0 | EJ7: =LOOKUP(EI7,'Final Average'!$H$45:$I$57) -> F | FJ7: =ROUND(((EK7*$EK$5)+(EL7*$EL$5)+(EM7*$EM$5)+(EN7*$EN$5)+(EO7*$EO$5)+(EP7*$EP$5)+(EQ7*$EQ$5)+(ER7*$ER$5)+(ES7*$ES$5)+(ET7*$ET$5)+(EU7*$EU$5)+(EV7*$EV$5)+(EW7*$EW$5)+(EX7*$EX$5)+(EY7*$EY$5)+(EZ7*$EZ$5)+(FA7*$FA$5)+(FB7*$FB$5)+(FC7*$FC$5)+(FD7*$FD$5)+(FE7*$FE$5)+(FF7*$FF$5)+(FG7*$FG$5)+(FH7*$FH$5)+(FI7*$FI$5))/(SUM($EK$5:$FI$5)),3) -> 0 | FK7: =LOOKUP(FJ7,'Final Average'!$H$45:$I$57) -> F
A8: 2 | AE8: =ROUND(((F8*$F$5)+(G8*$G$5)+(H8*$H$5)+(I8*$I$5)+(J8*$J$5)+(K8*$K$5)+(L8*$L$5)+(M8*$M$5)+(N8*$N$5)+(O8*$O$5)+(P8*$P$5)+(Q8*$Q$5)+(R8*$R$5)+(S8*$S$5)+(T8*$T$5)+(U8*$U$5)+(V8*$V$5)+(W8*$W$5)+(X8*$X$5)+(Y8*$Y$5)+(Z8*$Z$5)+(AA8*$AA$5)+(AB8*$AB$5)+(AC8*$AC$5)+(AD8*$AD$5))/(SUM($F$5:$AD$5)),3) -> 0 | AF8: =LOOKUP(AE8,'Final Average'!$H$45:$I$57) -> F | BF8: =ROUND(((AG8*$AG$5)+(AH8*$AH$5)+(AI8*$AI$5)+(AJ8*$AJ$5)+(AK8*$AK$5)+(AL8*$AL$5)+(AM8*$AM$5)+(AN8*$AN$5)+(AO8*$AO$5)+(AP8*$AP$5)+(AQ8*$AQ$5)+(AR8*$AR$5)+(AS8*$AS$5)+(AT8*$AT$5)+(AU8*$AU$5)+(AV8*$AV$5)+(AW8*$AW$5)+(AX8*$AX$5)+(AY8*$AY$5)+(AZ8*$AZ$5)+(BA8*$BA$5)+(BB8*$BB$5)+(BC8*$BC$5)+(BD8*$BD$5)+(BE8*$BE$5))/(SUM($AG$5:$BE$5)),3) -> 0 | BG8: =LOOKUP(BF8,'Final Average'!$H$45:$I$57) -> F | CG8: =((BH8*$BH$5)+(BI8*$BI$5)+(BJ8*$BJ$5)+(BK8*$BK$5)+(BL8*$BL$5)+(BM8*$BM$5)+(BN8*$BN$5)+(BO8*$BO$5)+(BP8*$BP$5)+(BQ8*$BQ$5)+(BR8*$BR$5)+(BS8*$BS$5)+(BT8*$BT$5)+(BU8*$BU$5)+(BV8*$BV$5)+(BW8*$BW$5)+(BX8*$BX$5)+(BY8*$BY$5)+(BZ8*$BZ$5)+(CA8*$CA$5)+(CB8*$CB$5)+(CC8*$CC$5)+(CD8*$CD$5)+(CE8*$CE$5)+(CF8*$CF$5))/(SUM($BH$5:$CF$5)) -> 0 | CH8: =LOOKUP(CG8,'Final Average'!$H$45:$I$57) -> F | DH8: =ROUND(((CI8*$CI$5)+(CJ8*$CJ$5)+(CK8*$CK$5)+(CL8*$CL$5)+(CM8*$CM$5)+(CN8*$CN$5)+(CO8*$CO$5)+(CP8*$CP$5)+(CQ8*$CQ$5)+(CR8*$CR$5)+(CS8*$CS$5)+(CT8*$CT$5)+(CU8*$CU$5)+(CV8*$CV$5)+(CW8*$CW$5)+(CX8*$CX$5)+(CY8*$CY$5)+(CZ8*$CZ$5)+(DA8*$DA$5)+(DB8*$DB$5)+(DC8*$DC$5)+(DD8*$DD$5)+(DE8*$DE$5)+(DF8*$DF$5)+(DG8*$DG$5))/(SUM($CI$5:$DG$5)),3) -> 0 | DI8: =LOOKUP(DH8,'Final Average'!$H$45:$I$57) -> F | EI8: =ROUND(((DJ8*$DJ$5)+(DK8*$DK$5)+(DL8*$DL$5)+(DM8*$DM$5)+(DN8*$DN$5)+(DO8*$DO$5)+(DP8*$DP$5)+(DQ8*$DQ$5)+(DR8*$DR$5)+(DS8*$DS$5)+(DT8*$DT$5)+(DU8*$DU$5)+(DV8*$DV$5)+(DW8*$DW$5)+(DX8*$DX$5)+(DY8*$DY$5)+(DZ8*$DZ$5)+(EA8*$EA$5)+(EB8*$EB$5)+(EC8*$EC$5)+(ED8*$ED$5)+(EE8*$EE$5)+(EF8*$EF$5)+(EG8*$EG$5)+(EH8*$EH$5))/(SUM($DJ$5:$EH$5)),3) -> 0 | EJ8: =LOOKUP(EI8,'Final Average'!$H$45:$I$57) -> F | FJ8: =ROUND(((EK8*$EK$5)+(EL8*$EL$5)+(EM8*$EM$5)+(EN8*$EN$5)+(EO8*$EO$5)+(EP8*$EP$5)+(EQ8*$EQ$5)+(ER8*$ER$5)+(ES8*$ES$5)+(ET8*$ET$5)+(EU8*$EU$5)+(EV8*$EV$5)+(EW8*$EW$5)+(EX8*$EX$5)+(EY8*$EY$5)+(EZ8*$EZ$5)+(FA8*$FA$5)+(FB8*$FB$5)+(FC8*$FC$5)+(FD8*$FD$5)+(FE8*$FE$5)+(FF8*$FF$5)+(FG8*$FG$5)+(FH8*$FH$5)+(FI8*$FI$5))/(SUM($EK$5:$FI$5)),3) -> 0 | FK8: =LOOKUP(FJ8,'Final Average'!$H$45:$I$57) -> F
A9: 3 | AE9: =ROUND(((F9*$F$5)+(G9*$G$5)+(H9*$H$5)+(I9*$I$5)+(J9*$J$5)+(K9*$K$5)+(L9*$L$5)+(M9*$M$5)+(N9*$N$5)+(O9*$O$5)+(P9*$P$5)+(Q9*$Q$5)+(R9*$R$5)+(S9*$S$5)+(T9*$T$5)+(U9*$U$5)+(V9*$V$5)+(W9*$W$5)+(X9*$X$5)+(Y9*$Y$5)+(Z9*$Z$5)+(AA9*$AA$5)+(AB9*$AB$5)+(AC9*$AC$5)+(AD9*$AD$5))/(SUM($F$5:$AD$5)),3) -> 0 | AF9: =LOOKUP(AE9,'Final Average'!$H$45:$I$57) -> F | BF9: =ROUND(((AG9*$AG$5)+(AH9*$AH$5)+(AI9*$AI$5)+(AJ9*$AJ$5)+(AK9*$AK$5)+(AL9*$AL$5)+(AM9*$AM$5)+(AN9*$AN$5)+(AO9*$AO$5)+(AP9*$AP$5)+(AQ9*$AQ$5)+(AR9*$AR$5)+(AS9*$AS$5)+(AT9*$AT$5)+(AU9*$AU$5)+(AV9*$AV$5)+(AW9*$AW$5)+(AX9*$AX$5)+(AY9*$AY$5)+(AZ9*$AZ$5)+(BA9*$BA$5)+(BB9*$BB$5)+(BC9*$BC$5)+(BD9*$BD$5)+(BE9*$BE$5))/(SUM($AG$5:$BE$5)),3) -> 0 | BG9: =LOOKUP(BF9,'Final Average'!$H$45:$I$57) -> F | CG9: =((BH9*$BH$5)+(BI9*$BI$5)+(BJ9*$BJ$5)+(BK9*$BK$5)+(BL9*$BL$5)+(BM9*$BM$5)+(BN9*$BN$5)+(BO9*$BO$5)+(BP9*$BP$5)+(BQ9*$BQ$5)+(BR9*$BR$5)+(BS9*$BS$5)+(BT9*$BT$5)+(BU9*$BU$5)+(BV9*$BV$5)+(BW9*$BW$5)+(BX9*$BX$5)+(BY9*$BY$5)+(BZ9*$BZ$5)+(CA9*$CA$5)+(CB9*$CB$5)+(CC9*$CC$5)+(CD9*$CD$5)+(CE9*$CE$5)+(CF9*$CF$5))/(SUM($BH$5:$CF$5)) -> 0 | CH9: =LOOKUP(CG9,'Final Average'!$H$45:$I$57) -> F | DH9: =ROUND(((CI9*$CI$5)+(CJ9*$CJ$5)+(CK9*$CK$5)+(CL9*$CL$5)+(CM9*$CM$5)+(CN9*$CN$5)+(CO9*$CO$5)+(CP9*$CP$5)+(CQ9*$CQ$5)+(CR9*$CR$5)+(CS9*$CS$5)+(CT9*$CT$5)+(CU9*$CU$5)+(CV9*$CV$5)+(CW9*$CW$5)+(CX9*$CX$5)+(CY9*$CY$5)+(CZ9*$CZ$5)+(DA9*$DA$5)+(DB9*$DB$5)+(DC9*$DC$5)+(DD9*$DD$5)+(DE9*$DE$5)+(DF9*$DF$5)+(DG9*$DG$5))/(SUM($CI$5:$DG$5)),3) -> 0 | DI9: =LOOKUP(DH9,'Final Average'!$H$45:$I$57) -> F | EI9: =ROUND(((DJ9*$DJ$5)+(DK9*$DK$5)+(DL9*$DL$5)+(DM9*$DM$5)+(DN9*$DN$5)+(DO9*$DO$5)+(DP9*$DP$5)+(DQ9*$DQ$5)+(DR9*$DR$5)+(DS9*$DS$5)+(DT9*$DT$5)+(DU9*$DU$5)+(DV9*$DV$5)+(DW9*$DW$5)+(DX9*$DX$5)+(DY9*$DY$5)+(DZ9*$DZ$5)+(EA9*$EA$5)+(EB9*$EB$5)+(EC9*$EC$5)+(ED9*$ED$5)+(EE9*$EE$5)+(EF9*$EF$5)+(EG9*$EG$5)+(EH9*$EH$5))/(SUM($DJ$5:$EH$5)),3) -> 0 | EJ9: =LOOKUP(EI9,'Final Average'!$H$45:$I$57) -> F | FJ9: =ROUND(((EK9*$EK$5)+(EL9*$EL$5)+(EM9*$EM$5)+(EN9*$EN$5)+(EO9*$EO$5)+(EP9*$EP$5)+(EQ9*$EQ$5)+(ER9*$ER$5)+(ES9*$ES$5)+(ET9*$ET$5)+(EU9*$EU$5)+(EV9*$EV$5)+(EW9*$EW$5)+(EX9*$EX$5)+(EY9*$EY$5)+(EZ9*$EZ$5)+(FA9*$FA$5)+(FB9*$FB$5)+(FC9*$FC$5)+(FD9*$FD$5)+(FE9*$FE$5)+(FF9*$FF$5)+(FG9*$FG$5)+(FH9*$FH$5)+(FI9*$FI$5))/(SUM($EK$5:$FI$5)),3) -> 0 | FK9: =LOOKUP(FJ9,'Final Average'!$H$45:$I$57) -> F
A10: 4 | AE10: =ROUND(((F10*$F$5)+(G10*$G$5)+(H10*$H$5)+(I10*$I$5)+(J10*$J$5)+(K10*$K$5)+(L10*$L$5)+(M10*$M$5)+(N10*$N$5)+(O10*$O$5)+(P10*$P$5)+(Q10*$Q$5)+(R10*$R$5)+(S10*$S$5)+(T10*$T$5)+(U10*$U$5)+(V10*$V$5)+(W10*$W$5)+(X10*$X$5)+(Y10*$Y$5)+(Z10*$Z$5)+(AA10*$AA$5)+(AB10*$AB$5)+(AC10*$AC$5)+(AD10*$AD$5))/(SUM($F$5:$AD$5)),3) -> 0 | AF10: =LOOKUP(AE10,'Final Average'!$H$45:$I$57) -> F | BF10: =ROUND(((AG10*$AG$5)+(AH10*$AH$5)+(AI10*$AI$5)+(AJ10*$AJ$5)+(AK10*$AK$5)+(AL10*$AL$5)+(AM10*$AM$5)+(AN10*$AN$5)+(AO10*$AO$5)+(AP10*$AP$5)+(AQ10*$AQ$5)+(AR10*$AR$5)+(AS10*$AS$5)+(AT10*$AT$5)+(AU10*$AU$5)+(AV10*$AV$5)+(AW10*$AW$5)+(AX10*$AX$5)+(AY10*$AY$5)+(AZ10*$AZ$5)+(BA10*$BA$5)+(BB10*$BB$5)+(BC10*$BC$5)+(BD10*$BD$5)+(BE10*$BE$5))/(SUM($AG$5:$BE$5)),3) -> 0 | BG10: =LOOKUP(BF10,'Final Average'!$H$45:$I$57) -> F | CG10: =((BH10*$BH$5)+(BI10*$BI$5)+(BJ10*$BJ$5)+(BK10*$BK$5)+(BL10*$BL$5)+(BM10*$BM$5)+(BN10*$BN$5)+(BO10*$BO$5)+(BP10*$BP$5)+(BQ10*$BQ$5)+(BR10*$BR$5)+(BS10*$BS$5)+(BT10*$BT$5)+(BU10*$BU$5)+(BV10*$BV$5)+(BW10*$BW$5)+(BX10*$BX$5)+(BY10*$BY$5)+(BZ10*$BZ$5)+(CA10*$CA$5)+(CB10*$CB$5)+(CC10*$CC$5)+(CD10*$CD$5)+(CE10*$CE$5)+(CF10*$CF$5))/(SUM($BH$5:$CF$5)) -> 0 | CH10: =LOOKUP(CG10,'Final Average'!$H$45:$I$57) -> F | DH10: =ROUND(((CI10*$CI$5)+(CJ10*$CJ$5)+(CK10*$CK$5)+(CL10*$CL$5)+(CM10*$CM$5)+(CN10*$CN$5)+(CO10*$CO$5)+(CP10*$CP$5)+(CQ10*$CQ$5)+(CR10*$CR$5)+(CS10*$CS$5)+(CT10*$CT$5)+(CU10*$CU$5)+(CV10*$CV$5)+(CW10*$CW$5)+(CX10*$CX$5)+(CY10*$CY$5)+(CZ10*$CZ$5)+(DA10*$DA$5)+(DB10*$DB$5)+(DC10*$DC$5)+(DD10*$DD$5)+(DE10*$DE$5)+(DF10*$DF$5)+(DG10*$DG$5))/(SUM($CI$5:$DG$5)),3) -> 0 | DI10: =LOOKUP(DH10,'Final Average'!$H$45:$I$57) -> F | EI10: =ROUND(((DJ10*$DJ$5)+(DK10*$DK$5)+(DL10*$DL$5)+(DM10*$DM$5)+(DN10*$DN$5)+(DO10*$DO$5)+(DP10*$DP$5)+(DQ10*$DQ$5)+(DR10*$DR$5)+(DS10*$DS$5)+(DT10*$DT$5)+(DU10*$DU$5)+(DV10*$DV$5)+(DW10*$DW$5)+(DX10*$DX$5)+(DY10*$DY$5)+(DZ10*$DZ$5)+(EA10*$EA$5)+(EB10*$EB$5)+(EC10*$EC$5)+(ED10*$ED$5)+(EE10*$EE$5)+(EF10*$EF$5)+(EG10*$EG$5)+(EH10*$EH$5))/(SUM($DJ$5:$EH$5)),3) -> 0 | EJ10: =LOOKUP(EI10,'Final Average'!$H$45:$I$57) -> F | FJ10: =ROUND(((EK10*$EK$5)+(EL10*$EL$5)+(EM10*$EM$5)+(EN10*$EN$5)+(EO10*$EO$5)+(EP10*$EP$5)+(EQ10*$EQ$5)+(ER10*$ER$5)+(ES10*$ES$5)+(ET10*$ET$5)+(EU10*$EU$5)+(EV10*$EV$5)+(EW10*$EW$5)+(EX10*$EX$5)+(EY10*$EY$5)+(EZ10*$EZ$5)+(FA10*$FA$5)+(FB10*$FB$5)+(FC10*$FC$5)+(FD10*$FD$5)+(FE10*$FE$5)+(FF10*$FF$5)+(FG10*$FG$5)+(FH10*$FH$5)+(FI10*$FI$5))/(SUM($EK$5:$FI$5)),3) -> 0 | FK10: =LOOKUP(FJ10,'Final Average'!$H$45:$I$57) -> F
A11: 5 | AE11: =ROUND(((F11*$F$5)+(G11*$G$5)+(H11*$H$5)+(I11*$I$5)+(J11*$J$5)+(K11*$K$5)+(L11*$L$5)+(M11*$M$5)+(N11*$N$5)+(O11*$O$5)+(P11*$P$5)+(Q11*$Q$5)+(R11*$R$5)+(S11*$S$5)+(T11*$T$5)+(U11*$U$5)+(V11*$V$5)+(W11*$W$5)+(X11*$X$5)+(Y11*$Y$5)+(Z11*$Z$5)+(AA11*$AA$5)+(AB11*$AB$5)+(AC11*$AC$5)+(AD11*$AD$5))/(SUM($F$5:$AD$5)),3) -> 0 | AF11: =LOOKUP(AE11,'Final Average'!$H$45:$I$57) -> F | BF11: =ROUND(((AG11*$AG$5)+(AH11*$AH$5)+(AI11*$AI$5)+(AJ11*$AJ$5)+(AK11*$AK$5)+(AL11*$AL$5)+(AM11*$AM$5)+(AN11*$AN$5)+(AO11*$AO$5)+(AP11*$AP$5)+(AQ11*$AQ$5)+(AR11*$AR$5)+(AS11*$AS$5)+(AT11*$AT$5)+(AU11*$AU$5)+(AV11*$AV$5)+(AW11*$AW$5)+(AX11*$AX$5)+(AY11*$AY$5)+(AZ11*$AZ$5)+(BA11*$BA$5)+(BB11*$BB$5)+(BC11*$BC$5)+(BD11*$BD$5)+(BE11*$BE$5))/(SUM($AG$5:$BE$5)),3) -> 0 | BG11: =LOOKUP(BF11,'Final Average'!$H$45:$I$57) -> F | CG11: =((BH11*$BH$5)+(BI11*$BI$5)+(BJ11*$BJ$5)+(BK11*$BK$5)+(BL11*$BL$5)+(BM11*$BM$5)+(BN11*$BN$5)+(BO11*$BO$5)+(BP11*$BP$5)+(BQ11*$BQ$5)+(BR11*$BR$5)+(BS11*$BS$5)+(BT11*$BT$5)+(BU11*$BU$5)+(BV11*$BV$5)+(BW11*$BW$5)+(BX11*$BX$5)+(BY11*$BY$5)+(BZ11*$BZ$5)+(CA11*$CA$5)+(CB11*$CB$5)+(CC11*$CC$5)+(CD11*$CD$5)+(CE11*$CE$5)+(CF11*$CF$5))/(SUM($BH$5:$CF$5)) -> 0 | CH11: =LOOKUP(CG11,'Final Average'!$H$45:$I$57) -> F | DH11: =ROUND(((CI11*$CI$5)+(CJ11*$CJ$5)+(CK11*$CK$5)+(CL11*$CL$5)+(CM11*$CM$5)+(CN11*$CN$5)+(CO11*$CO$5)+(CP11*$CP$5)+(CQ11*$CQ$5)+(CR11*$CR$5)+(CS11*$CS$5)+(CT11*$CT$5)+(CU11*$CU$5)+(CV11*$CV$5)+(CW11*$CW$5)+(CX11*$CX$5)+(CY11*$CY$5)+(CZ11*$CZ$5)+(DA11*$DA$5)+(DB11*$DB$5)+(DC11*$DC$5)+(DD11*$DD$5)+(DE11*$DE$5)+(DF11*$DF$5)+(DG11*$DG$5))/(SUM($CI$5:$DG$5)),3) -> 0 | DI11: =LOOKUP(DH11,'Final Average'!$H$45:$I$57) -> F | EI11: =ROUND(((DJ11*$DJ$5)+(DK11*$DK$5)+(DL11*$DL$5)+(DM11*$DM$5)+(DN11*$DN$5)+(DO11*$DO$5)+(DP11*$DP$5)+(DQ11*$DQ$5)+(DR11*$DR$5)+(DS11*$DS$5)+(DT11*$DT$5)+(DU11*$DU$5)+(DV11*$DV$5)+(DW11*$DW$5)+(DX11*$DX$5)+(DY11*$DY$5)+(DZ11*$DZ$5)+(EA11*$EA$5)+(EB11*$EB$5)+(EC11*$EC$5)+(ED11*$ED$5)+(EE11*$EE$5)+(EF11*$EF$5)+(EG11*$EG$5)+(EH11*$EH$5))/(SUM($DJ$5:$EH$5)),3) -> 0 | EJ11: =LOOKUP(EI11,'Final Average'!$H$45:$I$57) -> F | FJ11: =ROUND(((EK11*$EK$5)+(EL11*$EL$5)+(EM11*$EM$5)+(EN11*$EN$5)+(EO11*$EO$5)+(EP11*$EP$5)+(EQ11*$EQ$5)+(ER11*$ER$5)+(ES11*$ES$5)+(ET11*$ET$5)+(EU11*$EU$5)+(EV11*$EV$5)+(EW11*$EW$5)+(EX11*$EX$5)+(EY11*$EY$5)+(EZ11*$EZ$5)+(FA11*$FA$5)+(FB11*$FB$5)+(FC11*$FC$5)+(FD11*$FD$5)+(FE11*$FE$5)+(FF11*$FF$5)+(FG11*$FG$5)+(FH11*$FH$5)+(FI11*$FI$5))/(SUM($EK$5:$FI$5)),3) -> 0 | FK11: =LOOKUP(FJ11,'Final Average'!$H$45:$I$57) -> F
A12: 6 | AE12: =ROUND(((F12*$F$5)+(G12*$G$5)+(H12*$H$5)+(I12*$I$5)+(J12*$J$5)+(K12*$K$5)+(L12*$L$5)+(M12*$M$5)+(N12*$N$5)+(O12*$O$5)+(P12*$P$5)+(Q12*$Q$5)+(R12*$R$5)+(S12*$S$5)+(T12*$T$5)+(U12*$U$5)+(V12*$V$5)+(W12*$W$5)+(X12*$X$5)+(Y12*$Y$5)+(Z12*$Z$5)+(AA12*$AA$5)+(AB12*$AB$5)+(AC12*$AC$5)+(AD12*$AD$5))/(SUM($F$5:$AD$5)),3) -> 0 | AF12: =LOOKUP(AE12,'Final Average'!$H$45:$I$57) -> F | BF12: =ROUND(((AG12*$AG$5)+(AH12*$AH$5)+(AI12*$AI$5)+(AJ12*$AJ$5)+(AK12*$AK$5)+(AL12*$AL$5)+(AM12*$AM$5)+(AN12*$AN$5)+(AO12*$AO$5)+(AP12*$AP$5)+(AQ12*$AQ$5)+(AR12*$AR$5)+(AS12*$AS$5)+(AT12*$AT$5)+(AU12*$AU$5)+(AV12*$AV$5)+(AW12*$AW$5)+(AX12*$AX$5)+(AY12*$AY$5)+(AZ12*$AZ$5)+(BA12*$BA$5)+(BB12*$BB$5)+(BC12*$BC$5)+(BD12*$BD$5)+(BE12*$BE$5))/(SUM($AG$5:$BE$5)),3) -> 0 | BG12: =LOOKUP(BF12,'Final Average'!$H$45:$I$57) -> F | CG12: =((BH12*$BH$5)+(BI12*$BI$5)+(BJ12*$BJ$5)+(BK12*$BK$5)+(BL12*$BL$5)+(BM12*$BM$5)+(BN12*$BN$5)+(BO12*$BO$5)+(BP12*$BP$5)+(BQ12*$BQ$5)+(BR12*$BR$5)+(BS12*$BS$5)+(BT12*$BT$5)+(BU12*$BU$5)+(BV12*$BV$5)+(BW12*$BW$5)+(BX12*$BX$5)+(BY12*$BY$5)+(BZ12*$BZ$5)+(CA12*$CA$5)+(CB12*$CB$5)+(CC12*$CC$5)+(CD12*$CD$5)+(CE12*$CE$5)+(CF12*$CF$5))/(SUM($BH$5:$CF$5)) -> 0 | CH12: =LOOKUP(CG12,'Final Average'!$H$45:$I$57) -> F | DH12: =ROUND(((CI12*$CI$5)+(CJ12*$CJ$5)+(CK12*$CK$5)+(CL12*$CL$5)+(CM12*$CM$5)+(CN12*$CN$5)+(CO12*$CO$5)+(CP12*$CP$5)+(CQ12*$CQ$5)+(CR12*$CR$5)+(CS12*$CS$5)+(CT12*$CT$5)+(CU12*$CU$5)+(CV12*$CV$5)+(CW12*$CW$5)+(CX12*$CX$5)+(CY12*$CY$5)+(CZ12*$CZ$5)+(DA12*$DA$5)+(DB12*$DB$5)+(DC12*$DC$5)+(DD12*$DD$5)+(DE12*$DE$5)+(DF12*$DF$5)+(DG12*$DG$5))/(SUM($CI$5:$DG$5)),3) -> 0 | DI12: =LOOKUP(DH12,'Final Average'!$H$45:$I$57) -> F | EI12: =ROUND(((DJ12*$DJ$5)+(DK12*$DK$5)+(DL12*$DL$5)+(DM12*$DM$5)+(DN12*$DN$5)+(DO12*$DO$5)+(DP12*$DP$5)+(DQ12*$DQ$5)+(DR12*$DR$5)+(DS12*$DS$5)+(DT12*$DT$5)+(DU12*$DU$5)+(DV12*$DV$5)+(DW12*$DW$5)+(DX12*$DX$5)+(DY12*$DY$5)+(DZ12*$DZ$5)+(EA12*$EA$5)+(EB12*$EB$5)+(EC12*$EC$5)+(ED12*$ED$5)+(EE12*$EE$5)+(EF12*$EF$5)+(EG12*$EG$5)+(EH12*$EH$5))/(SUM($DJ$5:$EH$5)),3) -> 0 | EJ12: =LOOKUP(EI12,'Final Average'!$H$45:$I$57) -> F | FJ12: =ROUND(((EK12*$EK$5)+(EL12*$EL$5)+(EM12*$EM$5)+(EN12*$EN$5)+(EO12*$EO$5)+(EP12*$EP$5)+(EQ12*$EQ$5)+(ER12*$ER$5)+(ES12*$ES$5)+(ET12*$ET$5)+(EU12*$EU$5)+(EV12*$EV$5)+(EW12*$EW$5)+(EX12*$EX$5)+(EY12*$EY$5)+(EZ12*$EZ$5)+(FA12*$FA$5)+(FB12*$FB$5)+(FC12*$FC$5)+(FD12*$FD$5)+(FE12*$FE$5)+(FF12*$FF$5)+(FG12*$FG$5)+(FH12*$FH$5)+(FI12*$FI$5))/(SUM($EK$5:$FI$5)),3) -> 0 | FK12: =LOOKUP(FJ12,'Final Average'!$H$45:$I$57) -> F
A13: 7 | AE13: =ROUND(((F13*$F$5)+(G13*$G$5)+(H13*$H$5)+(I13*$I$5)+(J13*$J$5)+(K13*$K$5)+(L13*$L$5)+(M13*$M$5)+(N13*$N$5)+(O13*$O$5)+(P13*$P$5)+(Q13*$Q$5)+(R13*$R$5)+(S13*$S$5)+(T13*$T$5)+(U13*$U$5)+(V13*$V$5)+(W13*$W$5)+(X13*$X$5)+(Y13*$Y$5)+(Z13*$Z$5)+(AA13*$AA$5)+(AB13*$AB$5)+(AC13*$AC$5)+(AD13*$AD$5))/(SUM($F$5:$AD$5)),3) -> 0 | AF13: =LOOKUP(AE13,'Final Average'!$H$45:$I$57) -> F | BF13: =ROUND(((AG13*$AG$5)+(AH13*$AH$5)+(AI13*$AI$5)+(AJ13*$AJ$5)+(AK13*$AK$5)+(AL13*$AL$5)+(AM13*$AM$5)+(AN13*$AN$5)+(AO13*$AO$5)+(AP13*$AP$5)+(AQ13*$AQ$5)+(AR13*$AR$5)+(AS13*$AS$5)+(AT13*$AT$5)+(AU13*$AU$5)+(AV13*$AV$5)+(AW13*$AW$5)+(AX13*$AX$5)+(AY13*$AY$5)+(AZ13*$AZ$5)+(BA13*$BA$5)+(BB13*$BB$5)+(BC13*$BC$5)+(BD13*$BD$5)+(BE13*$BE$5))/(SUM($AG$5:$BE$5)),3) -> 0 | BG13: =LOOKUP(BF13,'Final Average'!$H$45:$I$57) -> F | CG13: =((BH13*$BH$5)+(BI13*$BI$5)+(BJ13*$BJ$5)+(BK13*$BK$5)+(BL13*$BL$5)+(BM13*$BM$5)+(BN13*$BN$5)+(BO13*$BO$5)+(BP13*$BP$5)+(BQ13*$BQ$5)+(BR13*$BR$5)+(BS13*$BS$5)+(BT13*$BT$5)+(BU13*$BU$5)+(BV13*$BV$5)+(BW13*$BW$5)+(BX13*$BX$5)+(BY13*$BY$5)+(BZ13*$BZ$5)+(CA13*$CA$5)+(CB13*$CB$5)+(CC13*$CC$5)+(CD13*$CD$5)+(CE13*$CE$5)+(CF13*$CF$5))/(SUM($BH$5:$CF$5)) -> 0 | CH13: =LOOKUP(CG13,'Final Average'!$H$45:$I$57) -> F | DH13: =ROUND(((CI13*$CI$5)+(CJ13*$CJ$5)+(CK13*$CK$5)+(CL13*$CL$5)+(CM13*$CM$5)+(CN13*$CN$5)+(CO13*$CO$5)+(CP13*$CP$5)+(CQ13*$CQ$5)+(CR13*$CR$5)+(CS13*$CS$5)+(CT13*$CT$5)+(CU13*$CU$5)+(CV13*$CV$5)+(CW13*$CW$5)+(CX13*$CX$5)+(CY13*$CY$5)+(CZ13*$CZ$5)+(DA13*$DA$5)+(DB13*$DB$5)+(DC13*$DC$5)+(DD13*$DD$5)+(DE13*$DE$5)+(DF13*$DF$5)+(DG13*$DG$5))/(SUM($CI$5:$DG$5)),3) -> 0 | DI13: =LOOKUP(DH13,'Final Average'!$H$45:$I$57) -> F | EI13: =ROUND(((DJ13*$DJ$5)+(DK13*$DK$5)+(DL13*$DL$5)+(DM13*$DM$5)+(DN13*$DN$5)+(DO13*$DO$5)+(DP13*$DP$5)+(DQ13*$DQ$5)+(DR13*$DR$5)+(DS13*$DS$5)+(DT13*$DT$5)+(DU13*$DU$5)+(DV13*$DV$5)+(DW13*$DW$5)+(DX13*$DX$5)+(DY13*$DY$5)+(DZ13*$DZ$5)+(EA13*$EA$5)+(EB13*$EB$5)+(EC13*$EC$5)+(ED13*$ED$5)+(EE13*$EE$5)+(EF13*$EF$5)+(EG13*$EG$5)+(EH13*$EH$5))/(SUM($DJ$5:$EH$5)),3) -> 0 | EJ13: =LOOKUP(EI13,'Final Average'!$H$45:$I$57) -> F | FJ13: =ROUND(((EK13*$EK$5)+(EL13*$EL$5)+(EM13*$EM$5)+(EN13*$EN$5)+(EO13*$EO$5)+(EP13*$EP$5)+(EQ13*$EQ$5)+(ER13*$ER$5)+(ES13*$ES$5)+(ET13*$ET$5)+(EU13*$EU$5)+(EV13*$EV$5)+(EW13*$EW$5)+(EX13*$EX$5)+(EY13*$EY$5)+(EZ13*$EZ$5)+(FA13*$FA$5)+(FB13*$FB$5)+(FC13*$FC$5)+(FD13*$FD$5)+(FE13*$FE$5)+(FF13*$FF$5)+(FG13*$FG$5)+(FH13*$FH$5)+(FI13*$FI$5))/(SUM($EK$5:$FI$5)),3) -> 0 | FK13: =LOOKUP(FJ13,'Final Average'!$H$45:$I$57) -> F
A14: 8 | AE14: =ROUND(((F14*$F$5)+(G14*$G$5)+(H14*$H$5)+(I14*$I$5)+(J14*$J$5)+(K14*$K$5)+(L14*$L$5)+(M14*$M$5)+(N14*$N$5)+(O14*$O$5)+(P14*$P$5)+(Q14*$Q$5)+(R14*$R$5)+(S14*$S$5)+(T14*$T$5)+(U14*$U$5)+(V14*$V$5)+(W14*$W$5)+(X14*$X$5)+(Y14*$Y$5)+(Z14*$Z$5)+(AA14*$AA$5)+(AB14*$AB$5)+(AC14*$AC$5)+(AD14*$AD$5))/(SUM($F$5:$AD$5)),3) -> 0 | AF14: =LOOKUP(AE14,'Final Average'!$H$45:$I$57) -> F | BF14: =ROUND(((AG14*$AG$5)+(AH14*$AH$5)+(AI14*$AI$5)+(AJ14*$AJ$5)+(AK14*$AK$5)+(AL14*$AL$5)+(AM14*$AM$5)+(AN14*$AN$5)+(AO14*$AO$5)+(AP14*$AP$5)+(AQ14*$AQ$5)+(AR14*$AR$5)+(AS14*$AS$5)+(AT14*$AT$5)+(AU14*$AU$5)+(AV14*$AV$5)+(AW14*$AW$5)+(AX14*$AX$5)+(AY14*$AY$5)+(AZ14*$AZ$5)+(BA14*$BA$5)+(BB14*$BB$5)+(BC14*$BC$5)+(BD14*$BD$5)+(BE14*$BE$5))/(SUM($AG$5:$BE$5)),3) -> 0 | BG14: =LOOKUP(BF14,'Final Average'!$H$45:$I$57) -> F | CG14: =((BH14*$BH$5)+(BI14*$BI$5)+(BJ14*$BJ$5)+(BK14*$BK$5)+(BL14*$BL$5)+(BM14*$BM$5)+(BN14*$BN$5)+(BO14*$BO$5)+(BP14*$BP$5)+(BQ14*$BQ$5)+(BR14*$BR$5)+(BS14*$BS$5)+(BT14*$BT$5)+(BU14*$BU$5)+(BV14*$BV$5)+(BW14*$BW$5)+(BX14*$BX$5)+(BY14*$BY$5)+(BZ14*$BZ$5)+(CA14*$CA$5)+(CB14*$CB$5)+(CC14*$CC$5)+(CD14*$CD$5)+(CE14*$CE$5)+(CF14*$CF$5))/(SUM($BH$5:$CF$5)) -> 0 | CH14: =LOOKUP(CG14,'Final Average'!$H$45:$I$57) -> F | DH14: =ROUND(((CI14*$CI$5)+(CJ14*$CJ$5)+(CK14*$CK$5)+(CL14*$CL$5)+(CM14*$CM$5)+(CN14*$CN$5)+(CO14*$CO$5)+(CP14*$CP$5)+(CQ14*$CQ$5)+(CR14*$CR$5)+(CS14*$CS$5)+(CT14*$CT$5)+(CU14*$CU$5)+(CV14*$CV$5)+(CW14*$CW$5)+(CX14*$CX$5)+(CY14*$CY$5)+(CZ14*$CZ$5)+(DA14*$DA$5)+(DB14*$DB$5)+(DC14*$DC$5)+(DD14*$DD$5)+(DE14*$DE$5)+(DF14*$DF$5)+(DG14*$DG$5))/(SUM($CI$5:$DG$5)),3) -> 0 | DI14: =LOOKUP(DH14,'Final Average'!$H$45:$I$57) -> F | EI14: =ROUND(((DJ14*$DJ$5)+(DK14*$DK$5)+(DL14*$DL$5)+(DM14*$DM$5)+(DN14*$DN$5)+(DO14*$DO$5)+(DP14*$DP$5)+(DQ14*$DQ$5)+(DR14*$DR$5)+(DS14*$DS$5)+(DT14*$DT$5)+(DU14*$DU$5)+(DV14*$DV$5)+(DW14*$DW$5)+(DX14*$DX$5)+(DY14*$DY$5)+(DZ14*$DZ$5)+(EA14*$EA$5)+(EB14*$EB$5)+(EC14*$EC$5)+(ED14*$ED$5)+(EE14*$EE$5)+(EF14*$EF$5)+(EG14*$EG$5)+(EH14*$EH$5))/(SUM($DJ$5:$EH$5)),3) -> 0 | EJ14: =LOOKUP(EI14,'Final Average'!$H$45:$I$57) -> F | FJ14: =ROUND(((EK14*$EK$5)+(EL14*$EL$5)+(EM14*$EM$5)+(EN14*$EN$5)+(EO14*$EO$5)+(EP14*$EP$5)+(EQ14*$EQ$5)+(ER14*$ER$5)+(ES14*$ES$5)+(ET14*$ET$5)+(EU14*$EU$5)+(EV14*$EV$5)+(EW14*$EW$5)+(EX14*$EX$5)+(EY14*$EY$5)+(EZ14*$EZ$5)+(FA14*$FA$5)+(FB14*$FB$5)+(FC14*$FC$5)+(FD14*$FD$5)+(FE14*$FE$5)+(FF14*$FF$5)+(FG14*$FG$5)+(FH14*$FH$5)+(FI14*$FI$5))/(SUM($EK$5:$FI$5)),3) -> 0 | FK14: =LOOKUP(FJ14,'Final Average'!$H$45:$I$57) -> F
A15: 9 | AE15: =ROUND(((F15*$F$5)+(G15*$G$5)+(H15*$H$5)+(I15*$I$5)+(J15*$J$5)+(K15*$K$5)+(L15*$L$5)+(M15*$M$5)+(N15*$N$5)+(O15*$O$5)+(P15*$P$5)+(Q15*$Q$5)+(R15*$R$5)+(S15*$S$5)+(T15*$T$5)+(U15*$U$5)+(V15*$V$5)+(W15*$W$5)+(X15*$X$5)+(Y15*$Y$5)+(Z15*$Z$5)+(AA15*$AA$5)+(AB15*$AB$5)+(AC15*$AC$5)+(AD15*$AD$5))/(SUM($F$5:$AD$5)),3) -> 0 | AF15: =LOOKUP(AE15,'Final Average'!$H$45:$I$57) -> F | BF15: =ROUND(((AG15*$AG$5)+(AH15*$AH$5)+(AI15*$AI$5)+(AJ15*$AJ$5)+(AK15*$AK$5)+(AL15*$AL$5)+(AM15*$AM$5)+(AN15*$AN$5)+(AO15*$AO$5)+(AP15*$AP$5)+(AQ15*$AQ$5)+(AR15*$AR$5)+(AS15*$AS$5)+(AT15*$AT$5)+(AU15*$AU$5)+(AV15*$AV$5)+(AW15*$AW$5)+(AX15*$AX$5)+(AY15*$AY$5)+(AZ15*$AZ$5)+(BA15*$BA$5)+(BB15*$BB$5)+(BC15*$BC$5)+(BD15*$BD$5)+(BE15*$BE$5))/(SUM($AG$5:$BE$5)),3) -> 0 | BG15: =LOOKUP(BF15,'Final Average'!$H$45:$I$57) -> F | CG15: =((BH15*$BH$5)+(BI15*$BI$5)+(BJ15*$BJ$5)+(BK15*$BK$5)+(BL15*$BL$5)+(BM15*$BM$5)+(BN15*$BN$5)+(BO15*$BO$5)+(BP15*$BP$5)+(BQ15*$BQ$5)+(BR15*$BR$5)+(BS15*$BS$5)+(BT15*$BT$5)+(BU15*$BU$5)+(BV15*$BV$5)+(BW15*$BW$5)+(BX15*$BX$5)+(BY15*$BY$5)+(BZ15*$BZ$5)+(CA15*$CA$5)+(CB15*$CB$5)+(CC15*$CC$5)+(CD15*$CD$5)+(CE15*$CE$5)+(CF15*$CF$5))/(SUM($BH$5:$CF$5)) -> 0 | CH15: =LOOKUP(CG15,'Final Average'!$H$45:$I$57) -> F | DH15: =ROUND(((CI15*$CI$5)+(CJ15*$CJ$5)+(CK15*$CK$5)+(CL15*$CL$5)+(CM15*$CM$5)+(CN15*$CN$5)+(CO15*$CO$5)+(CP15*$CP$5)+(CQ15*$CQ$5)+(CR15*$CR$5)+(CS15*$CS$5)+(CT15*$CT$5)+(CU15*$CU$5)+(CV15*$CV$5)+(CW15*$CW$5)+(CX15*$CX$5)+(CY15*$CY$5)+(CZ15*$CZ$5)+(DA15*$DA$5)+(DB15*$DB$5)+(DC15*$DC$5)+(DD15*$DD$5)+(DE15*$DE$5)+(DF15*$DF$5)+(DG15*$DG$5))/(SUM($CI$5:$DG$5)),3) -> 0 | DI15: =LOOKUP(DH15,'Final Average'!$H$45:$I$57) -> F | EI15: =ROUND(((DJ15*$DJ$5)+(DK15*$DK$5)+(DL15*$DL$5)+(DM15*$DM$5)+(DN15*$DN$5)+(DO15*$DO$5)+(DP15*$DP$5)+(DQ15*$DQ$5)+(DR15*$DR$5)+(DS15*$DS$5)+(DT15*$DT$5)+(DU15*$DU$5)+(DV15*$DV$5)+(DW15*$DW$5)+(DX15*$DX$5)+(DY15*$DY$5)+(DZ15*$DZ$5)+(EA15*$EA$5)+(EB15*$EB$5)+(EC15*$EC$5)+(ED15*$ED$5)+(EE15*$EE$5)+(EF15*$EF$5)+(EG15*$EG$5)+(EH15*$EH$5))/(SUM($DJ$5:$EH$5)),3) -> 0 | EJ15: =LOOKUP(EI15,'Final Average'!$H$45:$I$57) -> F | FJ15: =ROUND(((EK15*$EK$5)+(EL15*$EL$5)+(EM15*$EM$5)+(EN15*$EN$5)+(EO15*$EO$5)+(EP15*$EP$5)+(EQ15*$EQ$5)+(ER15*$ER$5)+(ES15*$ES$5)+(ET15*$ET$5)+(EU15*$EU$5)+(EV15*$EV$5)+(EW15*$EW$5)+(EX15*$EX$5)+(EY15*$EY$5)+(EZ15*$EZ$5)+(FA15*$FA$5)+(FB15*$FB$5)+(FC15*$FC$5)+(FD15*$FD$5)+(FE15*$FE$5)+(FF15*$FF$5)+(FG15*$FG$5)+(FH15*$FH$5)+(FI15*$FI$5))/(SUM($EK$5:$FI$5)),3) -> 0 | FK15: =LOOKUP(FJ15,'Final Average'!$H$45:$I$57) -> F
A16: 10 | AE16: =ROUND(((F16*$F$5)+(G16*$G$5)+(H16*$H$5)+(I16*$I$5)+(J16*$J$5)+(K16*$K$5)+(L16*$L$5)+(M16*$M$5)+(N16*$N$5)+(O16*$O$5)+(P16*$P$5)+(Q16*$Q$5)+(R16*$R$5)+(S16*$S$5)+(T16*$T$5)+(U16*$U$5)+(V16*$V$5)+(W16*$W$5)+(X16*$X$5)+(Y16*$Y$5)+(Z16*$Z$5)+(AA16*$AA$5)+(AB16*$AB$5)+(AC16*$AC$5)+(AD16*$AD$5))/(SUM($F$5:$AD$5)),3) -> 0 | AF16: =LOOKUP(AE16,'Final Average'!$H$45:$I$57) -> F | BF16: =ROUND(((AG16*$AG$5)+(AH16*$AH$5)+(AI16*$AI$5)+(AJ16*$AJ$5)+(AK16*$AK$5)+(AL16*$AL$5)+(AM16*$AM$5)+(AN16*$AN$5)+(AO16*$AO$5)+(AP16*$AP$5)+(AQ16*$AQ$5)+(AR16*$AR$5)+(AS16*$AS$5)+(AT16*$AT$5)+(AU16*$AU$5)+(AV16*$AV$5)+(AW16*$AW$5)+(AX16*$AX$5)+(AY16*$AY$5)+(AZ16*$AZ$5)+(BA16*$BA$5)+(BB16*$BB$5)+(BC16*$BC$5)+(BD16*$BD$5)+(BE16*$BE$5))/(SUM($AG$5:$BE$5)),3) -> 0 | BG16: =LOOKUP(BF16,'Final Average'!$H$45:$I$57) -> F | CG16: =((BH16*$BH$5)+(BI16*$BI$5)+(BJ16*$BJ$5)+(BK16*$BK$5)+(BL16*$BL$5)+(BM16*$BM$5)+(BN16*$BN$5)+(BO16*$BO$5)+(BP16*$BP$5)+(BQ16*$BQ$5)+(BR16*$BR$5)+(BS16*$BS$5)+(BT16*$BT$5)+(BU16*$BU$5)+(BV16*$BV$5)+(BW16*$BW$5)+(BX16*$BX$5)+(BY16*$BY$5)+(BZ16*$BZ$5)+(CA16*$CA$5)+(CB16*$CB$5)+(CC16*$CC$5)+(CD16*$CD$5)+(CE16*$CE$5)+(CF16*$CF$5))/(SUM($BH$5:$CF$5)) -> 0 | CH16: =LOOKUP(CG16,'Final Average'!$H$45:$I$57) -> F | DH16: =ROUND(((CI16*$CI$5)+(CJ16*$CJ$5)+(CK16*$CK$5)+(CL16*$CL$5)+(CM16*$CM$5)+(CN16*$CN$5)+(CO16*$CO$5)+(CP16*$CP$5)+(CQ16*$CQ$5)+(CR16*$CR$5)+(CS16*$CS$5)+(CT16*$CT$5)+(CU16*$CU$5)+(CV16*$CV$5)+(CW16*$CW$5)+(CX16*$CX$5)+(CY16*$CY$5)+(CZ16*$CZ$5)+(DA16*$DA$5)+(DB16*$DB$5)+(DC16*$DC$5)+(DD16*$DD$5)+(DE16*$DE$5)+(DF16*$DF$5)+(DG16*$DG$5))/(SUM($CI$5:$DG$5)),3) -> 0 | DI16: =LOOKUP(DH16,'Final Average'!$H$45:$I$57) -> F | EI16: =ROUND(((DJ16*$DJ$5)+(DK16*$DK$5)+(DL16*$DL$5)+(DM16*$DM$5)+(DN16*$DN$5)+(DO16*$DO$5)+(DP16*$DP$5)+(DQ16*$DQ$5)+(DR16*$DR$5)+(DS16*$DS$5)+(DT16*$DT$5)+(DU16*$DU$5)+(DV16*$DV$5)+(DW16*$DW$5)+(DX16*$DX$5)+(DY16*$DY$5)+(DZ16*$DZ$5)+(EA16*$EA$5)+(EB16*$EB$5)+(EC16*$EC$5)+(ED16*$ED$5)+(EE16*$EE$5)+(EF16*$EF$5)+(EG16*$EG$5)+(EH16*$EH$5))/(SUM($DJ$5:$EH$5)),3) -> 0 | EJ16: =LOOKUP(EI16,'Final Average'!$H$45:$I$57) -> F | FJ16: =ROUND(((EK16*$EK$5)+(EL16*$EL$5)+(EM16*$EM$5)+(EN16*$EN$5)+(EO16*$EO$5)+(EP16*$EP$5)+(EQ16*$EQ$5)+(ER16*$ER$5)+(ES16*$ES$5)+(ET16*$ET$5)+(EU16*$EU$5)+(EV16*$EV$5)+(EW16*$EW$5)+(EX16*$EX$5)+(EY16*$EY$5)+(EZ16*$EZ$5)+(FA16*$FA$5)+(FB16*$FB$5)+(FC16*$FC$5)+(FD16*$FD$5)+(FE16*$FE$5)+(FF16*$FF$5)+(FG16*$FG$5)+(FH16*$FH$5)+(FI16*$FI$5))/(SUM($EK$5:$FI$5)),3) -> 0 | FK16: =LOOKUP(FJ16,'Final Average'!$H$45:$I$57) -> F
A17: 11 | AE17: =ROUND(((F17*$F$5)+(G17*$G$5)+(H17*$H$5)+(I17*$I$5)+(J17*$J$5)+(K17*$K$5)+(L17*$L$5)+(M17*$M$5)+(N17*$N$5)+(O17*$O$5)+(P17*$P$5)+(Q17*$Q$5)+(R17*$R$5)+(S17*$S$5)+(T17*$T$5)+(U17*$U$5)+(V17*$V$5)+(W17*$W$5)+(X17*$X$5)+(Y17*$Y$5)+(Z17*$Z$5)+(AA17*$AA$5)+(AB17*$AB$5)+(AC17*$AC$5)+(AD17*$AD$5))/(SUM($F$5:$AD$5)),3) -> 0 | AF17: =LOOKUP(AE17,'Final Average'!$H$45:$I$57) -> F | BF17: =ROUND(((AG17*$AG$5)+(AH17*$AH$5)+(AI17*$AI$5)+(AJ17*$AJ$5)+(AK17*$AK$5)+(AL17*$AL$5)+(AM17*$AM$5)+(AN17*$AN$5)+(AO17*$AO$5)+(AP17*$AP$5)+(AQ17*$AQ$5)+(AR17*$AR$5)+(AS17*$AS$5)+(AT17*$AT$5)+(AU17*$AU$5)+(AV17*$AV$5)+(AW17*$AW$5)+(AX17*$AX$5)+(AY17*$AY$5)+(AZ17*$AZ$5)+(BA17*$BA$5)+(BB17*$BB$5)+(BC17*$BC$5)+(BD17*$BD$5)+(BE17*$BE$5))/(SUM($AG$5:$BE$5)),3) -> 0 | BG17: =LOOKUP(BF17,'Final Average'!$H$45:$I$57) -> F | CG17: =((BH17*$BH$5)+(BI17*$BI$5)+(BJ17*$BJ$5)+(BK17*$BK$5)+(BL17*$BL$5)+(BM17*$BM$5)+(BN17*$BN$5)+(BO17*$BO$5)+(BP17*$BP$5)+(BQ17*$BQ$5)+(BR17*$BR$5)+(BS17*$BS$5)+(BT17*$BT$5)+(BU17*$BU$5)+(BV17*$BV$5)+(BW17*$BW$5)+(BX17*$BX$5)+(BY17*$BY$5)+(BZ17*$BZ$5)+(CA17*$CA$5)+(CB17*$CB$5)+(CC17*$CC$5)+(CD17*$CD$5)+(CE17*$CE$5)+(CF17*$CF$5))/(SUM($BH$5:$CF$5)) -> 0 | CH17: =LOOKUP(CG17,'Final Average'!$H$45:$I$57) -> F | DH17: =ROUND(((CI17*$CI$5)+(CJ17*$CJ$5)+(CK17*$CK$5)+(CL17*$CL$5)+(CM17*$CM$5)+(CN17*$CN$5)+(CO17*$CO$5)+(CP17*$CP$5)+(CQ17*$CQ$5)+(CR17*$CR$5)+(CS17*$CS$5)+(CT17*$CT$5)+(CU17*$CU$5)+(CV17*$CV$5)+(CW17*$CW$5)+(CX17*$CX$5)+(CY17*$CY$5)+(CZ17*$CZ$5)+(DA17*$DA$5)+(DB17*$DB$5)+(DC17*$DC$5)+(DD17*$DD$5)+(DE17*$DE$5)+(DF17*$DF$5)+(DG17*$DG$5))/(SUM($CI$5:$DG$5)),3) -> 0 | DI17: =LOOKUP(DH17,'Final Average'!$H$45:$I$57) -> F | EI17: =ROUND(((DJ17*$DJ$5)+(DK17*$DK$5)+(DL17*$DL$5)+(DM17*$DM$5)+(DN17*$DN$5)+(DO17*$DO$5)+(DP17*$DP$5)+(DQ17*$DQ$5)+(DR17*$DR$5)+(DS17*$DS$5)+(DT17*$DT$5)+(DU17*$DU$5)+(DV17*$DV$5)+(DW17*$DW$5)+(DX17*$DX$5)+(DY17*$DY$5)+(DZ17*$DZ$5)+(EA17*$EA$5)+(EB17*$EB$5)+(EC17*$EC$5)+(ED17*$ED$5)+(EE17*$EE$5)+(EF17*$EF$5)+(EG17*$EG$5)+(EH17*$EH$5))/(SUM($DJ$5:$EH$5)),3) -> 0 | EJ17: =LOOKUP(EI17,'Final Average'!$H$45:$I$57) -> F | FJ17: =ROUND(((EK17*$EK$5)+(EL17*$EL$5)+(EM17*$EM$5)+(EN17*$EN$5)+(EO17*$EO$5)+(EP17*$EP$5)+(EQ17*$EQ$5)+(ER17*$ER$5)+(ES17*$ES$5)+(ET17*$ET$5)+(EU17*$EU$5)+(EV17*$EV$5)+(EW17*$EW$5)+(EX17*$EX$5)+(EY17*$EY$5)+(EZ17*$EZ$5)+(FA17*$FA$5)+(FB17*$FB$5)+(FC17*$FC$5)+(FD17*$FD$5)+(FE17*$FE$5)+(FF17*$FF$5)+(FG17*$FG$5)+(FH17*$FH$5)+(FI17*$FI$5))/(SUM($EK$5:$FI$5)),3) -> 0 | FK17: =LOOKUP(FJ17,'Final Average'!$H$45:$I$57) -> F
A18: 12 | AE18: =ROUND(((F18*$F$5)+(G18*$G$5)+(H18*$H$5)+(I18*$I$5)+(J18*$J$5)+(K18*$K$5)+(L18*$L$5)+(M18*$M$5)+(N18*$N$5)+(O18*$O$5)+(P18*$P$5)+(Q18*$Q$5)+(R18*$R$5)+(S18*$S$5)+(T18*$T$5)+(U18*$U$5)+(V18*$V$5)+(W18*$W$5)+(X18*$X$5)+(Y18*$Y$5)+(Z18*$Z$5)+(AA18*$AA$5)+(AB18*$AB$5)+(AC18*$AC$5)+(AD18*$AD$5))/(SUM($F$5:$AD$5)),3) -> 0 | AF18: =LOOKUP(AE18,'Final Average'!$H$45:$I$57) -> F | BF18: =ROUND(((AG18*$AG$5)+(AH18*$AH$5)+(AI18*$AI$5)+(AJ18*$AJ$5)+(AK18*$AK$5)+(AL18*$AL$5)+(AM18*$AM$5)+(AN18*$AN$5)+(AO18*$AO$5)+(AP18*$AP$5)+(AQ18*$AQ$5)+(AR18*$AR$5)+(AS18*$AS$5)+(AT18*$AT$5)+(AU18*$AU$5)+(AV18*$AV$5)+(AW18*$AW$5)+(AX18*$AX$5)+(AY18*$AY$5)+(AZ18*$AZ$5)+(BA18*$BA$5)+(BB18*$BB$5)+(BC18*$BC$5)+(BD18*$BD$5)+(BE18*$BE$5))/(SUM($AG$5:$BE$5)),3) -> 0 | BG18: =LOOKUP(BF18,'Final Average'!$H$45:$I$57) -> F | CG18: =((BH18*$BH$5)+(BI18*$BI$5)+(BJ18*$BJ$5)+(BK18*$BK$5)+(BL18*$BL$5)+(BM18*$BM$5)+(BN18*$BN$5)+(BO18*$BO$5)+(BP18*$BP$5)+(BQ18*$BQ$5)+(BR18*$BR$5)+(BS18*$BS$5)+(BT18*$BT$5)+(BU18*$BU$5)+(BV18*$BV$5)+(BW18*$BW$5)+(BX18*$BX$5)+(BY18*$BY$5)+(BZ18*$BZ$5)+(CA18*$CA$5)+(CB18*$CB$5)+(CC18*$CC$5)+(CD18*$CD$5)+(CE18*$CE$5)+(CF18*$CF$5))/(SUM($BH$5:$CF$5)) -> 0 | CH18: =LOOKUP(CG18,'Final Average'!$H$45:$I$57) -> F | DH18: =ROUND(((CI18*$CI$5)+(CJ18*$CJ$5)+(CK18*$CK$5)+(CL18*$CL$5)+(CM18*$CM$5)+(CN18*$CN$5)+(CO18*$CO$5)+(CP18*$CP$5)+(CQ18*$CQ$5)+(CR18*$CR$5)+(CS18*$CS$5)+(CT18*$CT$5)+(CU18*$CU$5)+(CV18*$CV$5)+(CW18*$CW$5)+(CX18*$CX$5)+(CY18*$CY$5)+(CZ18*$CZ$5)+(DA18*$DA$5)+(DB18*$DB$5)+(DC18*$DC$5)+(DD18*$DD$5)+(DE18*$DE$5)+(DF18*$DF$5)+(DG18*$DG$5))/(SUM($CI$5:$DG$5)),3) -> 0 | DI18: =LOOKUP(DH18,'Final Average'!$H$45:$I$57) -> F | EI18: =ROUND(((DJ18*$DJ$5)+(DK18*$DK$5)+(DL18*$DL$5)+(DM18*$DM$5)+(DN18*$DN$5)+(DO18*$DO$5)+(DP18*$DP$5)+(DQ18*$DQ$5)+(DR18*$DR$5)+(DS18*$DS$5)+(DT18*$DT$5)+(DU18*$DU$5)+(DV18*$DV$5)+(DW18*$DW$5)+(DX18*$DX$5)+(DY18*$DY$5)+(DZ18*$DZ$5)+(EA18*$EA$5)+(EB18*$EB$5)+(EC18*$EC$5)+(ED18*$ED$5)+(EE18*$EE$5)+(EF18*$EF$5)+(EG18*$EG$5)+(EH18*$EH$5))/(SUM($DJ$5:$EH$5)),3) -> 0 | EJ18: =LOOKUP(EI18,'Final Average'!$H$45:$I$57) -> F | FJ18: =ROUND(((EK18*$EK$5)+(EL18*$EL$5)+(EM18*$EM$5)+(EN18*$EN$5)+(EO18*$EO$5)+(EP18*$EP$5)+(EQ18*$EQ$5)+(ER18*$ER$5)+(ES18*$ES$5)+(ET18*$ET$5)+(EU18*$EU$5)+(EV18*$EV$5)+(EW18*$EW$5)+(EX18*$EX$5)+(EY18*$EY$5)+(EZ18*$EZ$5)+(FA18*$FA$5)+(FB18*$FB$5)+(FC18*$FC$5)+(FD18*$FD$5)+(FE18*$FE$5)+(FF18*$FF$5)+(FG18*$FG$5)+(FH18*$FH$5)+(FI18*$FI$5))/(SUM($EK$5:$FI$5)),3) -> 0 | FK18: =LOOKUP(FJ18,'Final Average'!$H$45:$I$57) -> F
A19: 13 | AE19: =ROUND(((F19*$F$5)+(G19*$G$5)+(H19*$H$5)+(I19*$I$5)+(J19*$J$5)+(K19*$K$5)+(L19*$L$5)+(M19*$M$5)+(N19*$N$5)+(O19*$O$5)+(P19*$P$5)+(Q19*$Q$5)+(R19*$R$5)+(S19*$S$5)+(T19*$T$5)+(U19*$U$5)+(V19*$V$5)+(W19*$W$5)+(X19*$X$5)+(Y19*$Y$5)+(Z19*$Z$5)+(AA19*$AA$5)+(AB19*$AB$5)+(AC19*$AC$5)+(AD19*$AD$5))/(SUM($F$5:$AD$5)),3) -> 0 | AF19: =LOOKUP(AE19,'Final Average'!$H$45:$I$57) -> F | BF19: =ROUND(((AG19*$AG$5)+(AH19*$AH$5)+(AI19*$AI$5)+(AJ19*$AJ$5)+(AK19*$AK$5)+(AL19*$AL$5)+(AM19*$AM$5)+(AN19*$AN$5)+(AO19*$AO$5)+(AP19*$AP$5)+(AQ19*$AQ$5)+(AR19*$AR$5)+(AS19*$AS$5)+(AT19*$AT$5)+(AU19*$AU$5)+(AV19*$AV$5)+(AW19*$AW$5)+(AX19*$AX$5)+(AY19*$AY$5)+(AZ19*$AZ$5)+(BA19*$BA$5)+(BB19*$BB$5)+(BC19*$BC$5)+(BD19*$BD$5)+(BE19*$BE$5))/(SUM($AG$5:$BE$5)),3) -> 0 | BG19: =LOOKUP(BF19,'Final Average'!$H$45:$I$57) -> F | CG19: =((BH19*$BH$5)+(BI19*$BI$5)+(BJ19*$BJ$5)+(BK19*$BK$5)+(BL19*$BL$5)+(BM19*$BM$5)+(BN19*$BN$5)+(BO19*$BO$5)+(BP19*$BP$5)+(BQ19*$BQ$5)+(BR19*$BR$5)+(BS19*$BS$5)+(BT19*$BT$5)+(BU19*$BU$5)+(BV19*$BV$5)+(BW19*$BW$5)+(BX19*$BX$5)+(BY19*$BY$5)+(BZ19*$BZ$5)+(CA19*$CA$5)+(CB19*$CB$5)+(CC19*$CC$5)+(CD19*$CD$5)+(CE19*$CE$5)+(CF19*$CF$5))/(SUM($BH$5:$CF$5)) -> 0 | CH19: =LOOKUP(CG19,'Final Average'!$H$45:$I$57) -> F | DH19: =ROUND(((CI19*$CI$5)+(CJ19*$CJ$5)+(CK19*$CK$5)+(CL19*$CL$5)+(CM19*$CM$5)+(CN19*$CN$5)+(CO19*$CO$5)+(CP19*$CP$5)+(CQ19*$CQ$5)+(CR19*$CR$5)+(CS19*$CS$5)+(CT19*$CT$5)+(CU19*$CU$5)+(CV19*$CV$5)+(CW19*$CW$5)+(CX19*$CX$5)+(CY19*$CY$5)+(CZ19*$CZ$5)+(DA19*$DA$5)+(DB19*$DB$5)+(DC19*$DC$5)+(DD19*$DD$5)+(DE19*$DE$5)+(DF19*$DF$5)+(DG19*$DG$5))/(SUM($CI$5:$DG$5)),3) -> 0 | DI19: =LOOKUP(DH19,'Final Average'!$H$45:$I$57) -> F | EI19: =ROUND(((DJ19*$DJ$5)+(DK19*$DK$5)+(DL19*$DL$5)+(DM19*$DM$5)+(DN19*$DN$5)+(DO19*$DO$5)+(DP19*$DP$5)+(DQ19*$DQ$5)+(DR19*$DR$5)+(DS19*$DS$5)+(DT19*$DT$5)+(DU19*$DU$5)+(DV19*$DV$5)+(DW19*$DW$5)+(DX19*$DX$5)+(DY19*$DY$5)+(DZ19*$DZ$5)+(EA19*$EA$5)+(EB19*$EB$5)+(EC19*$EC$5)+(ED19*$ED$5)+(EE19*$EE$5)+(EF19*$EF$5)+(EG19*$EG$5)+(EH19*$EH$5))/(SUM($DJ$5:$EH$5)),3) -> 0 | EJ19: =LOOKUP(EI19,'Final Average'!$H$45:$I$57) -> F | FJ19: =ROUND(((EK19*$EK$5)+(EL19*$EL$5)+(EM19*$EM$5)+(EN19*$EN$5)+(EO19*$EO$5)+(EP19*$EP$5)+(EQ19*$EQ$5)+(ER19*$ER$5)+(ES19*$ES$5)+(ET19*$ET$5)+(EU19*$EU$5)+(EV19*$EV$5)+(EW19*$EW$5)+(EX19*$EX$5)+(EY19*$EY$5)+(EZ19*$EZ$5)+(FA19*$FA$5)+(FB19*$FB$5)+(FC19*$FC$5)+(FD19*$FD$5)+(FE19*$FE$5)+(FF19*$FF$5)+(FG19*$FG$5)+(FH19*$FH$5)+(FI19*$FI$5))/(SUM($EK$5:$FI$5)),3) -> 0 | FK19: =LOOKUP(FJ19,'Final Average'!$H$45:$I$57) -> F
... A41: 35 | AE41: =ROUND(((F41*$F$5)+(G41*$G$5)+(H41*$H$5)+(I41*$I$5)+(J41*$J$5)+(K41*$K$5)+(L41*$L$5)+(M41*$M$5)+(N41*$N$5)+(O41*$O$5)+(P41*$P$5)+(Q41*$Q$5)+(R41*$R$5)+(S41*$S$5)+(T41*$T$5)+(U41*$U$5)+(V41*$V$5)+(W41*$W$5)+(X41*$X$5)+(Y41*$Y$5)+(Z41*$Z$5)+(AA41*$AA$5)+(AB41*$AB$5)+(AC41*$AC$5)+(AD41*$AD$5))/(SUM($F$5:$AD$5)),3) -> 0 | AF41: =LOOKUP(AE41,'Final Average'!$H$45:$I$57) -> F | BF41: =ROUND(((AG41*$AG$5)+(AH41*$AH$5)+(AI41*$AI$5)+(AJ41*$AJ$5)+(AK41*$AK$5)+(AL41*$AL$5)+(AM41*$AM$5)+(AN41*$AN$5)+(AO41*$AO$5)+(AP41*$AP$5)+(AQ41*$AQ$5)+(AR41*$AR$5)+(AS41*$AS$5)+(AT41*$AT$5)+(AU41*$AU$5)+(AV41*$AV$5)+(AW41*$AW$5)+(AX41*$AX$5)+(AY41*$AY$5)+(AZ41*$AZ$5)+(BA41*$BA$5)+(BB41*$BB$5)+(BC41*$BC$5)+(BD41*$BD$5)+(BE41*$BE$5))/(SUM($AG$5:$BE$5)),3) -> 0 | BG41: =LOOKUP(BF41,'Final Average'!$H$45:$I$57) -> F | CG41: =((BH41*$BH$5)+(BI41*$BI$5)+(BJ41*$BJ$5)+(BK41*$BK$5)+(BL41*$BL$5)+(BM41*$BM$5)+(BN41*$BN$5)+(BO41*$BO$5)+(BP41*$BP$5)+(BQ41*$BQ$5)+(BR41*$BR$5)+(BS41*$BS$5)+(BT41*$BT$5)+(BU41*$BU$5)+(BV41*$BV$5)+(BW41*$BW$5)+(BX41*$BX$5)+(BY41*$BY$5)+(BZ41*$BZ$5)+(CA41*$CA$5)+(CB41*$CB$5)+(CC41*$CC$5)+(CD41*$CD$5)+(CE41*$CE$5)+(CF41*$CF$5))/(SUM($BH$5:$CF$5)) -> 0 | CH41: =LOOKUP(CG41,'Final Average'!$H$45:$I$57) -> F | DH41: =ROUND(((CI41*$CI$5)+(CJ41*$CJ$5)+(CK41*$CK$5)+(CL41*$CL$5)+(CM41*$CM$5)+(CN41*$CN$5)+(CO41*$CO$5)+(CP41*$CP$5)+(CQ41*$CQ$5)+(CR41*$CR$5)+(CS41*$CS$5)+(CT41*$CT$5)+(CU41*$CU$5)+(CV41*$CV$5)+(CW41*$CW$5)+(CX41*$CX$5)+(CY41*$CY$5)+(CZ41*$CZ$5)+(DA41*$DA$5)+(DB41*$DB$5)+(DC41*$DC$5)+(DD41*$DD$5)+(DE41*$DE$5)+(DF41*$DF$5)+(DG41*$DG$5))/(SUM($CI$5:$DG$5)),3) -> 0 | DI41: =LOOKUP(DH41,'Final Average'!$H$45:$I$57) -> F | EI41: =ROUND(((DJ41*$DJ$5)+(DK41*$DK$5)+(DL41*$DL$5)+(DM41*$DM$5)+(DN41*$DN$5)+(DO41*$DO$5)+(DP41*$DP$5)+(DQ41*$DQ$5)+(DR41*$DR$5)+(DS41*$DS$5)+(DT41*$DT$5)+(DU41*$DU$5)+(DV41*$DV$5)+(DW41*$DW$5)+(DX41*$DX$5)+(DY41*$DY$5)+(DZ41*$DZ$5)+(EA41*$EA$5)+(EB41*$EB$5)+(EC41*$EC$5)+(ED41*$ED$5)+(EE41*$EE$5)+(EF41*$EF$5)+(EG41*$EG$5)+(EH41*$EH$5))/(SUM($DJ$5:$EH$5)),3) -> 0 | EJ41: =LOOKUP(EI41,'Final Average'!$H$45:$I$57) -> F | FJ41: =ROUND(((EK41*$EK$5)+(EL41*$EL$5)+(EM41*$EM$5)+(EN41*$EN$5)+(EO41*$EO$5)+(EP41*$EP$5)+(EQ41*$EQ$5)+(ER41*$ER$5)+(ES41*$ES$5)+(ET41*$ET$5)+(EU41*$EU$5)+(EV41*$EV$5)+(EW41*$EW$5)+(EX41*$EX$5)+(EY41*$EY$5)+(EZ41*$EZ$5)+(FA41*$FA$5)+(FB41*$FB$5)+(FC41*$FC$5)+(FD41*$FD$5)+(FE41*$FE$5)+(FF41*$FF$5)+(FG41*$FG$5)+(FH41*$FH$5)+(FI41*$FI$5))/(SUM($EK$5:$FI$5)),3) -> 0 | FK41: =LOOKUP(FJ41,'Final Average'!$H$45:$I$57) -> F
A42: Class Average | F42: =AVERAGE(F7:F41) -> #DIV/0! | G42: =AVERAGE(G7:G41) -> #DIV/0! | H42: =AVERAGE(H7:H41) -> #DIV/0! | I42: =AVERAGE(I7:I41) -> #DIV/0! | J42: =AVERAGE(J7:J41) -> #DIV/0! | K42: =AVERAGE(K7:K41) -> #DIV/0! | L42: =AVERAGE(L7:L41) -> #DIV/0! | M42: =AVERAGE(M7:M41) -> #DIV/0! | ... AD42: =AVERAGE(AD7:AD41) -> #DIV/0! | AE42: =SUM(AE7:AE41)/Basics!$E$6 -> #VALUE! | AF42: =LOOKUP(AE42,'Final Average'!$H$45:$I$57) -> #VALUE! | AG42: =AVERAGE(AG7:AG41) -> #DIV/0! | AH42: =AVERAGE(AH7:AH41) -> #DIV/0! | AI42: =AVERAGE(AI7:AI41) -> #DIV/0! | AJ42: =AVERAGE(AJ7:AJ41) -> #DIV/0! | AK42: =AVERAGE(AK7:AK41) -> #DIV/0! | AL42: =AVERAGE(AL7:AL41) -> #DIV/0! | AM42: =AVERAGE(AM7:AM41) -> #DIV/0! | AN42: =AVERAGE(AN7:AN41) -> #DIV/0! | ... BE42: =AVERAGE(BE7:BE41) -> #DIV/0! | BF42: =SUM(BF7:BF41)/Basics!$E$6 -> #VALUE! | BG42: =LOOKUP(BF42,'Final Average'!$H$45:$I$57) -> #VALUE! | BH42: =AVERAGE(BH7:BH41) -> #DIV/0! | BI42: =AVERAGE(BI7:BI41) -> #DIV/0! | BJ42: =AVERAGE(BJ7:BJ41) -> #DIV/0! | BK42: =AVERAGE(BK7:BK41) -> #DIV/0! | BL42: =AVERAGE(BL7:BL41) -> #DIV/0! | BM42: =AVERAGE(BM7:BM41) -> #DIV/0! | BN42: =AVERAGE(BN7:BN41) -> #DIV/0! | BO42: =AVERAGE(BO7:BO41) -> #DIV/0! | ... CF42: =AVERAGE(CF7:CF41) -> #DIV/0! | CG42: =SUM(CG7:CG41)/Basics!$E$6 -> #VALUE! | CH42: =LOOKUP(CG42,'Final Average'!$H$45:$I$57) -> #VALUE! | CI42: =AVERAGE(CI7:CI41) -> #DIV/0! | CJ42: =AVERAGE(CJ7:CJ41) -> #DIV/0! | CK42: =AVERAGE(CK7:CK41) -> #DIV/0! | CL42: =AVERAGE(CL7:CL41) -> #DIV/0! | CM42: =AVERAGE(CM7:CM41) -> #DIV/0! | CN42: =AVERAGE(CN7:CN41) -> #DIV/0! | CO42: =AVERAGE(CO7:CO41) -> #DIV/0! | CP42: =AVERAGE(CP7:CP41) -> #DIV/0! | ... DG42: =AVERAGE(DG7:DG41) -> #DIV/0! | DH42: =SUM(DH7:DH41)/Basics!$E$6 -> #VALUE! | DI42: =LOOKUP(DH42,'Final Average'!$H$45:$I$57) -> #VALUE! | DJ42: =AVERAGE(DJ7:DJ41) -> #DIV/0! | DK42: =AVERAGE(DK7:DK41) -> #DIV/0! | DL42: =AVERAGE(DL7:DL41) -> #DIV/0! | DM42: =AVERAGE(DM7:DM41) -> #DIV/0! | DN42: =AVERAGE(DN7:DN41) -> #DIV/0! | DO42: =AVERAGE(DO7:DO41) -> #DIV/0! | DP42: =AVERAGE(DP7:DP41) -> #DIV/0! | DQ42: =AVERAGE(DQ7:DQ41) -> #DIV/0! | ... EH42: =AVERAGE(EH7:EH41) -> #DIV/0! | EI42: =SUM(EI7:EI41)/Basics!$E$6 -> #VALUE! | EJ42: =LOOKUP(EI42,'Final Average'!$H$45:$I$57) -> #VALUE! | EK42: =AVERAGE(EK7:EK41) -> #DIV/0! | EL42: =AVERAGE(EL7:EL41) -> #DIV/0! | EM42: =AVERAGE(EM7:EM41) -> #DIV/0! | EN42: =AVERAGE(EN7:EN41) -> #DIV/0! | EO42: =AVERAGE(EO7:EO41) -> #DIV/0! | EP42: =AVERAGE(EP7:EP41) -> #DIV/0! | EQ42: =AVERAGE(EQ7:EQ41) -> #DIV/0! | ER42: =AVERAGE(ER7:ER41) -> #DIV/0! | ... FI42: =AVERAGE(FI7:FI41) -> #DIV/0! | FJ42: =SUM(FJ7:FJ41)/Basics!$E$6 -> #VALUE! | FK42: =LOOKUP(FJ42,'Final Average'!$H$45:$I$57) -> #VALUE!

Sheet 2nd Quarter
A2: Second Quarter
A3: Student # | B3: Last Name | C3: First Name | D3: M.I. | F3: ='1st Quarter'!F3:AE3 -> Math | AG3: ='1st Quarter'!AG3:BF3 -> Reading | BH3: ='1st Quarter'!BH3:CG3 -> Spelling | CI3: ='1st Quarter'!CI3:DH3 -> Science | DJ3: ='1st Quarter'!DJ3:EI3 -> Social Studies | EK3: ='1st Quarter'!EK3:FJ3 -> English
F4: 1 | G4: 2 | H4: 3 | I4: 4 | J4: 5 | K4: 6 | L4: 7 | M4: 8 | N4: 9 | O4: 10 | P4: 11 | Q4: 12 | R4: 13 | S4: 14 | T4: 15 | U4: 16 | V4: 17 | W4: 18 | X4: 19 | Y4: 20 | Z4: 21 | AA4: 22 | AB4: 23 | AC4: 24 | AD4: 25 | AE4: Average | AG4: 1 | AH4: 2 | AI4: 3 | AJ4: 4 | AK4: 5 | AL4: 6 | AM4: 7 | AN4: 8 | AO4: 9 | AP4: 10 | AQ4: 11 | AR4: 12 | AS4: 13 | AT4: 14 | AU4: 15 | AV4: 16 | AW4: 17 | AX4: 18 | AY4: 19 | AZ4: 20 | BA4: 21 | BB4: 22 | BC4: 23 | BD4: 24 | BE4: 25 | BF4: Average | BH4: 1 | BI4: 2 | BJ4: 3 | BK4: 4 | BL4: 5 | BM4: 6 | BN4: 7 | BO4: 8 | BP4: 9 | BQ4: 10 | BR4: 11 | BS4: 12 | BT4: 13 | BU4: 14 | BV4: 15 | BW4: 16 | BX4: 17 | BY4: 18 | BZ4: 19 | CA4: 20 | CB4: 21 | CC4: 22 | CD4: 23 | CE4: 24 | CF4: 25 | CG4: Average | CI4: 1 | CJ4: 2 | CK4: 3 | CL4: 4 | CM4: 5 | CN4: 6 | CO4: 7 | CP4: 8 | CQ4: 9 | CR4: 10 | CS4: 11 | CT4: 12 | CU4: 13 | CV4: 14 | CW4: 15 | CX4: 16 | CY4: 17 | CZ4: 18 | DA4: 19 | DB4: 20 | DC4: 21 | DD4: 22 | DE4: 23 | DF4: 24 | DG4: 25 | DH4: Average | DJ4: 1 | DK4: 2 | DL4: 3 | DM4: 4 | DN4: 5 | DO4: 6 | DP4: 7 | DQ4: 8 | DR4: 9 | DS4: 10 | DT4: 11 | DU4: 12 | DV4: 13 | DW4: 14 | DX4: 15 | DY4: 16 | DZ4: 17 | EA4: 18 | EB4: 19 | EC4: 20 | ED4: 21 | EE4: 22 | EF4: 23 | EG4: 24 | EH4: 25 | EI4: Average | EK4: 1 | EL4: 2 | EM4: 3 | EN4: 4 | EO4: 5 | EP4: 6 | EQ4: 7 | ER4: 8 | ES4: 9 | ET4: 10 | EU4: 11 | EV4: 12 | EW4: 13 | EX4: 14 | EY4: 15 | EZ4: 16 | FA4: 17 | FB4: 18 | FC4: 19 | FD4: 20 | FE4: 21 | FF4: 22 | FG4: 23 | FH4: 24 | FI4: 25 | FJ4: Average
E5: Weight | F5: 1 | AG5: 1 | BH5: 1 | CI5: 1 | DJ5: 1 | EK5: 1
D6: Assignment
A7: 1 | B7: =IF('1st Quarter'!B7>0,'1st Quarter'!B7,"") | C7: =IF('1st Quarter'!C7>0,'1st Quarter'!C7,"") | D7: =IF('1st Quarter'!D7>0,'1st Quarter'!D7,"") | AE7: =ROUND(((F7*$F$5)+(G7*$G$5)+(H7*$H$5)+(I7*$I$5)+(J7*$J$5)+(K7*$K$5)+(L7*$L$5)+(M7*$M$5)+(N7*$N$5)+(O7*$O$5)+(P7*$P$5)+(Q7*$Q$5)+(R7*$R$5)+(S7*$S$5)+(T7*$T$5)+(U7*$U$5)+(V7*$V$5)+(W7*$W$5)+(X7*$X$5)+(Y7*$Y$5)+(Z7*$Z$5)+(AA7*$AA$5)+(AB7*$AB$5)+(AC7*$AC$5)+(AD7*$AD$5))/(SUM($F$5:$AD$5)),3) -> 0 | AF7: =LOOKUP(AE7,'Final Average'!$H$45:$I$57) -> F | BF7: =ROUND(((AG7*$AG$5)+(AH7*$AH$5)+(AI7*$AI$5)+(AJ7*$AJ$5)+(AK7*$AK$5)+(AL7*$AL$5)+(AM7*$AM$5)+(AN7*$AN$5)+(AO7*$AO$5)+(AP7*$AP$5)+(AQ7*$AQ$5)+(AR7*$AR$5)+(AS7*$AS$5)+(AT7*$AT$5)+(AU7*$AU$5)+(AV7*$AV$5)+(AW7*$AW$5)+(AX7*$AX$5)+(AY7*$AY$5)+(AZ7*$AZ$5)+(BA7*$BA$5)+(BB7*$BB$5)+(BC7*$BC$5)+(BD7*$BD$5)+(BE7*$BE$5))/(SUM($AG$5:$BE$5)),3) -> 0 | BG7: =LOOKUP(BF7,'Final Average'!$H$45:$I$57) -> F | CG7: =ROUND(((BH7*$BH$5)+(BI7*$BI$5)+(BJ7*$BJ$5)+(BK7*$BK$5)+(BL7*$BL$5)+(BM7*$BM$5)+(BN7*$BN$5)+(BO7*$BO$5)+(BP7*$BP$5)+(BQ7*$BQ$5)+(BR7*$BR$5)+(BS7*$BS$5)+(BT7*$BT$5)+(BU7*$BU$5)+(BV7*$BV$5)+(BW7*$BW$5)+(BX7*$BX$5)+(BY7*$BY$5)+(BZ7*$BZ$5)+(CA7*$CA$5)+(CB7*$CB$5)+(CC7*$CC$5)+(CD7*$CD$5)+(CE7*$CE$5)+(CF7*$CF$5))/(SUM($BH$5:$CF$5)),3) -> 0 | CH7: =LOOKUP(CG7,'Final Average'!$H$45:$I$57) -> F | DH7: =ROUND(((CI7*$CI$5)+(CJ7*$CJ$5)+(CK7*$CK$5)+(CL7*$CL$5)+(CM7*$CM$5)+(CN7*$CN$5)+(CO7*$CO$5)+(CP7*$CP$5)+(CQ7*$CQ$5)+(CR7*$CR$5)+(CS7*$CS$5)+(CT7*$CT$5)+(CU7*$CU$5)+(CV7*$CV$5)+(CW7*$CW$5)+(CX7*$CX$5)+(CY7*$CY$5)+(CZ7*$CZ$5)+(DA7*$DA$5)+(DB7*$DB$5)+(DC7*$DC$5)+(DD7*$DD$5)+(DE7*$DE$5)+(DF7*$DF$5)+(DG7*$DG$5))/(SUM($CI$5:$DG$5)),3) -> 0 | DI7: =LOOKUP(DH7,'Final Average'!$H$45:$I$57) -> F | EI7: =ROUND(((DJ7*$DJ$5)+(DK7*$DK$5)+(DL7*$DL$5)+(DM7*$DM$5)+(DN7*$DN$5)+(DO7*$DO$5)+(DP7*$DP$5)+(DQ7*$DQ$5)+(DR7*$DR$5)+(DS7*$DS$5)+(DT7*$DT$5)+(DU7*$DU$5)+(DV7*$DV$5)+(DW7*$DW$5)+(DX7*$DX$5)+(DY7*$DY$5)+(DZ7*$DZ$5)+(EA7*$EA$5)+(EB7*$EB$5)+(EC7*$EC$5)+(ED7*$ED$5)+(EE7*$EE$5)+(EF7*$EF$5)+(EG7*$EG$5)+(EH7*$EH$5))/(SUM($DJ$5:$EH$5)),3) -> 0 | EJ7: =LOOKUP(EI7,'Final Average'!$H$45:$I$57) -> F | FJ7: =ROUND(((EK7*$EK$5)+(EL7*$EL$5)+(EM7*$EM$5)+(EN7*$EN$5)+(EO7*$EO$5)+(EP7*$EP$5)+(EQ7*$EQ$5)+(ER7*$ER$5)+(ES7*$ES$5)+(ET7*$ET$5)+(EU7*$EU$5)+(EV7*$EV$5)+(EW7*$EW$5)+(EX7*$EX$5)+(EY7*$EY$5)+(EZ7*$EZ$5)+(FA7*$FA$5)+(FB7*$FB$5)+(FC7*$FC$5)+(FD7*$FD$5)+(FE7*$FE$5)+(FF7*$FF$5)+(FG7*$FG$5)+(FH7*$FH$5)+(FI7*$FI$5))/(SUM($EK$5:$FI$5)),3) -> 0 | FK7: =LOOKUP(FJ7,'Final Average'!$H$45:$I$57) -> F
A8: 2 | B8: =IF('1st Quarter'!B8>0,'1st Quarter'!B8,"") | C8: =IF('1st Quarter'!C8>0,'1st Quarter'!C8,"") | D8: =IF('1st Quarter'!D8>0,'1st Quarter'!D8,"") | AE8: =ROUND(((F8*$F$5)+(G8*$G$5)+(H8*$H$5)+(I8*$I$5)+(J8*$J$5)+(K8*$K$5)+(L8*$L$5)+(M8*$M$5)+(N8*$N$5)+(O8*$O$5)+(P8*$P$5)+(Q8*$Q$5)+(R8*$R$5)+(S8*$S$5)+(T8*$T$5)+(U8*$U$5)+(V8*$V$5)+(W8*$W$5)+(X8*$X$5)+(Y8*$Y$5)+(Z8*$Z$5)+(AA8*$AA$5)+(AB8*$AB$5)+(AC8*$AC$5)+(AD8*$AD$5))/(SUM($F$5:$AD$5)),3) -> 0 | AF8: =LOOKUP(AE8,'Final Average'!$H$45:$I$57) -> F | BF8: =ROUND(((AG8*$AG$5)+(AH8*$AH$5)+(AI8*$AI$5)+(AJ8*$AJ$5)+(AK8*$AK$5)+(AL8*$AL$5)+(AM8*$AM$5)+(AN8*$AN$5)+(AO8*$AO$5)+(AP8*$AP$5)+(AQ8*$AQ$5)+(AR8*$AR$5)+(AS8*$AS$5)+(AT8*$AT$5)+(AU8*$AU$5)+(AV8*$AV$5)+(AW8*$AW$5)+(AX8*$AX$5)+(AY8*$AY$5)+(AZ8*$AZ$5)+(BA8*$BA$5)+(BB8*$BB$5)+(BC8*$BC$5)+(BD8*$BD$5)+(BE8*$BE$5))/(SUM($AG$5:$BE$5)),3) -> 0 | BG8: =LOOKUP(BF8,'Final Average'!$H$45:$I$57) -> F | CG8: =((BH8*$BH$5)+(BI8*$BI$5)+(BJ8*$BJ$5)+(BK8*$BK$5)+(BL8*$BL$5)+(BM8*$BM$5)+(BN8*$BN$5)+(BO8*$BO$5)+(BP8*$BP$5)+(BQ8*$BQ$5)+(BR8*$BR$5)+(BS8*$BS$5)+(BT8*$BT$5)+(BU8*$BU$5)+(BV8*$BV$5)+(BW8*$BW$5)+(BX8*$BX$5)+(BY8*$BY$5)+(BZ8*$BZ$5)+(CA8*$CA$5)+(CB8*$CB$5)+(CC8*$CC$5)+(CD8*$CD$5)+(CE8*$CE$5)+(CF8*$CF$5))/(SUM($BH$5:$CF$5)) -> 0 | CH8: =LOOKUP(CG8,'Final Average'!$H$45:$I$57) -> F | DH8: =ROUND(((CI8*$CI$5)+(CJ8*$CJ$5)+(CK8*$CK$5)+(CL8*$CL$5)+(CM8*$CM$5)+(CN8*$CN$5)+(CO8*$CO$5)+(CP8*$CP$5)+(CQ8*$CQ$5)+(CR8*$CR$5)+(CS8*$CS$5)+(CT8*$CT$5)+(CU8*$CU$5)+(CV8*$CV$5)+(CW8*$CW$5)+(CX8*$CX$5)+(CY8*$CY$5)+(CZ8*$CZ$5)+(DA8*$DA$5)+(DB8*$DB$5)+(DC8*$DC$5)+(DD8*$DD$5)+(DE8*$DE$5)+(DF8*$DF$5)+(DG8*$DG$5))/(SUM($CI$5:$DG$5)),3) -> 0 | DI8: =LOOKUP(DH8,'Final Average'!$H$45:$I$57) -> F | EI8: =ROUND(((DJ8*$DJ$5)+(DK8*$DK$5)+(DL8*$DL$5)+(DM8*$DM$5)+(DN8*$DN$5)+(DO8*$DO$5)+(DP8*$DP$5)+(DQ8*$DQ$5)+(DR8*$DR$5)+(DS8*$DS$5)+(DT8*$DT$5)+(DU8*$DU$5)+(DV8*$DV$5)+(DW8*$DW$5)+(DX8*$DX$5)+(DY8*$DY$5)+(DZ8*$DZ$5)+(EA8*$EA$5)+(EB8*$EB$5)+(EC8*$EC$5)+(ED8*$ED$5)+(EE8*$EE$5)+(EF8*$EF$5)+(EG8*$EG$5)+(EH8*$EH$5))/(SUM($DJ$5:$EH$5)),3) -> 0 | EJ8: =LOOKUP(EI8,'Final Average'!$H$45:$I$57) -> F | FJ8: =ROUND(((EK8*$EK$5)+(EL8*$EL$5)+(EM8*$EM$5)+(EN8*$EN$5)+(EO8*$EO$5)+(EP8*$EP$5)+(EQ8*$EQ$5)+(ER8*$ER$5)+(ES8*$ES$5)+(ET8*$ET$5)+(EU8*$EU$5)+(EV8*$EV$5)+(EW8*$EW$5)+(EX8*$EX$5)+(EY8*$EY$5)+(EZ8*$EZ$5)+(FA8*$FA$5)+(FB8*$FB$5)+(FC8*$FC$5)+(FD8*$FD$5)+(FE8*$FE$5)+(FF8*$FF$5)+(FG8*$FG$5)+(FH8*$FH$5)+(FI8*$FI$5))/(SUM($EK$5:$FI$5)),3) -> 0 | FK8: =LOOKUP(FJ8,'Final Average'!$H$45:$I$57) -> F
A9: 3 | B9: =IF('1st Quarter'!B9>0,'1st Quarter'!B9,"") | C9: =IF('1st Quarter'!C9>0,'1st Quarter'!C9,"") | D9: =IF('1st Quarter'!D9>0,'1st Quarter'!D9,"") | AE9: =ROUND(((F9*$F$5)+(G9*$G$5)+(H9*$H$5)+(I9*$I$5)+(J9*$J$5)+(K9*$K$5)+(L9*$L$5)+(M9*$M$5)+(N9*$N$5)+(O9*$O$5)+(P9*$P$5)+(Q9*$Q$5)+(R9*$R$5)+(S9*$S$5)+(T9*$T$5)+(U9*$U$5)+(V9*$V$5)+(W9*$W$5)+(X9*$X$5)+(Y9*$Y$5)+(Z9*$Z$5)+(AA9*$AA$5)+(AB9*$AB$5)+(AC9*$AC$5)+(AD9*$AD$5))/(SUM($F$5:$AD$5)),3) -> 0 | AF9: =LOOKUP(AE9,'Final Average'!$H$45:$I$57) -> F | BF9: =ROUND(((AG9*$AG$5)+(AH9*$AH$5)+(AI9*$AI$5)+(AJ9*$AJ$5)+(AK9*$AK$5)+(AL9*$AL$5)+(AM9*$AM$5)+(AN9*$AN$5)+(AO9*$AO$5)+(AP9*$AP$5)+(AQ9*$AQ$5)+(AR9*$AR$5)+(AS9*$AS$5)+(AT9*$AT$5)+(AU9*$AU$5)+(AV9*$AV$5)+(AW9*$AW$5)+(AX9*$AX$5)+(AY9*$AY$5)+(AZ9*$AZ$5)+(BA9*$BA$5)+(BB9*$BB$5)+(BC9*$BC$5)+(BD9*$BD$5)+(BE9*$BE$5))/(SUM($AG$5:$BE$5)),3) -> 0 | BG9: =LOOKUP(BF9,'Final Average'!$H$45:$I$57) -> F | CG9: =((BH9*$BH$5)+(BI9*$BI$5)+(BJ9*$BJ$5)+(BK9*$BK$5)+(BL9*$BL$5)+(BM9*$BM$5)+(BN9*$BN$5)+(BO9*$BO$5)+(BP9*$BP$5)+(BQ9*$BQ$5)+(BR9*$BR$5)+(BS9*$BS$5)+(BT9*$BT$5)+(BU9*$BU$5)+(BV9*$BV$5)+(BW9*$BW$5)+(BX9*$BX$5)+(BY9*$BY$5)+(BZ9*$BZ$5)+(CA9*$CA$5)+(CB9*$CB$5)+(CC9*$CC$5)+(CD9*$CD$5)+(CE9*$CE$5)+(CF9*$CF$5))/(SUM($BH$5:$CF$5)) -> 0 | CH9: =LOOKUP(CG9,'Final Average'!$H$45:$I$57) -> F | DH9: =ROUND(((CI9*$CI$5)+(CJ9*$CJ$5)+(CK9*$CK$5)+(CL9*$CL$5)+(CM9*$CM$5)+(CN9*$CN$5)+(CO9*$CO$5)+(CP9*$CP$5)+(CQ9*$CQ$5)+(CR9*$CR$5)+(CS9*$CS$5)+(CT9*$CT$5)+(CU9*$CU$5)+(CV9*$CV$5)+(CW9*$CW$5)+(CX9*$CX$5)+(CY9*$CY$5)+(CZ9*$CZ$5)+(DA9*$DA$5)+(DB9*$DB$5)+(DC9*$DC$5)+(DD9*$DD$5)+(DE9*$DE$5)+(DF9*$DF$5)+(DG9*$DG$5))/(SUM($CI$5:$DG$5)),3) -> 0 | DI9: =LOOKUP(DH9,'Final Average'!$H$45:$I$57) -> F | EI9: =ROUND(((DJ9*$DJ$5)+(DK9*$DK$5)+(DL9*$DL$5)+(DM9*$DM$5)+(DN9*$DN$5)+(DO9*$DO$5)+(DP9*$DP$5)+(DQ9*$DQ$5)+(DR9*$DR$5)+(DS9*$DS$5)+(DT9*$DT$5)+(DU9*$DU$5)+(DV9*$DV$5)+(DW9*$DW$5)+(DX9*$DX$5)+(DY9*$DY$5)+(DZ9*$DZ$5)+(EA9*$EA$5)+(EB9*$EB$5)+(EC9*$EC$5)+(ED9*$ED$5)+(EE9*$EE$5)+(EF9*$EF$5)+(EG9*$EG$5)+(EH9*$EH$5))/(SUM($DJ$5:$EH$5)),3) -> 0 | EJ9: =LOOKUP(EI9,'Final Average'!$H$45:$I$57) -> F | FJ9: =ROUND(((EK9*$EK$5)+(EL9*$EL$5)+(EM9*$EM$5)+(EN9*$EN$5)+(EO9*$EO$5)+(EP9*$EP$5)+(EQ9*$EQ$5)+(ER9*$ER$5)+(ES9*$ES$5)+(ET9*$ET$5)+(EU9*$EU$5)+(EV9*$EV$5)+(EW9*$EW$5)+(EX9*$EX$5)+(EY9*$EY$5)+(EZ9*$EZ$5)+(FA9*$FA$5)+(FB9*$FB$5)+(FC9*$FC$5)+(FD9*$FD$5)+(FE9*$FE$5)+(FF9*$FF$5)+(FG9*$FG$5)+(FH9*$FH$5)+(FI9*$FI$5))/(SUM($EK$5:$FI$5)),3) -> 0 | FK9: =LOOKUP(FJ9,'Final Average'!$H$45:$I$57) -> F
A10: 4 | B10: =IF('1st Quarter'!B10>0,'1st Quarter'!B10,"") | C10: =IF('1st Quarter'!C10>0,'1st Quarter'!C10,"") | D10: =IF('1st Quarter'!D10>0,'1st Quarter'!D10,"") | AE10: =ROUND(((F10*$F$5)+(G10*$G$5)+(H10*$H$5)+(I10*$I$5)+(J10*$J$5)+(K10*$K$5)+(L10*$L$5)+(M10*$M$5)+(N10*$N$5)+(O10*$O$5)+(P10*$P$5)+(Q10*$Q$5)+(R10*$R$5)+(S10*$S$5)+(T10*$T$5)+(U10*$U$5)+(V10*$V$5)+(W10*$W$5)+(X10*$X$5)+(Y10*$Y$5)+(Z10*$Z$5)+(AA10*$AA$5)+(AB10*$AB$5)+(AC10*$AC$5)+(AD10*$AD$5))/(SUM($F$5:$AD$5)),3) -> 0 | AF10: =LOOKUP(AE10,'Final Average'!$H$45:$I$57) -> F | BF10: =ROUND(((AG10*$AG$5)+(AH10*$AH$5)+(AI10*$AI$5)+(AJ10*$AJ$5)+(AK10*$AK$5)+(AL10*$AL$5)+(AM10*$AM$5)+(AN10*$AN$5)+(AO10*$AO$5)+(AP10*$AP$5)+(AQ10*$AQ$5)+(AR10*$AR$5)+(AS10*$AS$5)+(AT10*$AT$5)+(AU10*$AU$5)+(AV10*$AV$5)+(AW10*$AW$5)+(AX10*$AX$5)+(AY10*$AY$5)+(AZ10*$AZ$5)+(BA10*$BA$5)+(BB10*$BB$5)+(BC10*$BC$5)+(BD10*$BD$5)+(BE10*$BE$5))/(SUM($AG$5:$BE$5)),3) -> 0 | BG10: =LOOKUP(BF10,'Final Average'!$H$45:$I$57) -> F | CG10: =((BH10*$BH$5)+(BI10*$BI$5)+(BJ10*$BJ$5)+(BK10*$BK$5)+(BL10*$BL$5)+(BM10*$BM$5)+(BN10*$BN$5)+(BO10*$BO$5)+(BP10*$BP$5)+(BQ10*$BQ$5)+(BR10*$BR$5)+(BS10*$BS$5)+(BT10*$BT$5)+(BU10*$BU$5)+(BV10*$BV$5)+(BW10*$BW$5)+(BX10*$BX$5)+(BY10*$BY$5)+(BZ10*$BZ$5)+(CA10*$CA$5)+(CB10*$CB$5)+(CC10*$CC$5)+(CD10*$CD$5)+(CE10*$CE$5)+(CF10*$CF$5))/(SUM($BH$5:$CF$5)) -> 0 | CH10: =LOOKUP(CG10,'Final Average'!$H$45:$I$57) -> F | DH10: =ROUND(((CI10*$CI$5)+(CJ10*$CJ$5)+(CK10*$CK$5)+(CL10*$CL$5)+(CM10*$CM$5)+(CN10*$CN$5)+(CO10*$CO$5)+(CP10*$CP$5)+(CQ10*$CQ$5)+(CR10*$CR$5)+(CS10*$CS$5)+(CT10*$CT$5)+(CU10*$CU$5)+(CV10*$CV$5)+(CW10*$CW$5)+(CX10*$CX$5)+(CY10*$CY$5)+(CZ10*$CZ$5)+(DA10*$DA$5)+(DB10*$DB$5)+(DC10*$DC$5)+(DD10*$DD$5)+(DE10*$DE$5)+(DF10*$DF$5)+(DG10*$DG$5))/(SUM($CI$5:$DG$5)),3) -> 0 | DI10: =LOOKUP(DH10,'Final Average'!$H$45:$I$57) -> F | EI10: =ROUND(((DJ10*$DJ$5)+(DK10*$DK$5)+(DL10*$DL$5)+(DM10*$DM$5)+(DN10*$DN$5)+(DO10*$DO$5)+(DP10*$DP$5)+(DQ10*$DQ$5)+(DR10*$DR$5)+(DS10*$DS$5)+(DT10*$DT$5)+(DU10*$DU$5)+(DV10*$DV$5)+(DW10*$DW$5)+(DX10*$DX$5)+(DY10*$DY$5)+(DZ10*$DZ$5)+(EA10*$EA$5)+(EB10*$EB$5)+(EC10*$EC$5)+(ED10*$ED$5)+(EE10*$EE$5)+(EF10*$EF$5)+(EG10*$EG$5)+(EH10*$EH$5))/(SUM($DJ$5:$EH$5)),3) -> 0 | EJ10: =LOOKUP(EI10,'Final Average'!$H$45:$I$57) -> F | FJ10: =ROUND(((EK10*$EK$5)+(EL10*$EL$5)+(EM10*$EM$5)+(EN10*$EN$5)+(EO10*$EO$5)+(EP10*$EP$5)+(EQ10*$EQ$5)+(ER10*$ER$5)+(ES10*$ES$5)+(ET10*$ET$5)+(EU10*$EU$5)+(EV10*$EV$5)+(EW10*$EW$5)+(EX10*$EX$5)+(EY10*$EY$5)+(EZ10*$EZ$5)+(FA10*$FA$5)+(FB10*$FB$5)+(FC10*$FC$5)+(FD10*$FD$5)+(FE10*$FE$5)+(FF10*$FF$5)+(FG10*$FG$5)+(FH10*$FH$5)+(FI10*$FI$5))/(SUM($EK$5:$FI$5)),3) -> 0 | FK10: =LOOKUP(FJ10,'Final Average'!$H$45:$I$57) -> F
A11: 5 | B11: =IF('1st Quarter'!B11>0,'1st Quarter'!B11,"") | C11: =IF('1st Quarter'!C11>0,'1st Quarter'!C11,"") | D11: =IF('1st Quarter'!D11>0,'1st Quarter'!D11,"") | AE11: =ROUND(((F11*$F$5)+(G11*$G$5)+(H11*$H$5)+(I11*$I$5)+(J11*$J$5)+(K11*$K$5)+(L11*$L$5)+(M11*$M$5)+(N11*$N$5)+(O11*$O$5)+(P11*$P$5)+(Q11*$Q$5)+(R11*$R$5)+(S11*$S$5)+(T11*$T$5)+(U11*$U$5)+(V11*$V$5)+(W11*$W$5)+(X11*$X$5)+(Y11*$Y$5)+(Z11*$Z$5)+(AA11*$AA$5)+(AB11*$AB$5)+(AC11*$AC$5)+(AD11*$AD$5))/(SUM($F$5:$AD$5)),3) -> 0 | AF11: =LOOKUP(AE11,'Final Average'!$H$45:$I$57) -> F | BF11: =ROUND(((AG11*$AG$5)+(AH11*$AH$5)+(AI11*$AI$5)+(AJ11*$AJ$5)+(AK11*$AK$5)+(AL11*$AL$5)+(AM11*$AM$5)+(AN11*$AN$5)+(AO11*$AO$5)+(AP11*$AP$5)+(AQ11*$AQ$5)+(AR11*$AR$5)+(AS11*$AS$5)+(AT11*$AT$5)+(AU11*$AU$5)+(AV11*$AV$5)+(AW11*$AW$5)+(AX11*$AX$5)+(AY11*$AY$5)+(AZ11*$AZ$5)+(BA11*$BA$5)+(BB11*$BB$5)+(BC11*$BC$5)+(BD11*$BD$5)+(BE11*$BE$5))/(SUM($AG$5:$BE$5)),3) -> 0 | BG11: =LOOKUP(BF11,'Final Average'!$H$45:$I$57) -> F | CG11: =((BH11*$BH$5)+(BI11*$BI$5)+(BJ11*$BJ$5)+(BK11*$BK$5)+(BL11*$BL$5)+(BM11*$BM$5)+(BN11*$BN$5)+(BO11*$BO$5)+(BP11*$BP$5)+(BQ11*$BQ$5)+(BR11*$BR$5)+(BS11*$BS$5)+(BT11*$BT$5)+(BU11*$BU$5)+(BV11*$BV$5)+(BW11*$BW$5)+(BX11*$BX$5)+(BY11*$BY$5)+(BZ11*$BZ$5)+(CA11*$CA$5)+(CB11*$CB$5)+(CC11*$CC$5)+(CD11*$CD$5)+(CE11*$CE$5)+(CF11*$CF$5))/(SUM($BH$5:$CF$5)) -> 0 | CH11: =LOOKUP(CG11,'Final Average'!$H$45:$I$57) -> F | DH11: =ROUND(((CI11*$CI$5)+(CJ11*$CJ$5)+(CK11*$CK$5)+(CL11*$CL$5)+(CM11*$CM$5)+(CN11*$CN$5)+(CO11*$CO$5)+(CP11*$CP$5)+(CQ11*$CQ$5)+(CR11*$CR$5)+(CS11*$CS$5)+(CT11*$CT$5)+(CU11*$CU$5)+(CV11*$CV$5)+(CW11*$CW$5)+(CX11*$CX$5)+(CY11*$CY$5)+(CZ11*$CZ$5)+(DA11*$DA$5)+(DB11*$DB$5)+(DC11*$DC$5)+(DD11*$DD$5)+(DE11*$DE$5)+(DF11*$DF$5)+(DG11*$DG$5))/(SUM($CI$5:$DG$5)),3) -> 0 | DI11: =LOOKUP(DH11,'Final Average'!$H$45:$I$57) -> F | EI11: =ROUND(((DJ11*$DJ$5)+(DK11*$DK$5)+(DL11*$DL$5)+(DM11*$DM$5)+(DN11*$DN$5)+(DO11*$DO$5)+(DP11*$DP$5)+(DQ11*$DQ$5)+(DR11*$DR$5)+(DS11*$DS$5)+(DT11*$DT$5)+(DU11*$DU$5)+(DV11*$DV$5)+(DW11*$DW$5)+(DX11*$DX$5)+(DY11*$DY$5)+(DZ11*$DZ$5)+(EA11*$EA$5)+(EB11*$EB$5)+(EC11*$EC$5)+(ED11*$ED$5)+(EE11*$EE$5)+(EF11*$EF$5)+(EG11*$EG$5)+(EH11*$EH$5))/(SUM($DJ$5:$EH$5)),3) -> 0 | EJ11: =LOOKUP(EI11,'Final Average'!$H$45:$I$57) -> F | FJ11: =ROUND(((EK11*$EK$5)+(EL11*$EL$5)+(EM11*$EM$5)+(EN11*$EN$5)+(EO11*$EO$5)+(EP11*$EP$5)+(EQ11*$EQ$5)+(ER11*$ER$5)+(ES11*$ES$5)+(ET11*$ET$5)+(EU11*$EU$5)+(EV11*$EV$5)+(EW11*$EW$5)+(EX11*$EX$5)+(EY11*$EY$5)+(EZ11*$EZ$5)+(FA11*$FA$5)+(FB11*$FB$5)+(FC11*$FC$5)+(FD11*$FD$5)+(FE11*$FE$5)+(FF11*$FF$5)+(FG11*$FG$5)+(FH11*$FH$5)+(FI11*$FI$5))/(SUM($EK$5:$FI$5)),3) -> 0 | FK11: =LOOKUP(FJ11,'Final Average'!$H$45:$I$57) -> F
A12: 6 | B12: =IF('1st Quarter'!B12>0,'1st Quarter'!B12,"") | C12: =IF('1st Quarter'!C12>0,'1st Quarter'!C12,"") | D12: =IF('1st Quarter'!D12>0,'1st Quarter'!D12,"") | AE12: =ROUND(((F12*$F$5)+(G12*$G$5)+(H12*$H$5)+(I12*$I$5)+(J12*$J$5)+(K12*$K$5)+(L12*$L$5)+(M12*$M$5)+(N12*$N$5)+(O12*$O$5)+(P12*$P$5)+(Q12*$Q$5)+(R12*$R$5)+(S12*$S$5)+(T12*$T$5)+(U12*$U$5)+(V12*$V$5)+(W12*$W$5)+(X12*$X$5)+(Y12*$Y$5)+(Z12*$Z$5)+(AA12*$AA$5)+(AB12*$AB$5)+(AC12*$AC$5)+(AD12*$AD$5))/(SUM($F$5:$AD$5)),3) -> 0 | AF12: =LOOKUP(AE12,'Final Average'!$H$45:$I$57) -> F | BF12: =ROUND(((AG12*$AG$5)+(AH12*$AH$5)+(AI12*$AI$5)+(AJ12*$AJ$5)+(AK12*$AK$5)+(AL12*$AL$5)+(AM12*$AM$5)+(AN12*$AN$5)+(AO12*$AO$5)+(AP12*$AP$5)+(AQ12*$AQ$5)+(AR12*$AR$5)+(AS12*$AS$5)+(AT12*$AT$5)+(AU12*$AU$5)+(AV12*$AV$5)+(AW12*$AW$5)+(AX12*$AX$5)+(AY12*$AY$5)+(AZ12*$AZ$5)+(BA12*$BA$5)+(BB12*$BB$5)+(BC12*$BC$5)+(BD12*$BD$5)+(BE12*$BE$5))/(SUM($AG$5:$BE$5)),3) -> 0 | BG12: =LOOKUP(BF12,'Final Average'!$H$45:$I$57) -> F | CG12: =((BH12*$BH$5)+(BI12*$BI$5)+(BJ12*$BJ$5)+(BK12*$BK$5)+(BL12*$BL$5)+(BM12*$BM$5)+(BN12*$BN$5)+(BO12*$BO$5)+(BP12*$BP$5)+(BQ12*$BQ$5)+(BR12*$BR$5)+(BS12*$BS$5)+(BT12*$BT$5)+(BU12*$BU$5)+(BV12*$BV$5)+(BW12*$BW$5)+(BX12*$BX$5)+(BY12*$BY$5)+(BZ12*$BZ$5)+(CA12*$CA$5)+(CB12*$CB$5)+(CC12*$CC$5)+(CD12*$CD$5)+(CE12*$CE$5)+(CF12*$CF$5))/(SUM($BH$5:$CF$5)) -> 0 | CH12: =LOOKUP(CG12,'Final Average'!$H$45:$I$57) -> F | DH12: =ROUND(((CI12*$CI$5)+(CJ12*$CJ$5)+(CK12*$CK$5)+(CL12*$CL$5)+(CM12*$CM$5)+(CN12*$CN$5)+(CO12*$CO$5)+(CP12*$CP$5)+(CQ12*$CQ$5)+(CR12*$CR$5)+(CS12*$CS$5)+(CT12*$CT$5)+(CU12*$CU$5)+(CV12*$CV$5)+(CW12*$CW$5)+(CX12*$CX$5)+(CY12*$CY$5)+(CZ12*$CZ$5)+(DA12*$DA$5)+(DB12*$DB$5)+(DC12*$DC$5)+(DD12*$DD$5)+(DE12*$DE$5)+(DF12*$DF$5)+(DG12*$DG$5))/(SUM($CI$5:$DG$5)),3) -> 0 | DI12: =LOOKUP(DH12,'Final Average'!$H$45:$I$57) -> F | EI12: =ROUND(((DJ12*$DJ$5)+(DK12*$DK$5)+(DL12*$DL$5)+(DM12*$DM$5)+(DN12*$DN$5)+(DO12*$DO$5)+(DP12*$DP$5)+(DQ12*$DQ$5)+(DR12*$DR$5)+(DS12*$DS$5)+(DT12*$DT$5)+(DU12*$DU$5)+(DV12*$DV$5)+(DW12*$DW$5)+(DX12*$DX$5)+(DY12*$DY$5)+(DZ12*$DZ$5)+(EA12*$EA$5)+(EB12*$EB$5)+(EC12*$EC$5)+(ED12*$ED$5)+(EE12*$EE$5)+(EF12*$EF$5)+(EG12*$EG$5)+(EH12*$EH$5))/(SUM($DJ$5:$EH$5)),3) -> 0 | EJ12: =LOOKUP(EI12,'Final Average'!$H$45:$I$57) -> F | FJ12: =ROUND(((EK12*$EK$5)+(EL12*$EL$5)+(EM12*$EM$5)+(EN12*$EN$5)+(EO12*$EO$5)+(EP12*$EP$5)+(EQ12*$EQ$5)+(ER12*$ER$5)+(ES12*$ES$5)+(ET12*$ET$5)+(EU12*$EU$5)+(EV12*$EV$5)+(EW12*$EW$5)+(EX12*$EX$5)+(EY12*$EY$5)+(EZ12*$EZ$5)+(FA12*$FA$5)+(FB12*$FB$5)+(FC12*$FC$5)+(FD12*$FD$5)+(FE12*$FE$5)+(FF12*$FF$5)+(FG12*$FG$5)+(FH12*$FH$5)+(FI12*$FI$5))/(SUM($EK$5:$FI$5)),3) -> 0 | FK12: =LOOKUP(FJ12,'Final Average'!$H$45:$I$57) -> F
A13: 7 | B13: =IF('1st Quarter'!B13>0,'1st Quarter'!B13,"") | C13: =IF('1st Quarter'!C13>0,'1st Quarter'!C13,"") | D13: =IF('1st Quarter'!D13>0,'1st Quarter'!D13,"") | AE13: =ROUND(((F13*$F$5)+(G13*$G$5)+(H13*$H$5)+(I13*$I$5)+(J13*$J$5)+(K13*$K$5)+(L13*$L$5)+(M13*$M$5)+(N13*$N$5)+(O13*$O$5)+(P13*$P$5)+(Q13*$Q$5)+(R13*$R$5)+(S13*$S$5)+(T13*$T$5)+(U13*$U$5)+(V13*$V$5)+(W13*$W$5)+(X13*$X$5)+(Y13*$Y$5)+(Z13*$Z$5)+(AA13*$AA$5)+(AB13*$AB$5)+(AC13*$AC$5)+(AD13*$AD$5))/(SUM($F$5:$AD$5)),3) -> 0 | AF13: =LOOKUP(AE13,'Final Average'!$H$45:$I$57) -> F | BF13: =ROUND(((AG13*$AG$5)+(AH13*$AH$5)+(AI13*$AI$5)+(AJ13*$AJ$5)+(AK13*$AK$5)+(AL13*$AL$5)+(AM13*$AM$5)+(AN13*$AN$5)+(AO13*$AO$5)+(AP13*$AP$5)+(AQ13*$AQ$5)+(AR13*$AR$5)+(AS13*$AS$5)+(AT13*$AT$5)+(AU13*$AU$5)+(AV13*$AV$5)+(AW13*$AW$5)+(AX13*$AX$5)+(AY13*$AY$5)+(AZ13*$AZ$5)+(BA13*$BA$5)+(BB13*$BB$5)+(BC13*$BC$5)+(BD13*$BD$5)+(BE13*$BE$5))/(SUM($AG$5:$BE$5)),3) -> 0 | BG13: =LOOKUP(BF13,'Final Average'!$H$45:$I$57) -> F | CG13: =((BH13*$BH$5)+(BI13*$BI$5)+(BJ13*$BJ$5)+(BK13*$BK$5)+(BL13*$BL$5)+(BM13*$BM$5)+(BN13*$BN$5)+(BO13*$BO$5)+(BP13*$BP$5)+(BQ13*$BQ$5)+(BR13*$BR$5)+(BS13*$BS$5)+(BT13*$BT$5)+(BU13*$BU$5)+(BV13*$BV$5)+(BW13*$BW$5)+(BX13*$BX$5)+(BY13*$BY$5)+(BZ13*$BZ$5)+(CA13*$CA$5)+(CB13*$CB$5)+(CC13*$CC$5)+(CD13*$CD$5)+(CE13*$CE$5)+(CF13*$CF$5))/(SUM($BH$5:$CF$5)) -> 0 | CH13: =LOOKUP(CG13,'Final Average'!$H$45:$I$57) -> F | DH13: =ROUND(((CI13*$CI$5)+(CJ13*$CJ$5)+(CK13*$CK$5)+(CL13*$CL$5)+(CM13*$CM$5)+(CN13*$CN$5)+(CO13*$CO$5)+(CP13*$CP$5)+(CQ13*$CQ$5)+(CR13*$CR$5)+(CS13*$CS$5)+(CT13*$CT$5)+(CU13*$CU$5)+(CV13*$CV$5)+(CW13*$CW$5)+(CX13*$CX$5)+(CY13*$CY$5)+(CZ13*$CZ$5)+(DA13*$DA$5)+(DB13*$DB$5)+(DC13*$DC$5)+(DD13*$DD$5)+(DE13*$DE$5)+(DF13*$DF$5)+(DG13*$DG$5))/(SUM($CI$5:$DG$5)),3) -> 0 | DI13: =LOOKUP(DH13,'Final Average'!$H$45:$I$57) -> F | EI13: =ROUND(((DJ13*$DJ$5)+(DK13*$DK$5)+(DL13*$DL$5)+(DM13*$DM$5)+(DN13*$DN$5)+(DO13*$DO$5)+(DP13*$DP$5)+(DQ13*$DQ$5)+(DR13*$DR$5)+(DS13*$DS$5)+(DT13*$DT$5)+(DU13*$DU$5)+(DV13*$DV$5)+(DW13*$DW$5)+(DX13*$DX$5)+(DY13*$DY$5)+(DZ13*$DZ$5)+(EA13*$EA$5)+(EB13*$EB$5)+(EC13*$EC$5)+(ED13*$ED$5)+(EE13*$EE$5)+(EF13*$EF$5)+(EG13*$EG$5)+(EH13*$EH$5))/(SUM($DJ$5:$EH$5)),3) -> 0 | EJ13: =LOOKUP(EI13,'Final Average'!$H$45:$I$57) -> F | FJ13: =ROUND(((EK13*$EK$5)+(EL13*$EL$5)+(EM13*$EM$5)+(EN13*$EN$5)+(EO13*$EO$5)+(EP13*$EP$5)+(EQ13*$EQ$5)+(ER13*$ER$5)+(ES13*$ES$5)+(ET13*$ET$5)+(EU13*$EU$5)+(EV13*$EV$5)+(EW13*$EW$5)+(EX13*$EX$5)+(EY13*$EY$5)+(EZ13*$EZ$5)+(FA13*$FA$5)+(FB13*$FB$5)+(FC13*$FC$5)+(FD13*$FD$5)+(FE13*$FE$5)+(FF13*$FF$5)+(FG13*$FG$5)+(FH13*$FH$5)+(FI13*$FI$5))/(SUM($EK$5:$FI$5)),3) -> 0 | FK13: =LOOKUP(FJ13,'Final Average'!$H$45:$I$57) -> F
A14: 8 | B14: =IF('1st Quarter'!B14>0,'1st Quarter'!B14,"") | C14: =IF('1st Quarter'!C14>0,'1st Quarter'!C14,"") | D14: =IF('1st Quarter'!D14>0,'1st Quarter'!D14,"") | AE14: =ROUND(((F14*$F$5)+(G14*$G$5)+(H14*$H$5)+(I14*$I$5)+(J14*$J$5)+(K14*$K$5)+(L14*$L$5)+(M14*$M$5)+(N14*$N$5)+(O14*$O$5)+(P14*$P$5)+(Q14*$Q$5)+(R14*$R$5)+(S14*$S$5)+(T14*$T$5)+(U14*$U$5)+(V14*$V$5)+(W14*$W$5)+(X14*$X$5)+(Y14*$Y$5)+(Z14*$Z$5)+(AA14*$AA$5)+(AB14*$AB$5)+(AC14*$AC$5)+(AD14*$AD$5))/(SUM($F$5:$AD$5)),3) -> 0 | AF14: =LOOKUP(AE14,'Final Average'!$H$45:$I$57) -> F | BF14: =ROUND(((AG14*$AG$5)+(AH14*$AH$5)+(AI14*$AI$5)+(AJ14*$AJ$5)+(AK14*$AK$5)+(AL14*$AL$5)+(AM14*$AM$5)+(AN14*$AN$5)+(AO14*$AO$5)+(AP14*$AP$5)+(AQ14*$AQ$5)+(AR14*$AR$5)+(AS14*$AS$5)+(AT14*$AT$5)+(AU14*$AU$5)+(AV14*$AV$5)+(AW14*$AW$5)+(AX14*$AX$5)+(AY14*$AY$5)+(AZ14*$AZ$5)+(BA14*$BA$5)+(BB14*$BB$5)+(BC14*$BC$5)+(BD14*$BD$5)+(BE14*$BE$5))/(SUM($AG$5:$BE$5)),3) -> 0 | BG14: =LOOKUP(BF14,'Final Average'!$H$45:$I$57) -> F | CG14: =((BH14*$BH$5)+(BI14*$BI$5)+(BJ14*$BJ$5)+(BK14*$BK$5)+(BL14*$BL$5)+(BM14*$BM$5)+(BN14*$BN$5)+(BO14*$BO$5)+(BP14*$BP$5)+(BQ14*$BQ$5)+(BR14*$BR$5)+(BS14*$BS$5)+(BT14*$BT$5)+(BU14*$BU$5)+(BV14*$BV$5)+(BW14*$BW$5)+(BX14*$BX$5)+(BY14*$BY$5)+(BZ14*$BZ$5)+(CA14*$CA$5)+(CB14*$CB$5)+(CC14*$CC$5)+(CD14*$CD$5)+(CE14*$CE$5)+(CF14*$CF$5))/(SUM($BH$5:$CF$5)) -> 0 | CH14: =LOOKUP(CG14,'Final Average'!$H$45:$I$57) -> F | DH14: =ROUND(((CI14*$CI$5)+(CJ14*$CJ$5)+(CK14*$CK$5)+(CL14*$CL$5)+(CM14*$CM$5)+(CN14*$CN$5)+(CO14*$CO$5)+(CP14*$CP$5)+(CQ14*$CQ$5)+(CR14*$CR$5)+(CS14*$CS$5)+(CT14*$CT$5)+(CU14*$CU$5)+(CV14*$CV$5)+(CW14*$CW$5)+(CX14*$CX$5)+(CY14*$CY$5)+(CZ14*$CZ$5)+(DA14*$DA$5)+(DB14*$DB$5)+(DC14*$DC$5)+(DD14*$DD$5)+(DE14*$DE$5)+(DF14*$DF$5)+(DG14*$DG$5))/(SUM($CI$5:$DG$5)),3) -> 0 | DI14: =LOOKUP(DH14,'Final Average'!$H$45:$I$57) -> F | EI14: =ROUND(((DJ14*$DJ$5)+(DK14*$DK$5)+(DL14*$DL$5)+(DM14*$DM$5)+(DN14*$DN$5)+(DO14*$DO$5)+(DP14*$DP$5)+(DQ14*$DQ$5)+(DR14*$DR$5)+(DS14*$DS$5)+(DT14*$DT$5)+(DU14*$DU$5)+(DV14*$DV$5)+(DW14*$DW$5)+(DX14*$DX$5)+(DY14*$DY$5)+(DZ14*$DZ$5)+(EA14*$EA$5)+(EB14*$EB$5)+(EC14*$EC$5)+(ED14*$ED$5)+(EE14*$EE$5)+(EF14*$EF$5)+(EG14*$EG$5)+(EH14*$EH$5))/(SUM($DJ$5:$EH$5)),3) -> 0 | EJ14: =LOOKUP(EI14,'Final Average'!$H$45:$I$57) -> F | FJ14: =ROUND(((EK14*$EK$5)+(EL14*$EL$5)+(EM14*$EM$5)+(EN14*$EN$5)+(EO14*$EO$5)+(EP14*$EP$5)+(EQ14*$EQ$5)+(ER14*$ER$5)+(ES14*$ES$5)+(ET14*$ET$5)+(EU14*$EU$5)+(EV14*$EV$5)+(EW14*$EW$5)+(EX14*$EX$5)+(EY14*$EY$5)+(EZ14*$EZ$5)+(FA14*$FA$5)+(FB14*$FB$5)+(FC14*$FC$5)+(FD14*$FD$5)+(FE14*$FE$5)+(FF14*$FF$5)+(FG14*$FG$5)+(FH14*$FH$5)+(FI14*$FI$5))/(SUM($EK$5:$FI$5)),3) -> 0 | FK14: =LOOKUP(FJ14,'Final Average'!$H$45:$I$57) -> F
A15: 9 | B15: =IF('1st Quarter'!B15>0,'1st Quarter'!B15,"") | C15: =IF('1st Quarter'!C15>0,'1st Quarter'!C15,"") | D15: =IF('1st Quarter'!D15>0,'1st Quarter'!D15,"") | AE15: =ROUND(((F15*$F$5)+(G15*$G$5)+(H15*$H$5)+(I15*$I$5)+(J15*$J$5)+(K15*$K$5)+(L15*$L$5)+(M15*$M$5)+(N15*$N$5)+(O15*$O$5)+(P15*$P$5)+(Q15*$Q$5)+(R15*$R$5)+(S15*$S$5)+(T15*$T$5)+(U15*$U$5)+(V15*$V$5)+(W15*$W$5)+(X15*$X$5)+(Y15*$Y$5)+(Z15*$Z$5)+(AA15*$AA$5)+(AB15*$AB$5)+(AC15*$AC$5)+(AD15*$AD$5))/(SUM($F$5:$AD$5)),3) -> 0 | AF15: =LOOKUP(AE15,'Final Average'!$H$45:$I$57) -> F | BF15: =ROUND(((AG15*$AG$5)+(AH15*$AH$5)+(AI15*$AI$5)+(AJ15*$AJ$5)+(AK15*$AK$5)+(AL15*$AL$5)+(AM15*$AM$5)+(AN15*$AN$5)+(AO15*$AO$5)+(AP15*$AP$5)+(AQ15*$AQ$5)+(AR15*$AR$5)+(AS15*$AS$5)+(AT15*$AT$5)+(AU15*$AU$5)+(AV15*$AV$5)+(AW15*$AW$5)+(AX15*$AX$5)+(AY15*$AY$5)+(AZ15*$AZ$5)+(BA15*$BA$5)+(BB15*$BB$5)+(BC15*$BC$5)+(BD15*$BD$5)+(BE15*$BE$5))/(SUM($AG$5:$BE$5)),3) -> 0 | BG15: =LOOKUP(BF15,'Final Average'!$H$45:$I$57) -> F | CG15: =((BH15*$BH$5)+(BI15*$BI$5)+(BJ15*$BJ$5)+(BK15*$BK$5)+(BL15*$BL$5)+(BM15*$BM$5)+(BN15*$BN$5)+(BO15*$BO$5)+(BP15*$BP$5)+(BQ15*$BQ$5)+(BR15*$BR$5)+(BS15*$BS$5)+(BT15*$BT$5)+(BU15*$BU$5)+(BV15*$BV$5)+(BW15*$BW$5)+(BX15*$BX$5)+(BY15*$BY$5)+(BZ15*$BZ$5)+(CA15*$CA$5)+(CB15*$CB$5)+(CC15*$CC$5)+(CD15*$CD$5)+(CE15*$CE$5)+(CF15*$CF$5))/(SUM($BH$5:$CF$5)) -> 0 | CH15: =LOOKUP(CG15,'Final Average'!$H$45:$I$57) -> F | DH15: =ROUND(((CI15*$CI$5)+(CJ15*$CJ$5)+(CK15*$CK$5)+(CL15*$CL$5)+(CM15*$CM$5)+(CN15*$CN$5)+(CO15*$CO$5)+(CP15*$CP$5)+(CQ15*$CQ$5)+(CR15*$CR$5)+(CS15*$CS$5)+(CT15*$CT$5)+(CU15*$CU$5)+(CV15*$CV$5)+(CW15*$CW$5)+(CX15*$CX$5)+(CY15*$CY$5)+(CZ15*$CZ$5)+(DA15*$DA$5)+(DB15*$DB$5)+(DC15*$DC$5)+(DD15*$DD$5)+(DE15*$DE$5)+(DF15*$DF$5)+(DG15*$DG$5))/(SUM($CI$5:$DG$5)),3) -> 0 | DI15: =LOOKUP(DH15,'Final Average'!$H$45:$I$57) -> F | EI15: =ROUND(((DJ15*$DJ$5)+(DK15*$DK$5)+(DL15*$DL$5)+(DM15*$DM$5)+(DN15*$DN$5)+(DO15*$DO$5)+(DP15*$DP$5)+(DQ15*$DQ$5)+(DR15*$DR$5)+(DS15*$DS$5)+(DT15*$DT$5)+(DU15*$DU$5)+(DV15*$DV$5)+(DW15*$DW$5)+(DX15*$DX$5)+(DY15*$DY$5)+(DZ15*$DZ$5)+(EA15*$EA$5)+(EB15*$EB$5)+(EC15*$EC$5)+(ED15*$ED$5)+(EE15*$EE$5)+(EF15*$EF$5)+(EG15*$EG$5)+(EH15*$EH$5))/(SUM($DJ$5:$EH$5)),3) -> 0 | EJ15: =LOOKUP(EI15,'Final Average'!$H$45:$I$57) -> F | FJ15: =ROUND(((EK15*$EK$5)+(EL15*$EL$5)+(EM15*$EM$5)+(EN15*$EN$5)+(EO15*$EO$5)+(EP15*$EP$5)+(EQ15*$EQ$5)+(ER15*$ER$5)+(ES15*$ES$5)+(ET15*$ET$5)+(EU15*$EU$5)+(EV15*$EV$5)+(EW15*$EW$5)+(EX15*$EX$5)+(EY15*$EY$5)+(EZ15*$EZ$5)+(FA15*$FA$5)+(FB15*$FB$5)+(FC15*$FC$5)+(FD15*$FD$5)+(FE15*$FE$5)+(FF15*$FF$5)+(FG15*$FG$5)+(FH15*$FH$5)+(FI15*$FI$5))/(SUM($EK$5:$FI$5)),3) -> 0 | FK15: =LOOKUP(FJ15,'Final Average'!$H$45:$I$57) -> F
A16: 10 | B16: =IF('1st Quarter'!B16>0,'1st Quarter'!B16,"") | C16: =IF('1st Quarter'!C16>0,'1st Quarter'!C16,"") | D16: =IF('1st Quarter'!D16>0,'1st Quarter'!D16,"") | AE16: =ROUND(((F16*$F$5)+(G16*$G$5)+(H16*$H$5)+(I16*$I$5)+(J16*$J$5)+(K16*$K$5)+(L16*$L$5)+(M16*$M$5)+(N16*$N$5)+(O16*$O$5)+(P16*$P$5)+(Q16*$Q$5)+(R16*$R$5)+(S16*$S$5)+(T16*$T$5)+(U16*$U$5)+(V16*$V$5)+(W16*$W$5)+(X16*$X$5)+(Y16*$Y$5)+(Z16*$Z$5)+(AA16*$AA$5)+(AB16*$AB$5)+(AC16*$AC$5)+(AD16*$AD$5))/(SUM($F$5:$AD$5)),3) -> 0 | AF16: =LOOKUP(AE16,'Final Average'!$H$45:$I$57) -> F | BF16: =ROUND(((AG16*$AG$5)+(AH16*$AH$5)+(AI16*$AI$5)+(AJ16*$AJ$5)+(AK16*$AK$5)+(AL16*$AL$5)+(AM16*$AM$5)+(AN16*$AN$5)+(AO16*$AO$5)+(AP16*$AP$5)+(AQ16*$AQ$5)+(AR16*$AR$5)+(AS16*$AS$5)+(AT16*$AT$5)+(AU16*$AU$5)+(AV16*$AV$5)+(AW16*$AW$5)+(AX16*$AX$5)+(AY16*$AY$5)+(AZ16*$AZ$5)+(BA16*$BA$5)+(BB16*$BB$5)+(BC16*$BC$5)+(BD16*$BD$5)+(BE16*$BE$5))/(SUM($AG$5:$BE$5)),3) -> 0 | BG16: =LOOKUP(BF16,'Final Average'!$H$45:$I$57) -> F | CG16: =((BH16*$BH$5)+(BI16*$BI$5)+(BJ16*$BJ$5)+(BK16*$BK$5)+(BL16*$BL$5)+(BM16*$BM$5)+(BN16*$BN$5)+(BO16*$BO$5)+(BP16*$BP$5)+(BQ16*$BQ$5)+(BR16*$BR$5)+(BS16*$BS$5)+(BT16*$BT$5)+(BU16*$BU$5)+(BV16*$BV$5)+(BW16*$BW$5)+(BX16*$BX$5)+(BY16*$BY$5)+(BZ16*$BZ$5)+(CA16*$CA$5)+(CB16*$CB$5)+(CC16*$CC$5)+(CD16*$CD$5)+(CE16*$CE$5)+(CF16*$CF$5))/(SUM($BH$5:$CF$5)) -> 0 | CH16: =LOOKUP(CG16,'Final Average'!$H$45:$I$57) -> F | DH16: =ROUND(((CI16*$CI$5)+(CJ16*$CJ$5)+(CK16*$CK$5)+(CL16*$CL$5)+(CM16*$CM$5)+(CN16*$CN$5)+(CO16*$CO$5)+(CP16*$CP$5)+(CQ16*$CQ$5)+(CR16*$CR$5)+(CS16*$CS$5)+(CT16*$CT$5)+(CU16*$CU$5)+(CV16*$CV$5)+(CW16*$CW$5)+(CX16*$CX$5)+(CY16*$CY$5)+(CZ16*$CZ$5)+(DA16*$DA$5)+(DB16*$DB$5)+(DC16*$DC$5)+(DD16*$DD$5)+(DE16*$DE$5)+(DF16*$DF$5)+(DG16*$DG$5))/(SUM($CI$5:$DG$5)),3) -> 0 | DI16: =LOOKUP(DH16,'Final Average'!$H$45:$I$57) -> F | EI16: =ROUND(((DJ16*$DJ$5)+(DK16*$DK$5)+(DL16*$DL$5)+(DM16*$DM$5)+(DN16*$DN$5)+(DO16*$DO$5)+(DP16*$DP$5)+(DQ16*$DQ$5)+(DR16*$DR$5)+(DS16*$DS$5)+(DT16*$DT$5)+(DU16*$DU$5)+(DV16*$DV$5)+(DW16*$DW$5)+(DX16*$DX$5)+(DY16*$DY$5)+(DZ16*$DZ$5)+(EA16*$EA$5)+(EB16*$EB$5)+(EC16*$EC$5)+(ED16*$ED$5)+(EE16*$EE$5)+(EF16*$EF$5)+(EG16*$EG$5)+(EH16*$EH$5))/(SUM($DJ$5:$EH$5)),3) -> 0 | EJ16: =LOOKUP(EI16,'Final Average'!$H$45:$I$57) -> F | FJ16: =ROUND(((EK16*$EK$5)+(EL16*$EL$5)+(EM16*$EM$5)+(EN16*$EN$5)+(EO16*$EO$5)+(EP16*$EP$5)+(EQ16*$EQ$5)+(ER16*$ER$5)+(ES16*$ES$5)+(ET16*$ET$5)+(EU16*$EU$5)+(EV16*$EV$5)+(EW16*$EW$5)+(EX16*$EX$5)+(EY16*$EY$5)+(EZ16*$EZ$5)+(FA16*$FA$5)+(FB16*$FB$5)+(FC16*$FC$5)+(FD16*$FD$5)+(FE16*$FE$5)+(FF16*$FF$5)+(FG16*$FG$5)+(FH16*$FH$5)+(FI16*$FI$5))/(SUM($EK$5:$FI$5)),3) -> 0 | FK16: =LOOKUP(FJ16,'Final Average'!$H$45:$I$57) -> F
A17: 11 | B17: =IF('1st Quarter'!B17>0,'1st Quarter'!B17,"") | C17: =IF('1st Quarter'!C17>0,'1st Quarter'!C17,"") | D17: =IF('1st Quarter'!D17>0,'1st Quarter'!D17,"") | AE17: =ROUND(((F17*$F$5)+(G17*$G$5)+(H17*$H$5)+(I17*$I$5)+(J17*$J$5)+(K17*$K$5)+(L17*$L$5)+(M17*$M$5)+(N17*$N$5)+(O17*$O$5)+(P17*$P$5)+(Q17*$Q$5)+(R17*$R$5)+(S17*$S$5)+(T17*$T$5)+(U17*$U$5)+(V17*$V$5)+(W17*$W$5)+(X17*$X$5)+(Y17*$Y$5)+(Z17*$Z$5)+(AA17*$AA$5)+(AB17*$AB$5)+(AC17*$AC$5)+(AD17*$AD$5))/(SUM($F$5:$AD$5)),3) -> 0 | AF17: =LOOKUP(AE17,'Final Average'!$H$45:$I$57) -> F | BF17: =ROUND(((AG17*$AG$5)+(AH17*$AH$5)+(AI17*$AI$5)+(AJ17*$AJ$5)+(AK17*$AK$5)+(AL17*$AL$5)+(AM17*$AM$5)+(AN17*$AN$5)+(AO17*$AO$5)+(AP17*$AP$5)+(AQ17*$AQ$5)+(AR17*$AR$5)+(AS17*$AS$5)+(AT17*$AT$5)+(AU17*$AU$5)+(AV17*$AV$5)+(AW17*$AW$5)+(AX17*$AX$5)+(AY17*$AY$5)+(AZ17*$AZ$5)+(BA17*$BA$5)+(BB17*$BB$5)+(BC17*$BC$5)+(BD17*$BD$5)+(BE17*$BE$5))/(SUM($AG$5:$BE$5)),3) -> 0 | BG17: =LOOKUP(BF17,'Final Average'!$H$45:$I$57) -> F | CG17: =((BH17*$BH$5)+(BI17*$BI$5)+(BJ17*$BJ$5)+(BK17*$BK$5)+(BL17*$BL$5)+(BM17*$BM$5)+(BN17*$BN$5)+(BO17*$BO$5)+(BP17*$BP$5)+(BQ17*$BQ$5)+(BR17*$BR$5)+(BS17*$BS$5)+(BT17*$BT$5)+(BU17*$BU$5)+(BV17*$BV$5)+(BW17*$BW$5)+(BX17*$BX$5)+(BY17*$BY$5)+(BZ17*$BZ$5)+(CA17*$CA$5)+(CB17*$CB$5)+(CC17*$CC$5)+(CD17*$CD$5)+(CE17*$CE$5)+(CF17*$CF$5))/(SUM($BH$5:$CF$5)) -> 0 | CH17: =LOOKUP(CG17,'Final Average'!$H$45:$I$57) -> F | DH17: =ROUND(((CI17*$CI$5)+(CJ17*$CJ$5)+(CK17*$CK$5)+(CL17*$CL$5)+(CM17*$CM$5)+(CN17*$CN$5)+(CO17*$CO$5)+(CP17*$CP$5)+(CQ17*$CQ$5)+(CR17*$CR$5)+(CS17*$CS$5)+(CT17*$CT$5)+(CU17*$CU$5)+(CV17*$CV$5)+(CW17*$CW$5)+(CX17*$CX$5)+(CY17*$CY$5)+(CZ17*$CZ$5)+(DA17*$DA$5)+(DB17*$DB$5)+(DC17*$DC$5)+(DD17*$DD$5)+(DE17*$DE$5)+(DF17*$DF$5)+(DG17*$DG$5))/(SUM($CI$5:$DG$5)),3) -> 0 | DI17: =LOOKUP(DH17,'Final Average'!$H$45:$I$57) -> F | EI17: =ROUND(((DJ17*$DJ$5)+(DK17*$DK$5)+(DL17*$DL$5)+(DM17*$DM$5)+(DN17*$DN$5)+(DO17*$DO$5)+(DP17*$DP$5)+(DQ17*$DQ$5)+(DR17*$DR$5)+(DS17*$DS$5)+(DT17*$DT$5)+(DU17*$DU$5)+(DV17*$DV$5)+(DW17*$DW$5)+(DX17*$DX$5)+(DY17*$DY$5)+(DZ17*$DZ$5)+(EA17*$EA$5)+(EB17*$EB$5)+(EC17*$EC$5)+(ED17*$ED$5)+(EE17*$EE$5)+(EF17*$EF$5)+(EG17*$EG$5)+(EH17*$EH$5))/(SUM($DJ$5:$EH$5)),3) -> 0 | EJ17: =LOOKUP(EI17,'Final Average'!$H$45:$I$57) -> F | FJ17: =ROUND(((EK17*$EK$5)+(EL17*$EL$5)+(EM17*$EM$5)+(EN17*$EN$5)+(EO17*$EO$5)+(EP17*$EP$5)+(EQ17*$EQ$5)+(ER17*$ER$5)+(ES17*$ES$5)+(ET17*$ET$5)+(EU17*$EU$5)+(EV17*$EV$5)+(EW17*$EW$5)+(EX17*$EX$5)+(EY17*$EY$5)+(EZ17*$EZ$5)+(FA17*$FA$5)+(FB17*$FB$5)+(FC17*$FC$5)+(FD17*$FD$5)+(FE17*$FE$5)+(FF17*$FF$5)+(FG17*$FG$5)+(FH17*$FH$5)+(FI17*$FI$5))/(SUM($EK$5:$FI$5)),3) -> 0 | FK17: =LOOKUP(FJ17,'Final Average'!$H$45:$I$57) -> F
A18: 12 | B18: =IF('1st Quarter'!B18>0,'1st Quarter'!B18,"") | C18: =IF('1st Quarter'!C18>0,'1st Quarter'!C18,"") | D18: =IF('1st Quarter'!D18>0,'1st Quarter'!D18,"") | AE18: =ROUND(((F18*$F$5)+(G18*$G$5)+(H18*$H$5)+(I18*$I$5)+(J18*$J$5)+(K18*$K$5)+(L18*$L$5)+(M18*$M$5)+(N18*$N$5)+(O18*$O$5)+(P18*$P$5)+(Q18*$Q$5)+(R18*$R$5)+(S18*$S$5)+(T18*$T$5)+(U18*$U$5)+(V18*$V$5)+(W18*$W$5)+(X18*$X$5)+(Y18*$Y$5)+(Z18*$Z$5)+(AA18*$AA$5)+(AB18*$AB$5)+(AC18*$AC$5)+(AD18*$AD$5))/(SUM($F$5:$AD$5)),3) -> 0 | AF18: =LOOKUP(AE18,'Final Average'!$H$45:$I$57) -> F | BF18: =ROUND(((AG18*$AG$5)+(AH18*$AH$5)+(AI18*$AI$5)+(AJ18*$AJ$5)+(AK18*$AK$5)+(AL18*$AL$5)+(AM18*$AM$5)+(AN18*$AN$5)+(AO18*$AO$5)+(AP18*$AP$5)+(AQ18*$AQ$5)+(AR18*$AR$5)+(AS18*$AS$5)+(AT18*$AT$5)+(AU18*$AU$5)+(AV18*$AV$5)+(AW18*$AW$5)+(AX18*$AX$5)+(AY18*$AY$5)+(AZ18*$AZ$5)+(BA18*$BA$5)+(BB18*$BB$5)+(BC18*$BC$5)+(BD18*$BD$5)+(BE18*$BE$5))/(SUM($AG$5:$BE$5)),3) -> 0 | BG18: =LOOKUP(BF18,'Final Average'!$H$45:$I$57) -> F | CG18: =((BH18*$BH$5)+(BI18*$BI$5)+(BJ18*$BJ$5)+(BK18*$BK$5)+(BL18*$BL$5)+(BM18*$BM$5)+(BN18*$BN$5)+(BO18*$BO$5)+(BP18*$BP$5)+(BQ18*$BQ$5)+(BR18*$BR$5)+(BS18*$BS$5)+(BT18*$BT$5)+(BU18*$BU$5)+(BV18*$BV$5)+(BW18*$BW$5)+(BX18*$BX$5)+(BY18*$BY$5)+(BZ18*$BZ$5)+(CA18*$CA$5)+(CB18*$CB$5)+(CC18*$CC$5)+(CD18*$CD$5)+(CE18*$CE$5)+(CF18*$CF$5))/(SUM($BH$5:$CF$5)) -> 0 | CH18: =LOOKUP(CG18,'Final Average'!$H$45:$I$57) -> F | DH18: =ROUND(((CI18*$CI$5)+(CJ18*$CJ$5)+(CK18*$CK$5)+(CL18*$CL$5)+(CM18*$CM$5)+(CN18*$CN$5)+(CO18*$CO$5)+(CP18*$CP$5)+(CQ18*$CQ$5)+(CR18*$CR$5)+(CS18*$CS$5)+(CT18*$CT$5)+(CU18*$CU$5)+(CV18*$CV$5)+(CW18*$CW$5)+(CX18*$CX$5)+(CY18*$CY$5)+(CZ18*$CZ$5)+(DA18*$DA$5)+(DB18*$DB$5)+(DC18*$DC$5)+(DD18*$DD$5)+(DE18*$DE$5)+(DF18*$DF$5)+(DG18*$DG$5))/(SUM($CI$5:$DG$5)),3) -> 0 | DI18: =LOOKUP(DH18,'Final Average'!$H$45:$I$57) -> F | EI18: =ROUND(((DJ18*$DJ$5)+(DK18*$DK$5)+(DL18*$DL$5)+(DM18*$DM$5)+(DN18*$DN$5)+(DO18*$DO$5)+(DP18*$DP$5)+(DQ18*$DQ$5)+(DR18*$DR$5)+(DS18*$DS$5)+(DT18*$DT$5)+(DU18*$DU$5)+(DV18*$DV$5)+(DW18*$DW$5)+(DX18*$DX$5)+(DY18*$DY$5)+(DZ18*$DZ$5)+(EA18*$EA$5)+(EB18*$EB$5)+(EC18*$EC$5)+(ED18*$ED$5)+(EE18*$EE$5)+(EF18*$EF$5)+(EG18*$EG$5)+(EH18*$EH$5))/(SUM($DJ$5:$EH$5)),3) -> 0 | EJ18: =LOOKUP(EI18,'Final Average'!$H$45:$I$57) -> F | FJ18: =ROUND(((EK18*$EK$5)+(EL18*$EL$5)+(EM18*$EM$5)+(EN18*$EN$5)+(EO18*$EO$5)+(EP18*$EP$5)+(EQ18*$EQ$5)+(ER18*$ER$5)+(ES18*$ES$5)+(ET18*$ET$5)+(EU18*$EU$5)+(EV18*$EV$5)+(EW18*$EW$5)+(EX18*$EX$5)+(EY18*$EY$5)+(EZ18*$EZ$5)+(FA18*$FA$5)+(FB18*$FB$5)+(FC18*$FC$5)+(FD18*$FD$5)+(FE18*$FE$5)+(FF18*$FF$5)+(FG18*$FG$5)+(FH18*$FH$5)+(FI18*$FI$5))/(SUM($EK$5:$FI$5)),3) -> 0 | FK18: =LOOKUP(FJ18,'Final Average'!$H$45:$I$57) -> F
A19: 13 | B19: =IF('1st Quarter'!B19>0,'1st Quarter'!B19,"") | C19: =IF('1st Quarter'!C19>0,'1st Quarter'!C19,"") | D19: =IF('1st Quarter'!D19>0,'1st Quarter'!D19,"") | AE19: =ROUND(((F19*$F$5)+(G19*$G$5)+(H19*$H$5)+(I19*$I$5)+(J19*$J$5)+(K19*$K$5)+(L19*$L$5)+(M19*$M$5)+(N19*$N$5)+(O19*$O$5)+(P19*$P$5)+(Q19*$Q$5)+(R19*$R$5)+(S19*$S$5)+(T19*$T$5)+(U19*$U$5)+(V19*$V$5)+(W19*$W$5)+(X19*$X$5)+(Y19*$Y$5)+(Z19*$Z$5)+(AA19*$AA$5)+(AB19*$AB$5)+(AC19*$AC$5)+(AD19*$AD$5))/(SUM($F$5:$AD$5)),3) -> 0 | AF19: =LOOKUP(AE19,'Final Average'!$H$45:$I$57) -> F | BF19: =ROUND(((AG19*$AG$5)+(AH19*$AH$5)+(AI19*$AI$5)+(AJ19*$AJ$5)+(AK19*$AK$5)+(AL19*$AL$5)+(AM19*$AM$5)+(AN19*$AN$5)+(AO19*$AO$5)+(AP19*$AP$5)+(AQ19*$AQ$5)+(AR19*$AR$5)+(AS19*$AS$5)+(AT19*$AT$5)+(AU19*$AU$5)+(AV19*$AV$5)+(AW19*$AW$5)+(AX19*$AX$5)+(AY19*$AY$5)+(AZ19*$AZ$5)+(BA19*$BA$5)+(BB19*$BB$5)+(BC19*$BC$5)+(BD19*$BD$5)+(BE19*$BE$5))/(SUM($AG$5:$BE$5)),3) -> 0 | BG19: =LOOKUP(BF19,'Final Average'!$H$45:$I$57) -> F | CG19: =((BH19*$BH$5)+(BI19*$BI$5)+(BJ19*$BJ$5)+(BK19*$BK$5)+(BL19*$BL$5)+(BM19*$BM$5)+(BN19*$BN$5)+(BO19*$BO$5)+(BP19*$BP$5)+(BQ19*$BQ$5)+(BR19*$BR$5)+(BS19*$BS$5)+(BT19*$BT$5)+(BU19*$BU$5)+(BV19*$BV$5)+(BW19*$BW$5)+(BX19*$BX$5)+(BY19*$BY$5)+(BZ19*$BZ$5)+(CA19*$CA$5)+(CB19*$CB$5)+(CC19*$CC$5)+(CD19*$CD$5)+(CE19*$CE$5)+(CF19*$CF$5))/(SUM($BH$5:$CF$5)) -> 0 | CH19: =LOOKUP(CG19,'Final Average'!$H$45:$I$57) -> F | DH19: =ROUND(((CI19*$CI$5)+(CJ19*$CJ$5)+(CK19*$CK$5)+(CL19*$CL$5)+(CM19*$CM$5)+(CN19*$CN$5)+(CO19*$CO$5)+(CP19*$CP$5)+(CQ19*$CQ$5)+(CR19*$CR$5)+(CS19*$CS$5)+(CT19*$CT$5)+(CU19*$CU$5)+(CV19*$CV$5)+(CW19*$CW$5)+(CX19*$CX$5)+(CY19*$CY$5)+(CZ19*$CZ$5)+(DA19*$DA$5)+(DB19*$DB$5)+(DC19*$DC$5)+(DD19*$DD$5)+(DE19*$DE$5)+(DF19*$DF$5)+(DG19*$DG$5))/(SUM($CI$5:$DG$5)),3) -> 0 | DI19: =LOOKUP(DH19,'Final Average'!$H$45:$I$57) -> F | EI19: =ROUND(((DJ19*$DJ$5)+(DK19*$DK$5)+(DL19*$DL$5)+(DM19*$DM$5)+(DN19*$DN$5)+(DO19*$DO$5)+(DP19*$DP$5)+(DQ19*$DQ$5)+(DR19*$DR$5)+(DS19*$DS$5)+(DT19*$DT$5)+(DU19*$DU$5)+(DV19*$DV$5)+(DW19*$DW$5)+(DX19*$DX$5)+(DY19*$DY$5)+(DZ19*$DZ$5)+(EA19*$EA$5)+(EB19*$EB$5)+(EC19*$EC$5)+(ED19*$ED$5)+(EE19*$EE$5)+(EF19*$EF$5)+(EG19*$EG$5)+(EH19*$EH$5))/(SUM($DJ$5:$EH$5)),3) -> 0 | EJ19: =LOOKUP(EI19,'Final Average'!$H$45:$I$57) -> F | FJ19: =ROUND(((EK19*$EK$5)+(EL19*$EL$5)+(EM19*$EM$5)+(EN19*$EN$5)+(EO19*$EO$5)+(EP19*$EP$5)+(EQ19*$EQ$5)+(ER19*$ER$5)+(ES19*$ES$5)+(ET19*$ET$5)+(EU19*$EU$5)+(EV19*$EV$5)+(EW19*$EW$5)+(EX19*$EX$5)+(EY19*$EY$5)+(EZ19*$EZ$5)+(FA19*$FA$5)+(FB19*$FB$5)+(FC19*$FC$5)+(FD19*$FD$5)+(FE19*$FE$5)+(FF19*$FF$5)+(FG19*$FG$5)+(FH19*$FH$5)+(FI19*$FI$5))/(SUM($EK$5:$FI$5)),3) -> 0 | FK19: =LOOKUP(FJ19,'Final Average'!$H$45:$I$57) -> F
... A41: 35 | B41: =IF('1st Quarter'!B41>0,'1st Quarter'!B41,"") | C41: =IF('1st Quarter'!C41>0,'1st Quarter'!C41,"") | D41: =IF('1st Quarter'!D41>0,'1st Quarter'!D41,"") | AE41: =ROUND(((F41*$F$5)+(G41*$G$5)+(H41*$H$5)+(I41*$I$5)+(J41*$J$5)+(K41*$K$5)+(L41*$L$5)+(M41*$M$5)+(N41*$N$5)+(O41*$O$5)+(P41*$P$5)+(Q41*$Q$5)+(R41*$R$5)+(S41*$S$5)+(T41*$T$5)+(U41*$U$5)+(V41*$V$5)+(W41*$W$5)+(X41*$X$5)+(Y41*$Y$5)+(Z41*$Z$5)+(AA41*$AA$5)+(AB41*$AB$5)+(AC41*$AC$5)+(AD41*$AD$5))/(SUM($F$5:$AD$5)),3) -> 0 | AF41: =LOOKUP(AE41,'Final Average'!$H$45:$I$57) -> F | BF41: =ROUND(((AG41*$AG$5)+(AH41*$AH$5)+(AI41*$AI$5)+(AJ41*$AJ$5)+(AK41*$AK$5)+(AL41*$AL$5)+(AM41*$AM$5)+(AN41*$AN$5)+(AO41*$AO$5)+(AP41*$AP$5)+(AQ41*$AQ$5)+(AR41*$AR$5)+(AS41*$AS$5)+(AT41*$AT$5)+(AU41*$AU$5)+(AV41*$AV$5)+(AW41*$AW$5)+(AX41*$AX$5)+(AY41*$AY$5)+(AZ41*$AZ$5)+(BA41*$BA$5)+(BB41*$BB$5)+(BC41*$BC$5)+(BD41*$BD$5)+(BE41*$BE$5))/(SUM($AG$5:$BE$5)),3) -> 0 | BG41: =LOOKUP(BF41,'Final Average'!$H$45:$I$57) -> F | CG41: =((BH41*$BH$5)+(BI41*$BI$5)+(BJ41*$BJ$5)+(BK41*$BK$5)+(BL41*$BL$5)+(BM41*$BM$5)+(BN41*$BN$5)+(BO41*$BO$5)+(BP41*$BP$5)+(BQ41*$BQ$5)+(BR41*$BR$5)+(BS41*$BS$5)+(BT41*$BT$5)+(BU41*$BU$5)+(BV41*$BV$5)+(BW41*$BW$5)+(BX41*$BX$5)+(BY41*$BY$5)+(BZ41*$BZ$5)+(CA41*$CA$5)+(CB41*$CB$5)+(CC41*$CC$5)+(CD41*$CD$5)+(CE41*$CE$5)+(CF41*$CF$5))/(SUM($BH$5:$CF$5)) -> 0 | CH41: =LOOKUP(CG41,'Final Average'!$H$45:$I$57) -> F | DH41: =ROUND(((CI41*$CI$5)+(CJ41*$CJ$5)+(CK41*$CK$5)+(CL41*$CL$5)+(CM41*$CM$5)+(CN41*$CN$5)+(CO41*$CO$5)+(CP41*$CP$5)+(CQ41*$CQ$5)+(CR41*$CR$5)+(CS41*$CS$5)+(CT41*$CT$5)+(CU41*$CU$5)+(CV41*$CV$5)+(CW41*$CW$5)+(CX41*$CX$5)+(CY41*$CY$5)+(CZ41*$CZ$5)+(DA41*$DA$5)+(DB41*$DB$5)+(DC41*$DC$5)+(DD41*$DD$5)+(DE41*$DE$5)+(DF41*$DF$5)+(DG41*$DG$5))/(SUM($CI$5:$DG$5)),3) -> 0 | DI41: =LOOKUP(DH41,'Final Average'!$H$45:$I$57) -> F | EI41: =ROUND(((DJ41*$DJ$5)+(DK41*$DK$5)+(DL41*$DL$5)+(DM41*$DM$5)+(DN41*$DN$5)+(DO41*$DO$5)+(DP41*$DP$5)+(DQ41*$DQ$5)+(DR41*$DR$5)+(DS41*$DS$5)+(DT41*$DT$5)+(DU41*$DU$5)+(DV41*$DV$5)+(DW41*$DW$5)+(DX41*$DX$5)+(DY41*$DY$5)+(DZ41*$DZ$5)+(EA41*$EA$5)+(EB41*$EB$5)+(EC41*$EC$5)+(ED41*$ED$5)+(EE41*$EE$5)+(EF41*$EF$5)+(EG41*$EG$5)+(EH41*$EH$5))/(SUM($DJ$5:$EH$5)),3) -> 0 | EJ41: =LOOKUP(EI41,'Final Average'!$H$45:$I$57) -> F | FJ41: =ROUND(((EK41*$EK$5)+(EL41*$EL$5)+(EM41*$EM$5)+(EN41*$EN$5)+(EO41*$EO$5)+(EP41*$EP$5)+(EQ41*$EQ$5)+(ER41*$ER$5)+(ES41*$ES$5)+(ET41*$ET$5)+(EU41*$EU$5)+(EV41*$EV$5)+(EW41*$EW$5)+(EX41*$EX$5)+(EY41*$EY$5)+(EZ41*$EZ$5)+(FA41*$FA$5)+(FB41*$FB$5)+(FC41*$FC$5)+(FD41*$FD$5)+(FE41*$FE$5)+(FF41*$FF$5)+(FG41*$FG$5)+(FH41*$FH$5)+(FI41*$FI$5))/(SUM($EK$5:$FI$5)),3) -> 0 | FK41: =LOOKUP(FJ41,'Final Average'!$H$45:$I$57) -> F
A42: Class Average | F42: =AVERAGE(F7:F41) -> #DIV/0! | G42: =AVERAGE(G7:G41) -> #DIV/0! | H42: =AVERAGE(H7:H41) -> #DIV/0! | I42: =AVERAGE(I7:I41) -> #DIV/0! | J42: =AVERAGE(J7:J41) -> #DIV/0! | K42: =AVERAGE(K7:K41) -> #DIV/0! | L42: =AVERAGE(L7:L41) -> #DIV/0! | M42: =AVERAGE(M7:M41) -> #DIV/0! | ... AD42: =AVERAGE(AD7:AD41) -> #DIV/0! | AE42: =SUM(AE7:AE41)/Basics!$E$6 -> #VALUE! | AF42: =LOOKUP(AE42,'Final Average'!$H$45:$I$57) -> #VALUE! | AG42: =AVERAGE(AG7:AG41) -> #DIV/0! | AH42: =AVERAGE(AH7:AH41) -> #DIV/0! | AI42: =AVERAGE(AI7:AI41) -> #DIV/0! | AJ42: =AVERAGE(AJ7:AJ41) -> #DIV/0! | AK42: =AVERAGE(AK7:AK41) -> #DIV/0! | AL42: =AVERAGE(AL7:AL41) -> #DIV/0! | AM42: =AVERAGE(AM7:AM41) -> #DIV/0! | AN42: =AVERAGE(AN7:AN41) -> #DIV/0! | ... BE42: =AVERAGE(BE7:BE41) -> #DIV/0! | BF42: =SUM(BF7:BF41)/Basics!$E$6 -> #VALUE! | BG42: =LOOKUP(BF42,'Final Average'!$H$45:$I$57) -> #VALUE! | BH42: =AVERAGE(BH7:BH41) -> #DIV/0! | BI42: =AVERAGE(BI7:BI41) -> #DIV/0! | BJ42: =AVERAGE(BJ7:BJ41) -> #DIV/0! | BK42: =AVERAGE(BK7:BK41) -> #DIV/0! | BL42: =AVERAGE(BL7:BL41) -> #DIV/0! | BM42: =AVERAGE(BM7:BM41) -> #DIV/0! | BN42: =AVERAGE(BN7:BN41) -> #DIV/0! | BO42: =AVERAGE(BO7:BO41) -> #DIV/0! | ... CF42: =AVERAGE(CF7:CF41) -> #DIV/0! | CG42: =SUM(CG7:CG41)/Basics!$E$6 -> #VALUE! | CH42: =LOOKUP(CG42,'Final Average'!$H$45:$I$57) -> #VALUE! | CI42: =AVERAGE(CI7:CI41) -> #DIV/0! | CJ42: =AVERAGE(CJ7:CJ41) -> #DIV/0! | CK42: =AVERAGE(CK7:CK41) -> #DIV/0! | CL42: =AVERAGE(CL7:CL41) -> #DIV/0! | CM42: =AVERAGE(CM7:CM41) -> #DIV/0! | CN42: =AVERAGE(CN7:CN41) -> #DIV/0! | CO42: =AVERAGE(CO7:CO41) -> #DIV/0! | CP42: =AVERAGE(CP7:CP41) -> #DIV/0! | ... DG42: =AVERAGE(DG7:DG41) -> #DIV/0! | DH42: =SUM(DH7:DH41)/Basics!$E$6 -> #VALUE! | DI42: =LOOKUP(DH42,'Final Average'!$H$45:$I$57) -> #VALUE! | DJ42: =AVERAGE(DJ7:DJ41) -> #DIV/0! | DK42: =AVERAGE(DK7:DK41) -> #DIV/0! | DL42: =AVERAGE(DL7:DL41) -> #DIV/0! | DM42: =AVERAGE(DM7:DM41) -> #DIV/0! | DN42: =AVERAGE(DN7:DN41) -> #DIV/0! | DO42: =AVERAGE(DO7:DO41) -> #DIV/0! | DP42: =AVERAGE(DP7:DP41) -> #DIV/0! | DQ42: =AVERAGE(DQ7:DQ41) -> #DIV/0! | ... EH42: =AVERAGE(EH7:EH41) -> #DIV/0! | EI42: =SUM(EI7:EI41)/Basics!$E$6 -> #VALUE! | EJ42: =LOOKUP(EI42,'Final Average'!$H$45:$I$57) -> #VALUE! | EK42: =AVERAGE(EK7:EK41) -> #DIV/0! | EL42: =AVERAGE(EL7:EL41) -> #DIV/0! | EM42: =AVERAGE(EM7:EM41) -> #DIV/0! | EN42: =AVERAGE(EN7:EN41) -> #DIV/0! | EO42: =AVERAGE(EO7:EO41) -> #DIV/0! | EP42: =AVERAGE(EP7:EP41) -> #DIV/0! | EQ42: =AVERAGE(EQ7:EQ41) -> #DIV/0! | ER42: =AVERAGE(ER7:ER41) -> #DIV/0! | ... FI42: =AVERAGE(FI7:FI41) -> #DIV/0! | FJ42: =SUM(FJ7:FJ41)/Basics!$E$6 -> #VALUE! | FK42: =LOOKUP(FJ42,'Final Average'!$H$45:$I$57) -> #VALUE!

Sheet 3rd Quarter
A2: Third Quarter
A3: Student # | B3: Last Name | C3: First Name | D3: M.I. | F3: ='1st Quarter'!F3:AE3 -> Math | AG3: ='1st Quarter'!AG3:BF3 -> Reading | BH3: ='1st Quarter'!BH3:CG3 -> Spelling | CI3: ='1st Quarter'!CI3:DH3 -> Science | DJ3: ='1st Quarter'!DJ3:EI3 -> Social Studies | EK3: ='1st Quarter'!EK3:FJ3 -> English
F4: 1 | G4: 2 | H4: 3 | I4: 4 | J4: 5 | K4: 6 | L4: 7 | M4: 8 | N4: 9 | O4: 10 | P4: 11 | Q4: 12 | R4: 13 | S4: 14 | T4: 15 | U4: 16 | V4: 17 | W4: 18 | X4: 19 | Y4: 20 | Z4: 21 | AA4: 22 | AB4: 23 | AC4: 24 | AD4: 25 | AE4: Average | AG4: 1 | AH4: 2 | AI4: 3 | AJ4: 4 | AK4: 5 | AL4: 6 | AM4: 7 | AN4: 8 | AO4: 9 | AP4: 10 | AQ4: 11 | AR4: 12 | AS4: 13 | AT4: 14 | AU4: 15 | AV4: 16 | AW4: 17 | AX4: 18 | AY4: 19 | AZ4: 20 | BA4: 21 | BB4: 22 | BC4: 23 | BD4: 24 | BE4: 25 | BF4: Average | BH4: 1 | BI4: 2 | BJ4: 3 | BK4: 4 | BL4: 5 | BM4: 6 | BN4: 7 | BO4: 8 | BP4: 9 | BQ4: 10 | BR4: 11 | BS4: 12 | BT4: 13 | BU4: 14 | BV4: 15 | BW4: 16 | BX4: 17 | BY4: 18 | BZ4: 19 | CA4: 20 | CB4: 21 | CC4: 22 | CD4: 23 | CE4: 24 | CF4: 25 | CG4: Average | CI4: 1 | CJ4: 2 | CK4: 3 | CL4: 4 | CM4: 5 | CN4: 6 | CO4: 7 | CP4: 8 | CQ4: 9 | CR4: 10 | CS4: 11 | CT4: 12 | CU4: 13 | CV4: 14 | CW4: 15 | CX4: 16 | CY4: 17 | CZ4: 18 | DA4: 19 | DB4: 20 | DC4: 21 | DD4: 22 | DE4: 23 | DF4: 24 | DG4: 25 | DH4: Average | DJ4: 1 | DK4: 2 | DL4: 3 | DM4: 4 | DN4: 5 | DO4: 6 | DP4: 7 | DQ4: 8 | DR4: 9 | DS4: 10 | DT4: 11 | DU4: 12 | DV4: 13 | DW4: 14 | DX4: 15 | DY4: 16 | DZ4: 17 | EA4: 18 | EB4: 19 | EC4: 20 | ED4: 21 | EE4: 22 | EF4: 23 | EG4: 24 | EH4: 25 | EI4: Average | EK4: 1 | EL4: 2 | EM4: 3 | EN4: 4 | EO4: 5 | EP4: 6 | EQ4: 7 | ER4: 8 | ES4: 9 | ET4: 10 | EU4: 11 | EV4: 12 | EW4: 13 | EX4: 14 | EY4: 15 | EZ4: 16 | FA4: 17 | FB4: 18 | FC4: 19 | FD4: 20 | FE4: 21 | FF4: 22 | FG4: 23 | FH4: 24 | FI4: 25 | FJ4: Average
E5: Weight | F5: 1 | AG5: 1 | BH5: 1 | CI5: 1 | DJ5: 1 | EK5: 1
D6: Assignment
A7: 1 | B7: =IF('1st Quarter'!B7>0,'1st Quarter'!B7,"") | C7: =IF('1st Quarter'!C7>0,'1st Quarter'!C7,"") | D7: =IF('1st Quarter'!D7>0,'1st Quarter'!D7,"") | AE7: =ROUND(((F7*$F$5)+(G7*$G$5)+(H7*$H$5)+(I7*$I$5)+(J7*$J$5)+(K7*$K$5)+(L7*$L$5)+(M7*$M$5)+(N7*$N$5)+(O7*$O$5)+(P7*$P$5)+(Q7*$Q$5)+(R7*$R$5)+(S7*$S$5)+(T7*$T$5)+(U7*$U$5)+(V7*$V$5)+(W7*$W$5)+(X7*$X$5)+(Y7*$Y$5)+(Z7*$Z$5)+(AA7*$AA$5)+(AB7*$AB$5)+(AC7*$AC$5)+(AD7*$AD$5))/(SUM($F$5:$AD$5)),3) -> 0 | AF7: =LOOKUP(AE7,'Final Average'!$H$45:$I$57) -> F | BF7: =ROUND(((AG7*$AG$5)+(AH7*$AH$5)+(AI7*$AI$5)+(AJ7*$AJ$5)+(AK7*$AK$5)+(AL7*$AL$5)+(AM7*$AM$5)+(AN7*$AN$5)+(AO7*$AO$5)+(AP7*$AP$5)+(AQ7*$AQ$5)+(AR7*$AR$5)+(AS7*$AS$5)+(AT7*$AT$5)+(AU7*$AU$5)+(AV7*$AV$5)+(AW7*$AW$5)+(AX7*$AX$5)+(AY7*$AY$5)+(AZ7*$AZ$5)+(BA7*$BA$5)+(BB7*$BB$5)+(BC7*$BC$5)+(BD7*$BD$5)+(BE7*$BE$5))/(SUM($AG$5:$BE$5)),3) -> 0 | BG7: =LOOKUP(BF7,'Final Average'!$H$45:$I$57) -> F | CG7: =ROUND(((BH7*$BH$5)+(BI7*$BI$5)+(BJ7*$BJ$5)+(BK7*$BK$5)+(BL7*$BL$5)+(BM7*$BM$5)+(BN7*$BN$5)+(BO7*$BO$5)+(BP7*$BP$5)+(BQ7*$BQ$5)+(BR7*$BR$5)+(BS7*$BS$5)+(BT7*$BT$5)+(BU7*$BU$5)+(BV7*$BV$5)+(BW7*$BW$5)+(BX7*$BX$5)+(BY7*$BY$5)+(BZ7*$BZ$5)+(CA7*$CA$5)+(CB7*$CB$5)+(CC7*$CC$5)+(CD7*$CD$5)+(CE7*$CE$5)+(CF7*$CF$5))/(SUM($BH$5:$CF$5)),3) -> 0 | CH7: =LOOKUP(CG7,'Final Average'!$H$45:$I$57) -> F | DH7: =ROUND(((CI7*$CI$5)+(CJ7*$CJ$5)+(CK7*$CK$5)+(CL7*$CL$5)+(CM7*$CM$5)+(CN7*$CN$5)+(CO7*$CO$5)+(CP7*$CP$5)+(CQ7*$CQ$5)+(CR7*$CR$5)+(CS7*$CS$5)+(CT7*$CT$5)+(CU7*$CU$5)+(CV7*$CV$5)+(CW7*$CW$5)+(CX7*$CX$5)+(CY7*$CY$5)+(CZ7*$CZ$5)+(DA7*$DA$5)+(DB7*$DB$5)+(DC7*$DC$5)+(DD7*$DD$5)+(DE7*$DE$5)+(DF7*$DF$5)+(DG7*$DG$5))/(SUM($CI$5:$DG$5)),3) -> 0 | DI7: =LOOKUP(DH7,'Final Average'!$H$45:$I$57) -> F | EI7: =ROUND(((DJ7*$DJ$5)+(DK7*$DK$5)+(DL7*$DL$5)+(DM7*$DM$5)+(DN7*$DN$5)+(DO7*$DO$5)+(DP7*$DP$5)+(DQ7*$DQ$5)+(DR7*$DR$5)+(DS7*$DS$5)+(DT7*$DT$5)+(DU7*$DU$5)+(DV7*$DV$5)+(DW7*$DW$5)+(DX7*$DX$5)+(DY7*$DY$5)+(DZ7*$DZ$5)+(EA7*$EA$5)+(EB7*$EB$5)+(EC7*$EC$5)+(ED7*$ED$5)+(EE7*$EE$5)+(EF7*$EF$5)+(EG7*$EG$5)+(EH7*$EH$5))/(SUM($DJ$5:$EH$5)),3) -> 0 | EJ7: =LOOKUP(EI7,'Final Average'!$H$45:$I$57) -> F | FJ7: =ROUND(((EK7*$EK$5)+(EL7*$EL$5)+(EM7*$EM$5)+(EN7*$EN$5)+(EO7*$EO$5)+(EP7*$EP$5)+(EQ7*$EQ$5)+(ER7*$ER$5)+(ES7*$ES$5)+(ET7*$ET$5)+(EU7*$EU$5)+(EV7*$EV$5)+(EW7*$EW$5)+(EX7*$EX$5)+(EY7*$EY$5)+(EZ7*$EZ$5)+(FA7*$FA$5)+(FB7*$FB$5)+(FC7*$FC$5)+(FD7*$FD$5)+(FE7*$FE$5)+(FF7*$FF$5)+(FG7*$FG$5)+(FH7*$FH$5)+(FI7*$FI$5))/(SUM($EK$5:$FI$5)),3) -> 0 | FK7: =LOOKUP(FJ7,'Final Average'!$H$45:$I$57) -> F
A8: 2 | B8: =IF('1st Quarter'!B8>0,'1st Quarter'!B8,"") | C8: =IF('1st Quarter'!C8>0,'1st Quarter'!C8,"") | D8: =IF('1st Quarter'!D8>0,'1st Quarter'!D8,"") | AE8: =ROUND(((F8*$F$5)+(G8*$G$5)+(H8*$H$5)+(I8*$I$5)+(J8*$J$5)+(K8*$K$5)+(L8*$L$5)+(M8*$M$5)+(N8*$N$5)+(O8*$O$5)+(P8*$P$5)+(Q8*$Q$5)+(R8*$R$5)+(S8*$S$5)+(T8*$T$5)+(U8*$U$5)+(V8*$V$5)+(W8*$W$5)+(X8*$X$5)+(Y8*$Y$5)+(Z8*$Z$5)+(AA8*$AA$5)+(AB8*$AB$5)+(AC8*$AC$5)+(AD8*$AD$5))/(SUM($F$5:$AD$5)),3) -> 0 | AF8: =LOOKUP(AE8,'Final Average'!$H$45:$I$57) -> F | BF8: =ROUND(((AG8*$AG$5)+(AH8*$AH$5)+(AI8*$AI$5)+(AJ8*$AJ$5)+(AK8*$AK$5)+(AL8*$AL$5)+(AM8*$AM$5)+(AN8*$AN$5)+(AO8*$AO$5)+(AP8*$AP$5)+(AQ8*$AQ$5)+(AR8*$AR$5)+(AS8*$AS$5)+(AT8*$AT$5)+(AU8*$AU$5)+(AV8*$AV$5)+(AW8*$AW$5)+(AX8*$AX$5)+(AY8*$AY$5)+(AZ8*$AZ$5)+(BA8*$BA$5)+(BB8*$BB$5)+(BC8*$BC$5)+(BD8*$BD$5)+(BE8*$BE$5))/(SUM($AG$5:$BE$5)),3) -> 0 | BG8: =LOOKUP(BF8,'Final Average'!$H$45:$I$57) -> F | CG8: =((BH8*$BH$5)+(BI8*$BI$5)+(BJ8*$BJ$5)+(BK8*$BK$5)+(BL8*$BL$5)+(BM8*$BM$5)+(BN8*$BN$5)+(BO8*$BO$5)+(BP8*$BP$5)+(BQ8*$BQ$5)+(BR8*$BR$5)+(BS8*$BS$5)+(BT8*$BT$5)+(BU8*$BU$5)+(BV8*$BV$5)+(BW8*$BW$5)+(BX8*$BX$5)+(BY8*$BY$5)+(BZ8*$BZ$5)+(CA8*$CA$5)+(CB8*$CB$5)+(CC8*$CC$5)+(CD8*$CD$5)+(CE8*$CE$5)+(CF8*$CF$5))/(SUM($BH$5:$CF$5)) -> 0 | CH8: =LOOKUP(CG8,'Final Average'!$H$45:$I$57) -> F | DH8: =ROUND(((CI8*$CI$5)+(CJ8*$CJ$5)+(CK8*$CK$5)+(CL8*$CL$5)+(CM8*$CM$5)+(CN8*$CN$5)+(CO8*$CO$5)+(CP8*$CP$5)+(CQ8*$CQ$5)+(CR8*$CR$5)+(CS8*$CS$5)+(CT8*$CT$5)+(CU8*$CU$5)+(CV8*$CV$5)+(CW8*$CW$5)+(CX8*$CX$5)+(CY8*$CY$5)+(CZ8*$CZ$5)+(DA8*$DA$5)+(DB8*$DB$5)+(DC8*$DC$5)+(DD8*$DD$5)+(DE8*$DE$5)+(DF8*$DF$5)+(DG8*$DG$5))/(SUM($CI$5:$DG$5)),3) -> 0 | DI8: =LOOKUP(DH8,'Final Average'!$H$45:$I$57) -> F | EI8: =ROUND(((DJ8*$DJ$5)+(DK8*$DK$5)+(DL8*$DL$5)+(DM8*$DM$5)+(DN8*$DN$5)+(DO8*$DO$5)+(DP8*$DP$5)+(DQ8*$DQ$5)+(DR8*$DR$5)+(DS8*$DS$5)+(DT8*$DT$5)+(DU8*$DU$5)+(DV8*$DV$5)+(DW8*$DW$5)+(DX8*$DX$5)+(DY8*$DY$5)+(DZ8*$DZ$5)+(EA8*$EA$5)+(EB8*$EB$5)+(EC8*$EC$5)+(ED8*$ED$5)+(EE8*$EE$5)+(EF8*$EF$5)+(EG8*$EG$5)+(EH8*$EH$5))/(SUM($DJ$5:$EH$5)),3) -> 0 | EJ8: =LOOKUP(EI8,'Final Average'!$H$45:$I$57) -> F | FJ8: =ROUND(((EK8*$EK$5)+(EL8*$EL$5)+(EM8*$EM$5)+(EN8*$EN$5)+(EO8*$EO$5)+(EP8*$EP$5)+(EQ8*$EQ$5)+(ER8*$ER$5)+(ES8*$ES$5)+(ET8*$ET$5)+(EU8*$EU$5)+(EV8*$EV$5)+(EW8*$EW$5)+(EX8*$EX$5)+(EY8*$EY$5)+(EZ8*$EZ$5)+(FA8*$FA$5)+(FB8*$FB$5)+(FC8*$FC$5)+(FD8*$FD$5)+(FE8*$FE$5)+(FF8*$FF$5)+(FG8*$FG$5)+(FH8*$FH$5)+(FI8*$FI$5))/(SUM($EK$5:$FI$5)),3) -> 0 | FK8: =LOOKUP(FJ8,'Final Average'!$H$45:$I$57) -> F
A9: 3 | B9: =IF('1st Quarter'!B9>0,'1st Quarter'!B9,"") | C9: =IF('1st Quarter'!C9>0,'1st Quarter'!C9,"") | D9: =IF('1st Quarter'!D9>0,'1st Quarter'!D9,"") | AE9: =ROUND(((F9*$F$5)+(G9*$G$5)+(H9*$H$5)+(I9*$I$5)+(J9*$J$5)+(K9*$K$5)+(L9*$L$5)+(M9*$M$5)+(N9*$N$5)+(O9*$O$5)+(P9*$P$5)+(Q9*$Q$5)+(R9*$R$5)+(S9*$S$5)+(T9*$T$5)+(U9*$U$5)+(V9*$V$5)+(W9*$W$5)+(X9*$X$5)+(Y9*$Y$5)+(Z9*$Z$5)+(AA9*$AA$5)+(AB9*$AB$5)+(AC9*$AC$5)+(AD9*$AD$5))/(SUM($F$5:$AD$5)),3) -> 0 | AF9: =LOOKUP(AE9,'Final Average'!$H$45:$I$57) -> F | BF9: =ROUND(((AG9*$AG$5)+(AH9*$AH$5)+(AI9*$AI$5)+(AJ9*$AJ$5)+(AK9*$AK$5)+(AL9*$AL$5)+(AM9*$AM$5)+(AN9*$AN$5)+(AO9*$AO$5)+(AP9*$AP$5)+(AQ9*$AQ$5)+(AR9*$AR$5)+(AS9*$AS$5)+(AT9*$AT$5)+(AU9*$AU$5)+(AV9*$AV$5)+(AW9*$AW$5)+(AX9*$AX$5)+(AY9*$AY$5)+(AZ9*$AZ$5)+(BA9*$BA$5)+(BB9*$BB$5)+(BC9*$BC$5)+(BD9*$BD$5)+(BE9*$BE$5))/(SUM($AG$5:$BE$5)),3) -> 0 | BG9: =LOOKUP(BF9,'Final Average'!$H$45:$I$57) -> F | CG9: =((BH9*$BH$5)+(BI9*$BI$5)+(BJ9*$BJ$5)+(BK9*$BK$5)+(BL9*$BL$5)+(BM9*$BM$5)+(BN9*$BN$5)+(BO9*$BO$5)+(BP9*$BP$5)+(BQ9*$BQ$5)+(BR9*$BR$5)+(BS9*$BS$5)+(BT9*$BT$5)+(BU9*$BU$5)+(BV9*$BV$5)+(BW9*$BW$5)+(BX9*$BX$5)+(BY9*$BY$5)+(BZ9*$BZ$5)+(CA9*$CA$5)+(CB9*$CB$5)+(CC9*$CC$5)+(CD9*$CD$5)+(CE9*$CE$5)+(CF9*$CF$5))/(SUM($BH$5:$CF$5)) -> 0 | CH9: =LOOKUP(CG9,'Final Average'!$H$45:$I$57) -> F | DH9: =ROUND(((CI9*$CI$5)+(CJ9*$CJ$5)+(CK9*$CK$5)+(CL9*$CL$5)+(CM9*$CM$5)+(CN9*$CN$5)+(CO9*$CO$5)+(CP9*$CP$5)+(CQ9*$CQ$5)+(CR9*$CR$5)+(CS9*$CS$5)+(CT9*$CT$5)+(CU9*$CU$5)+(CV9*$CV$5)+(CW9*$CW$5)+(CX9*$CX$5)+(CY9*$CY$5)+(CZ9*$CZ$5)+(DA9*$DA$5)+(DB9*$DB$5)+(DC9*$DC$5)+(DD9*$DD$5)+(DE9*$DE$5)+(DF9*$DF$5)+(DG9*$DG$5))/(SUM($CI$5:$DG$5)),3) -> 0 | DI9: =LOOKUP(DH9,'Final Average'!$H$45:$I$57) -> F | EI9: =ROUND(((DJ9*$DJ$5)+(DK9*$DK$5)+(DL9*$DL$5)+(DM9*$DM$5)+(DN9*$DN$5)+(DO9*$DO$5)+(DP9*$DP$5)+(DQ9*$DQ$5)+(DR9*$DR$5)+(DS9*$DS$5)+(DT9*$DT$5)+(DU9*$DU$5)+(DV9*$DV$5)+(DW9*$DW$5)+(DX9*$DX$5)+(DY9*$DY$5)+(DZ9*$DZ$5)+(EA9*$EA$5)+(EB9*$EB$5)+(EC9*$EC$5)+(ED9*$ED$5)+(EE9*$EE$5)+(EF9*$EF$5)+(EG9*$EG$5)+(EH9*$EH$5))/(SUM($DJ$5:$EH$5)),3) -> 0 | EJ9: =LOOKUP(EI9,'Final Average'!$H$45:$I$57) -> F | FJ9: =ROUND(((EK9*$EK$5)+(EL9*$EL$5)+(EM9*$EM$5)+(EN9*$EN$5)+(EO9*$EO$5)+(EP9*$EP$5)+(EQ9*$EQ$5)+(ER9*$ER$5)+(ES9*$ES$5)+(ET9*$ET$5)+(EU9*$EU$5)+(EV9*$EV$5)+(EW9*$EW$5)+(EX9*$EX$5)+(EY9*$EY$5)+(EZ9*$EZ$5)+(FA9*$FA$5)+(FB9*$FB$5)+(FC9*$FC$5)+(FD9*$FD$5)+(FE9*$FE$5)+(FF9*$FF$5)+(FG9*$FG$5)+(FH9*$FH$5)+(FI9*$FI$5))/(SUM($EK$5:$FI$5)),3) -> 0 | FK9: =LOOKUP(FJ9,'Final Average'!$H$45:$I$57) -> F
A10: 4 | B10: =IF('1st Quarter'!B10>0,'1st Quarter'!B10,"") | C10: =IF('1st Quarter'!C10>0,'1st Quarter'!C10,"") | D10: =IF('1st Quarter'!D10>0,'1st Quarter'!D10,"") | AE10: =ROUND(((F10*$F$5)+(G10*$G$5)+(H10*$H$5)+(I10*$I$5)+(J10*$J$5)+(K10*$K$5)+(L10*$L$5)+(M10*$M$5)+(N10*$N$5)+(O10*$O$5)+(P10*$P$5)+(Q10*$Q$5)+(R10*$R$5)+(S10*$S$5)+(T10*$T$5)+(U10*$U$5)+(V10*$V$5)+(W10*$W$5)+(X10*$X$5)+(Y10*$Y$5)+(Z10*$Z$5)+(AA10*$AA$5)+(AB10*$AB$5)+(AC10*$AC$5)+(AD10*$AD$5))/(SUM($F$5:$AD$5)),3) -> 0 | AF10: =LOOKUP(AE10,'Final Average'!$H$45:$I$57) -> F | BF10: =ROUND(((AG10*$AG$5)+(AH10*$AH$5)+(AI10*$AI$5)+(AJ10*$AJ$5)+(AK10*$AK$5)+(AL10*$AL$5)+(AM10*$AM$5)+(AN10*$AN$5)+(AO10*$AO$5)+(AP10*$AP$5)+(AQ10*$AQ$5)+(AR10*$AR$5)+(AS10*$AS$5)+(AT10*$AT$5)+(AU10*$AU$5)+(AV10*$AV$5)+(AW10*$AW$5)+(AX10*$AX$5)+(AY10*$AY$5)+(AZ10*$AZ$5)+(BA10*$BA$5)+(BB10*$BB$5)+(BC10*$BC$5)+(BD10*$BD$5)+(BE10*$BE$5))/(SUM($AG$5:$BE$5)),3) -> 0 | BG10: =LOOKUP(BF10,'Final Average'!$H$45:$I$57) -> F | CG10: =((BH10*$BH$5)+(BI10*$BI$5)+(BJ10*$BJ$5)+(BK10*$BK$5)+(BL10*$BL$5)+(BM10*$BM$5)+(BN10*$BN$5)+(BO10*$BO$5)+(BP10*$BP$5)+(BQ10*$BQ$5)+(BR10*$BR$5)+(BS10*$BS$5)+(BT10*$BT$5)+(BU10*$BU$5)+(BV10*$BV$5)+(BW10*$BW$5)+(BX10*$BX$5)+(BY10*$BY$5)+(BZ10*$BZ$5)+(CA10*$CA$5)+(CB10*$CB$5)+(CC10*$CC$5)+(CD10*$CD$5)+(CE10*$CE$5)+(CF10*$CF$5))/(SUM($BH$5:$CF$5)) -> 0 | CH10: =LOOKUP(CG10,'Final Average'!$H$45:$I$57) -> F | DH10: =ROUND(((CI10*$CI$5)+(CJ10*$CJ$5)+(CK10*$CK$5)+(CL10*$CL$5)+(CM10*$CM$5)+(CN10*$CN$5)+(CO10*$CO$5)+(CP10*$CP$5)+(CQ10*$CQ$5)+(CR10*$CR$5)+(CS10*$CS$5)+(CT10*$CT$5)+(CU10*$CU$5)+(CV10*$CV$5)+(CW10*$CW$5)+(CX10*$CX$5)+(CY10*$CY$5)+(CZ10*$CZ$5)+(DA10*$DA$5)+(DB10*$DB$5)+(DC10*$DC$5)+(DD10*$DD$5)+(DE10*$DE$5)+(DF10*$DF$5)+(DG10*$DG$5))/(SUM($CI$5:$DG$5)),3) -> 0 | DI10: =LOOKUP(DH10,'Final Average'!$H$45:$I$57) -> F | EI10: =ROUND(((DJ10*$DJ$5)+(DK10*$DK$5)+(DL10*$DL$5)+(DM10*$DM$5)+(DN10*$DN$5)+(DO10*$DO$5)+(DP10*$DP$5)+(DQ10*$DQ$5)+(DR10*$DR$5)+(DS10*$DS$5)+(DT10*$DT$5)+(DU10*$DU$5)+(DV10*$DV$5)+(DW10*$DW$5)+(DX10*$DX$5)+(DY10*$DY$5)+(DZ10*$DZ$5)+(EA10*$EA$5)+(EB10*$EB$5)+(EC10*$EC$5)+(ED10*$ED$5)+(EE10*$EE$5)+(EF10*$EF$5)+(EG10*$EG$5)+(EH10*$EH$5))/(SUM($DJ$5:$EH$5)),3) -> 0 | EJ10: =LOOKUP(EI10,'Final Average'!$H$45:$I$57) -> F | FJ10: =ROUND(((EK10*$EK$5)+(EL10*$EL$5)+(EM10*$EM$5)+(EN10*$EN$5)+(EO10*$EO$5)+(EP10*$EP$5)+(EQ10*$EQ$5)+(ER10*$ER$5)+(ES10*$ES$5)+(ET10*$ET$5)+(EU10*$EU$5)+(EV10*$EV$5)+(EW10*$EW$5)+(EX10*$EX$5)+(EY10*$EY$5)+(EZ10*$EZ$5)+(FA10*$FA$5)+(FB10*$FB$5)+(FC10*$FC$5)+(FD10*$FD$5)+(FE10*$FE$5)+(FF10*$FF$5)+(FG10*$FG$5)+(FH10*$FH$5)+(FI10*$FI$5))/(SUM($EK$5:$FI$5)),3) -> 0 | FK10: =LOOKUP(FJ10,'Final Average'!$H$45:$I$57) -> F
A11: 5 | B11: =IF('1st Quarter'!B11>0,'1st Quarter'!B11,"") | C11: =IF('1st Quarter'!C11>0,'1st Quarter'!C11,"") | D11: =IF('1st Quarter'!D11>0,'1st Quarter'!D11,"") | AE11: =ROUND(((F11*$F$5)+(G11*$G$5)+(H11*$H$5)+(I11*$I$5)+(J11*$J$5)+(K11*$K$5)+(L11*$L$5)+(M11*$M$5)+(N11*$N$5)+(O11*$O$5)+(P11*$P$5)+(Q11*$Q$5)+(R11*$R$5)+(S11*$S$5)+(T11*$T$5)+(U11*$U$5)+(V11*$V$5)+(W11*$W$5)+(X11*$X$5)+(Y11*$Y$5)+(Z11*$Z$5)+(AA11*$AA$5)+(AB11*$AB$5)+(AC11*$AC$5)+(AD11*$AD$5))/(SUM($F$5:$AD$5)),3) -> 0 | AF11: =LOOKUP(AE11,'Final Average'!$H$45:$I$57) -> F | BF11: =ROUND(((AG11*$AG$5)+(AH11*$AH$5)+(AI11*$AI$5)+(AJ11*$AJ$5)+(AK11*$AK$5)+(AL11*$AL$5)+(AM11*$AM$5)+(AN11*$AN$5)+(AO11*$AO$5)+(AP11*$AP$5)+(AQ11*$AQ$5)+(AR11*$AR$5)+(AS11*$AS$5)+(AT11*$AT$5)+(AU11*$AU$5)+(AV11*$AV$5)+(AW11*$AW$5)+(AX11*$AX$5)+(AY11*$AY$5)+(AZ11*$AZ$5)+(BA11*$BA$5)+(BB11*$BB$5)+(BC11*$BC$5)+(BD11*$BD$5)+(BE11*$BE$5))/(SUM($AG$5:$BE$5)),3) -> 0 | BG11: =LOOKUP(BF11,'Final Average'!$H$45:$I$57) -> F | CG11: =((BH11*$BH$5)+(BI11*$BI$5)+(BJ11*$BJ$5)+(BK11*$BK$5)+(BL11*$BL$5)+(BM11*$BM$5)+(BN11*$BN$5)+(BO11*$BO$5)+(BP11*$BP$5)+(BQ11*$BQ$5)+(BR11*$BR$5)+(BS11*$BS$5)+(BT11*$BT$5)+(BU11*$BU$5)+(BV11*$BV$5)+(BW11*$BW$5)+(BX11*$BX$5)+(BY11*$BY$5)+(BZ11*$BZ$5)+(CA11*$CA$5)+(CB11*$CB$5)+(CC11*$CC$5)+(CD11*$CD$5)+(CE11*$CE$5)+(CF11*$CF$5))/(SUM($BH$5:$CF$5)) -> 0 | CH11: =LOOKUP(CG11,'Final Average'!$H$45:$I$57) -> F | DH11: =ROUND(((CI11*$CI$5)+(CJ11*$CJ$5)+(CK11*$CK$5)+(CL11*$CL$5)+(CM11*$CM$5)+(CN11*$CN$5)+(CO11*$CO$5)+(CP11*$CP$5)+(CQ11*$CQ$5)+(CR11*$CR$5)+(CS11*$CS$5)+(CT11*$CT$5)+(CU11*$CU$5)+(CV11*$CV$5)+(CW11*$CW$5)+(CX11*$CX$5)+(CY11*$CY$5)+(CZ11*$CZ$5)+(DA11*$DA$5)+(DB11*$DB$5)+(DC11*$DC$5)+(DD11*$DD$5)+(DE11*$DE$5)+(DF11*$DF$5)+(DG11*$DG$5))/(SUM($CI$5:$DG$5)),3) -> 0 | DI11: =LOOKUP(DH11,'Final Average'!$H$45:$I$57) -> F | EI11: =ROUND(((DJ11*$DJ$5)+(DK11*$DK$5)+(DL11*$DL$5)+(DM11*$DM$5)+(DN11*$DN$5)+(DO11*$DO$5)+(DP11*$DP$5)+(DQ11*$DQ$5)+(DR11*$DR$5)+(DS11*$DS$5)+(DT11*$DT$5)+(DU11*$DU$5)+(DV11*$DV$5)+(DW11*$DW$5)+(DX11*$DX$5)+(DY11*$DY$5)+(DZ11*$DZ$5)+(EA11*$EA$5)+(EB11*$EB$5)+(EC11*$EC$5)+(ED11*$ED$5)+(EE11*$EE$5)+(EF11*$EF$5)+(EG11*$EG$5)+(EH11*$EH$5))/(SUM($DJ$5:$EH$5)),3) -> 0 | EJ11: =LOOKUP(EI11,'Final Average'!$H$45:$I$57) -> F | FJ11: =ROUND(((EK11*$EK$5)+(EL11*$EL$5)+(EM11*$EM$5)+(EN11*$EN$5)+(EO11*$EO$5)+(EP11*$EP$5)+(EQ11*$EQ$5)+(ER11*$ER$5)+(ES11*$ES$5)+(ET11*$ET$5)+(EU11*$EU$5)+(EV11*$EV$5)+(EW11*$EW$5)+(EX11*$EX$5)+(EY11*$EY$5)+(EZ11*$EZ$5)+(FA11*$FA$5)+(FB11*$FB$5)+(FC11*$FC$5)+(FD11*$FD$5)+(FE11*$FE$5)+(FF11*$FF$5)+(FG11*$FG$5)+(FH11*$FH$5)+(FI11*$FI$5))/(SUM($EK$5:$FI$5)),3) -> 0 | FK11: =LOOKUP(FJ11,'Final Average'!$H$45:$I$57) -> F
A12: 6 | B12: =IF('1st Quarter'!B12>0,'1st Quarter'!B12,"") | C12: =IF('1st Quarter'!C12>0,'1st Quarter'!C12,"") | D12: =IF('1st Quarter'!D12>0,'1st Quarter'!D12,"") | AE12: =ROUND(((F12*$F$5)+(G12*$G$5)+(H12*$H$5)+(I12*$I$5)+(J12*$J$5)+(K12*$K$5)+(L12*$L$5)+(M12*$M$5)+(N12*$N$5)+(O12*$O$5)+(P12*$P$5)+(Q12*$Q$5)+(R12*$R$5)+(S12*$S$5)+(T12*$T$5)+(U12*$U$5)+(V12*$V$5)+(W12*$W$5)+(X12*$X$5)+(Y12*$Y$5)+(Z12*$Z$5)+(AA12*$AA$5)+(AB12*$AB$5)+(AC12*$AC$5)+(AD12*$AD$5))/(SUM($F$5:$AD$5)),3) -> 0 | AF12: =LOOKUP(AE12,'Final Average'!$H$45:$I$57) -> F | BF12: =ROUND(((AG12*$AG$5)+(AH12*$AH$5)+(AI12*$AI$5)+(AJ12*$AJ$5)+(AK12*$AK$5)+(AL12*$AL$5)+(AM12*$AM$5)+(AN12*$AN$5)+(AO12*$AO$5)+(AP12*$AP$5)+(AQ12*$AQ$5)+(AR12*$AR$5)+(AS12*$AS$5)+(AT12*$AT$5)+(AU12*$AU$5)+(AV12*$AV$5)+(AW12*$AW$5)+(AX12*$AX$5)+(AY12*$AY$5)+(AZ12*$AZ$5)+(BA12*$BA$5)+(BB12*$BB$5)+(BC12*$BC$5)+(BD12*$BD$5)+(BE12*$BE$5))/(SUM($AG$5:$BE$5)),3) -> 0 | BG12: =LOOKUP(BF12,'Final Average'!$H$45:$I$57) -> F | CG12: =((BH12*$BH$5)+(BI12*$BI$5)+(BJ12*$BJ$5)+(BK12*$BK$5)+(BL12*$BL$5)+(BM12*$BM$5)+(BN12*$BN$5)+(BO12*$BO$5)+(BP12*$BP$5)+(BQ12*$BQ$5)+(BR12*$BR$5)+(BS12*$BS$5)+(BT12*$BT$5)+(BU12*$BU$5)+(BV12*$BV$5)+(BW12*$BW$5)+(BX12*$BX$5)+(BY12*$BY$5)+(BZ12*$BZ$5)+(CA12*$CA$5)+(CB12*$CB$5)+(CC12*$CC$5)+(CD12*$CD$5)+(CE12*$CE$5)+(CF12*$CF$5))/(SUM($BH$5:$CF$5)) -> 0 | CH12: =LOOKUP(CG12,'Final Average'!$H$45:$I$57) -> F | DH12: =ROUND(((CI12*$CI$5)+(CJ12*$CJ$5)+(CK12*$CK$5)+(CL12*$CL$5)+(CM12*$CM$5)+(CN12*$CN$5)+(CO12*$CO$5)+(CP12*$CP$5)+(CQ12*$CQ$5)+(CR12*$CR$5)+(CS12*$CS$5)+(CT12*$CT$5)+(CU12*$CU$5)+(CV12*$CV$5)+(CW12*$CW$5)+(CX12*$CX$5)+(CY12*$CY$5)+(CZ12*$CZ$5)+(DA12*$DA$5)+(DB12*$DB$5)+(DC12*$DC$5)+(DD12*$DD$5)+(DE12*$DE$5)+(DF12*$DF$5)+(DG12*$DG$5))/(SUM($CI$5:$DG$5)),3) -> 0 | DI12: =LOOKUP(DH12,'Final Average'!$H$45:$I$57) -> F | EI12: =ROUND(((DJ12*$DJ$5)+(DK12*$DK$5)+(DL12*$DL$5)+(DM12*$DM$5)+(DN12*$DN$5)+(DO12*$DO$5)+(DP12*$DP$5)+(DQ12*$DQ$5)+(DR12*$DR$5)+(DS12*$DS$5)+(DT12*$DT$5)+(DU12*$DU$5)+(DV12*$DV$5)+(DW12*$DW$5)+(DX12*$DX$5)+(DY12*$DY$5)+(DZ12*$DZ$5)+(EA12*$EA$5)+(EB12*$EB$5)+(EC12*$EC$5)+(ED12*$ED$5)+(EE12*$EE$5)+(EF12*$EF$5)+(EG12*$EG$5)+(EH12*$EH$5))/(SUM($DJ$5:$EH$5)),3) -> 0 | EJ12: =LOOKUP(EI12,'Final Average'!$H$45:$I$57) -> F | FJ12: =ROUND(((EK12*$EK$5)+(EL12*$EL$5)+(EM12*$EM$5)+(EN12*$EN$5)+(EO12*$EO$5)+(EP12*$EP$5)+(EQ12*$EQ$5)+(ER12*$ER$5)+(ES12*$ES$5)+(ET12*$ET$5)+(EU12*$EU$5)+(EV12*$EV$5)+(EW12*$EW$5)+(EX12*$EX$5)+(EY12*$EY$5)+(EZ12*$EZ$5)+(FA12*$FA$5)+(FB12*$FB$5)+(FC12*$FC$5)+(FD12*$FD$5)+(FE12*$FE$5)+(FF12*$FF$5)+(FG12*$FG$5)+(FH12*$FH$5)+(FI12*$FI$5))/(SUM($EK$5:$FI$5)),3) -> 0 | FK12: =LOOKUP(FJ12,'Final Average'!$H$45:$I$57) -> F
A13: 7 | B13: =IF('1st Quarter'!B13>0,'1st Quarter'!B13,"") | C13: =IF('1st Quarter'!C13>0,'1st Quarter'!C13,"") | D13: =IF('1st Quarter'!D13>0,'1st Quarter'!D13,"") | AE13: =ROUND(((F13*$F$5)+(G13*$G$5)+(H13*$H$5)+(I13*$I$5)+(J13*$J$5)+(K13*$K$5)+(L13*$L$5)+(M13*$M$5)+(N13*$N$5)+(O13*$O$5)+(P13*$P$5)+(Q13*$Q$5)+(R13*$R$5)+(S13*$S$5)+(T13*$T$5)+(U13*$U$5)+(V13*$V$5)+(W13*$W$5)+(X13*$X$5)+(Y13*$Y$5)+(Z13*$Z$5)+(AA13*$AA$5)+(AB13*$AB$5)+(AC13*$AC$5)+(AD13*$AD$5))/(SUM($F$5:$AD$5)),3) -> 0 | AF13: =LOOKUP(AE13,'Final Average'!$H$45:$I$57) -> F | BF13: =ROUND(((AG13*$AG$5)+(AH13*$AH$5)+(AI13*$AI$5)+(AJ13*$AJ$5)+(AK13*$AK$5)+(AL13*$AL$5)+(AM13*$AM$5)+(AN13*$AN$5)+(AO13*$AO$5)+(AP13*$AP$5)+(AQ13*$AQ$5)+(AR13*$AR$5)+(AS13*$AS$5)+(AT13*$AT$5)+(AU13*$AU$5)+(AV13*$AV$5)+(AW13*$AW$5)+(AX13*$AX$5)+(AY13*$AY$5)+(AZ13*$AZ$5)+(BA13*$BA$5)+(BB13*$BB$5)+(BC13*$BC$5)+(BD13*$BD$5)+(BE13*$BE$5))/(SUM($AG$5:$BE$5)),3) -> 0 | BG13: =LOOKUP(BF13,'Final Average'!$H$45:$I$57) -> F | CG13: =((BH13*$BH$5)+(BI13*$BI$5)+(BJ13*$BJ$5)+(BK13*$BK$5)+(BL13*$BL$5)+(BM13*$BM$5)+(BN13*$BN$5)+(BO13*$BO$5)+(BP13*$BP$5)+(BQ13*$BQ$5)+(BR13*$BR$5)+(BS13*$BS$5)+(BT13*$BT$5)+(BU13*$BU$5)+(BV13*$BV$5)+(BW13*$BW$5)+(BX13*$BX$5)+(BY13*$BY$5)+(BZ13*$BZ$5)+(CA13*$CA$5)+(CB13*$CB$5)+(CC13*$CC$5)+(CD13*$CD$5)+(CE13*$CE$5)+(CF13*$CF$5))/(SUM($BH$5:$CF$5)) -> 0 | CH13: =LOOKUP(CG13,'Final Average'!$H$45:$I$57) -> F | DH13: =ROUND(((CI13*$CI$5)+(CJ13*$CJ$5)+(CK13*$CK$5)+(CL13*$CL$5)+(CM13*$CM$5)+(CN13*$CN$5)+(CO13*$CO$5)+(CP13*$CP$5)+(CQ13*$CQ$5)+(CR13*$CR$5)+(CS13*$CS$5)+(CT13*$CT$5)+(CU13*$CU$5)+(CV13*$CV$5)+(CW13*$CW$5)+(CX13*$CX$5)+(CY13*$CY$5)+(CZ13*$CZ$5)+(DA13*$DA$5)+(DB13*$DB$5)+(DC13*$DC$5)+(DD13*$DD$5)+(DE13*$DE$5)+(DF13*$DF$5)+(DG13*$DG$5))/(SUM($CI$5:$DG$5)),3) -> 0 | DI13: =LOOKUP(DH13,'Final Average'!$H$45:$I$57) -> F | EI13: =ROUND(((DJ13*$DJ$5)+(DK13*$DK$5)+(DL13*$DL$5)+(DM13*$DM$5)+(DN13*$DN$5)+(DO13*$DO$5)+(DP13*$DP$5)+(DQ13*$DQ$5)+(DR13*$DR$5)+(DS13*$DS$5)+(DT13*$DT$5)+(DU13*$DU$5)+(DV13*$DV$5)+(DW13*$DW$5)+(DX13*$DX$5)+(DY13*$DY$5)+(DZ13*$DZ$5)+(EA13*$EA$5)+(EB13*$EB$5)+(EC13*$EC$5)+(ED13*$ED$5)+(EE13*$EE$5)+(EF13*$EF$5)+(EG13*$EG$5)+(EH13*$EH$5))/(SUM($DJ$5:$EH$5)),3) -> 0 | EJ13: =LOOKUP(EI13,'Final Average'!$H$45:$I$57) -> F | FJ13: =ROUND(((EK13*$EK$5)+(EL13*$EL$5)+(EM13*$EM$5)+(EN13*$EN$5)+(EO13*$EO$5)+(EP13*$EP$5)+(EQ13*$EQ$5)+(ER13*$ER$5)+(ES13*$ES$5)+(ET13*$ET$5)+(EU13*$EU$5)+(EV13*$EV$5)+(EW13*$EW$5)+(EX13*$EX$5)+(EY13*$EY$5)+(EZ13*$EZ$5)+(FA13*$FA$5)+(FB13*$FB$5)+(FC13*$FC$5)+(FD13*$FD$5)+(FE13*$FE$5)+(FF13*$FF$5)+(FG13*$FG$5)+(FH13*$FH$5)+(FI13*$FI$5))/(SUM($EK$5:$FI$5)),3) -> 0 | FK13: =LOOKUP(FJ13,'Final Average'!$H$45:$I$57) -> F
A14: 8 | B14: =IF('1st Quarter'!B14>0,'1st Quarter'!B14,"") | C14: =IF('1st Quarter'!C14>0,'1st Quarter'!C14,"") | D14: =IF('1st Quarter'!D14>0,'1st Quarter'!D14,"") | AE14: =ROUND(((F14*$F$5)+(G14*$G$5)+(H14*$H$5)+(I14*$I$5)+(J14*$J$5)+(K14*$K$5)+(L14*$L$5)+(M14*$M$5)+(N14*$N$5)+(O14*$O$5)+(P14*$P$5)+(Q14*$Q$5)+(R14*$R$5)+(S14*$S$5)+(T14*$T$5)+(U14*$U$5)+(V14*$V$5)+(W14*$W$5)+(X14*$X$5)+(Y14*$Y$5)+(Z14*$Z$5)+(AA14*$AA$5)+(AB14*$AB$5)+(AC14*$AC$5)+(AD14*$AD$5))/(SUM($F$5:$AD$5)),3) -> 0 | AF14: =LOOKUP(AE14,'Final Average'!$H$45:$I$57) -> F | BF14: =ROUND(((AG14*$AG$5)+(AH14*$AH$5)+(AI14*$AI$5)+(AJ14*$AJ$5)+(AK14*$AK$5)+(AL14*$AL$5)+(AM14*$AM$5)+(AN14*$AN$5)+(AO14*$AO$5)+(AP14*$AP$5)+(AQ14*$AQ$5)+(AR14*$AR$5)+(AS14*$AS$5)+(AT14*$AT$5)+(AU14*$AU$5)+(AV14*$AV$5)+(AW14*$AW$5)+(AX14*$AX$5)+(AY14*$AY$5)+(AZ14*$AZ$5)+(BA14*$BA$5)+(BB14*$BB$5)+(BC14*$BC$5)+(BD14*$BD$5)+(BE14*$BE$5))/(SUM($AG$5:$BE$5)),3) -> 0 | BG14: =LOOKUP(BF14,'Final Average'!$H$45:$I$57) -> F | CG14: =((BH14*$BH$5)+(BI14*$BI$5)+(BJ14*$BJ$5)+(BK14*$BK$5)+(BL14*$BL$5)+(BM14*$BM$5)+(BN14*$BN$5)+(BO14*$BO$5)+(BP14*$BP$5)+(BQ14*$BQ$5)+(BR14*$BR$5)+(BS14*$BS$5)+(BT14*$BT$5)+(BU14*$BU$5)+(BV14*$BV$5)+(BW14*$BW$5)+(BX14*$BX$5)+(BY14*$BY$5)+(BZ14*$BZ$5)+(CA14*$CA$5)+(CB14*$CB$5)+(CC14*$CC$5)+(CD14*$CD$5)+(CE14*$CE$5)+(CF14*$CF$5))/(SUM($BH$5:$CF$5)) -> 0 | CH14: =LOOKUP(CG14,'Final Average'!$H$45:$I$57) -> F | DH14: =ROUND(((CI14*$CI$5)+(CJ14*$CJ$5)+(CK14*$CK$5)+(CL14*$CL$5)+(CM14*$CM$5)+(CN14*$CN$5)+(CO14*$CO$5)+(CP14*$CP$5)+(CQ14*$CQ$5)+(CR14*$CR$5)+(CS14*$CS$5)+(CT14*$CT$5)+(CU14*$CU$5)+(CV14*$CV$5)+(CW14*$CW$5)+(CX14*$CX$5)+(CY14*$CY$5)+(CZ14*$CZ$5)+(DA14*$DA$5)+(DB14*$DB$5)+(DC14*$DC$5)+(DD14*$DD$5)+(DE14*$DE$5)+(DF14*$DF$5)+(DG14*$DG$5))/(SUM($CI$5:$DG$5)),3) -> 0 | DI14: =LOOKUP(DH14,'Final Average'!$H$45:$I$57) -> F | EI14: =ROUND(((DJ14*$DJ$5)+(DK14*$DK$5)+(DL14*$DL$5)+(DM14*$DM$5)+(DN14*$DN$5)+(DO14*$DO$5)+(DP14*$DP$5)+(DQ14*$DQ$5)+(DR14*$DR$5)+(DS14*$DS$5)+(DT14*$DT$5)+(DU14*$DU$5)+(DV14*$DV$5)+(DW14*$DW$5)+(DX14*$DX$5)+(DY14*$DY$5)+(DZ14*$DZ$5)+(EA14*$EA$5)+(EB14*$EB$5)+(EC14*$EC$5)+(ED14*$ED$5)+(EE14*$EE$5)+(EF14*$EF$5)+(EG14*$EG$5)+(EH14*$EH$5))/(SUM($DJ$5:$EH$5)),3) -> 0 | EJ14: =LOOKUP(EI14,'Final Average'!$H$45:$I$57) -> F | FJ14: =ROUND(((EK14*$EK$5)+(EL14*$EL$5)+(EM14*$EM$5)+(EN14*$EN$5)+(EO14*$EO$5)+(EP14*$EP$5)+(EQ14*$EQ$5)+(ER14*$ER$5)+(ES14*$ES$5)+(ET14*$ET$5)+(EU14*$EU$5)+(EV14*$EV$5)+(EW14*$EW$5)+(EX14*$EX$5)+(EY14*$EY$5)+(EZ14*$EZ$5)+(FA14*$FA$5)+(FB14*$FB$5)+(FC14*$FC$5)+(FD14*$FD$5)+(FE14*$FE$5)+(FF14*$FF$5)+(FG14*$FG$5)+(FH14*$FH$5)+(FI14*$FI$5))/(SUM($EK$5:$FI$5)),3) -> 0 | FK14: =LOOKUP(FJ14,'Final Average'!$H$45:$I$57) -> F
A15: 9 | B15: =IF('1st Quarter'!B15>0,'1st Quarter'!B15,"") | C15: =IF('1st Quarter'!C15>0,'1st Quarter'!C15,"") | D15: =IF('1st Quarter'!D15>0,'1st Quarter'!D15,"") | AE15: =ROUND(((F15*$F$5)+(G15*$G$5)+(H15*$H$5)+(I15*$I$5)+(J15*$J$5)+(K15*$K$5)+(L15*$L$5)+(M15*$M$5)+(N15*$N$5)+(O15*$O$5)+(P15*$P$5)+(Q15*$Q$5)+(R15*$R$5)+(S15*$S$5)+(T15*$T$5)+(U15*$U$5)+(V15*$V$5)+(W15*$W$5)+(X15*$X$5)+(Y15*$Y$5)+(Z15*$Z$5)+(AA15*$AA$5)+(AB15*$AB$5)+(AC15*$AC$5)+(AD15*$AD$5))/(SUM($F$5:$AD$5)),3) -> 0 | AF15: =LOOKUP(AE15,'Final Average'!$H$45:$I$57) -> F | BF15: =ROUND(((AG15*$AG$5)+(AH15*$AH$5)+(AI15*$AI$5)+(AJ15*$AJ$5)+(AK15*$AK$5)+(AL15*$AL$5)+(AM15*$AM$5)+(AN15*$AN$5)+(AO15*$AO$5)+(AP15*$AP$5)+(AQ15*$AQ$5)+(AR15*$AR$5)+(AS15*$AS$5)+(AT15*$AT$5)+(AU15*$AU$5)+(AV15*$AV$5)+(AW15*$AW$5)+(AX15*$AX$5)+(AY15*$AY$5)+(AZ15*$AZ$5)+(BA15*$BA$5)+(BB15*$BB$5)+(BC15*$BC$5)+(BD15*$BD$5)+(BE15*$BE$5))/(SUM($AG$5:$BE$5)),3) -> 0 | BG15: =LOOKUP(BF15,'Final Average'!$H$45:$I$57) -> F | CG15: =((BH15*$BH$5)+(BI15*$BI$5)+(BJ15*$BJ$5)+(BK15*$BK$5)+(BL15*$BL$5)+(BM15*$BM$5)+(BN15*$BN$5)+(BO15*$BO$5)+(BP15*$BP$5)+(BQ15*$BQ$5)+(BR15*$BR$5)+(BS15*$BS$5)+(BT15*$BT$5)+(BU15*$BU$5)+(BV15*$BV$5)+(BW15*$BW$5)+(BX15*$BX$5)+(BY15*$BY$5)+(BZ15*$BZ$5)+(CA15*$CA$5)+(CB15*$CB$5)+(CC15*$CC$5)+(CD15*$CD$5)+(CE15*$CE$5)+(CF15*$CF$5))/(SUM($BH$5:$CF$5)) -> 0 | CH15: =LOOKUP(CG15,'Final Average'!$H$45:$I$57) -> F | DH15: =ROUND(((CI15*$CI$5)+(CJ15*$CJ$5)+(CK15*$CK$5)+(CL15*$CL$5)+(CM15*$CM$5)+(CN15*$CN$5)+(CO15*$CO$5)+(CP15*$CP$5)+(CQ15*$CQ$5)+(CR15*$CR$5)+(CS15*$CS$5)+(CT15*$CT$5)+(CU15*$CU$5)+(CV15*$CV$5)+(CW15*$CW$5)+(CX15*$CX$5)+(CY15*$CY$5)+(CZ15*$CZ$5)+(DA15*$DA$5)+(DB15*$DB$5)+(DC15*$DC$5)+(DD15*$DD$5)+(DE15*$DE$5)+(DF15*$DF$5)+(DG15*$DG$5))/(SUM($CI$5:$DG$5)),3) -> 0 | DI15: =LOOKUP(DH15,'Final Average'!$H$45:$I$57) -> F | EI15: =ROUND(((DJ15*$DJ$5)+(DK15*$DK$5)+(DL15*$DL$5)+(DM15*$DM$5)+(DN15*$DN$5)+(DO15*$DO$5)+(DP15*$DP$5)+(DQ15*$DQ$5)+(DR15*$DR$5)+(DS15*$DS$5)+(DT15*$DT$5)+(DU15*$DU$5)+(DV15*$DV$5)+(DW15*$DW$5)+(DX15*$DX$5)+(DY15*$DY$5)+(DZ15*$DZ$5)+(EA15*$EA$5)+(EB15*$EB$5)+(EC15*$EC$5)+(ED15*$ED$5)+(EE15*$EE$5)+(EF15*$EF$5)+(EG15*$EG$5)+(EH15*$EH$5))/(SUM($DJ$5:$EH$5)),3) -> 0 | EJ15: =LOOKUP(EI15,'Final Average'!$H$45:$I$57) -> F | FJ15: =ROUND(((EK15*$EK$5)+(EL15*$EL$5)+(EM15*$EM$5)+(EN15*$EN$5)+(EO15*$EO$5)+(EP15*$EP$5)+(EQ15*$EQ$5)+(ER15*$ER$5)+(ES15*$ES$5)+(ET15*$ET$5)+(EU15*$EU$5)+(EV15*$EV$5)+(EW15*$EW$5)+(EX15*$EX$5)+(EY15*$EY$5)+(EZ15*$EZ$5)+(FA15*$FA$5)+(FB15*$FB$5)+(FC15*$FC$5)+(FD15*$FD$5)+(FE15*$FE$5)+(FF15*$FF$5)+(FG15*$FG$5)+(FH15*$FH$5)+(FI15*$FI$5))/(SUM($EK$5:$FI$5)),3) -> 0 | FK15: =LOOKUP(FJ15,'Final Average'!$H$45:$I$57) -> F
A16: 10 | B16: =IF('1st Quarter'!B16>0,'1st Quarter'!B16,"") | C16: =IF('1st Quarter'!C16>0,'1st Quarter'!C16,"") | D16: =IF('1st Quarter'!D16>0,'1st Quarter'!D16,"") | AE16: =ROUND(((F16*$F$5)+(G16*$G$5)+(H16*$H$5)+(I16*$I$5)+(J16*$J$5)+(K16*$K$5)+(L16*$L$5)+(M16*$M$5)+(N16*$N$5)+(O16*$O$5)+(P16*$P$5)+(Q16*$Q$5)+(R16*$R$5)+(S16*$S$5)+(T16*$T$5)+(U16*$U$5)+(V16*$V$5)+(W16*$W$5)+(X16*$X$5)+(Y16*$Y$5)+(Z16*$Z$5)+(AA16*$AA$5)+(AB16*$AB$5)+(AC16*$AC$5)+(AD16*$AD$5))/(SUM($F$5:$AD$5)),3) -> 0 | AF16: =LOOKUP(AE16,'Final Average'!$H$45:$I$57) -> F | BF16: =ROUND(((AG16*$AG$5)+(AH16*$AH$5)+(AI16*$AI$5)+(AJ16*$AJ$5)+(AK16*$AK$5)+(AL16*$AL$5)+(AM16*$AM$5)+(AN16*$AN$5)+(AO16*$AO$5)+(AP16*$AP$5)+(AQ16*$AQ$5)+(AR16*$AR$5)+(AS16*$AS$5)+(AT16*$AT$5)+(AU16*$AU$5)+(AV16*$AV$5)+(AW16*$AW$5)+(AX16*$AX$5)+(AY16*$AY$5)+(AZ16*$AZ$5)+(BA16*$BA$5)+(BB16*$BB$5)+(BC16*$BC$5)+(BD16*$BD$5)+(BE16*$BE$5))/(SUM($AG$5:$BE$5)),3) -> 0 | BG16: =LOOKUP(BF16,'Final Average'!$H$45:$I$57) -> F | CG16: =((BH16*$BH$5)+(BI16*$BI$5)+(BJ16*$BJ$5)+(BK16*$BK$5)+(BL16*$BL$5)+(BM16*$BM$5)+(BN16*$BN$5)+(BO16*$BO$5)+(BP16*$BP$5)+(BQ16*$BQ$5)+(BR16*$BR$5)+(BS16*$BS$5)+(BT16*$BT$5)+(BU16*$BU$5)+(BV16*$BV$5)+(BW16*$BW$5)+(BX16*$BX$5)+(BY16*$BY$5)+(BZ16*$BZ$5)+(CA16*$CA$5)+(CB16*$CB$5)+(CC16*$CC$5)+(CD16*$CD$5)+(CE16*$CE$5)+(CF16*$CF$5))/(SUM($BH$5:$CF$5)) -> 0 | CH16: =LOOKUP(CG16,'Final Average'!$H$45:$I$57) -> F | DH16: =ROUND(((CI16*$CI$5)+(CJ16*$CJ$5)+(CK16*$CK$5)+(CL16*$CL$5)+(CM16*$CM$5)+(CN16*$CN$5)+(CO16*$CO$5)+(CP16*$CP$5)+(CQ16*$CQ$5)+(CR16*$CR$5)+(CS16*$CS$5)+(CT16*$CT$5)+(CU16*$CU$5)+(CV16*$CV$5)+(CW16*$CW$5)+(CX16*$CX$5)+(CY16*$CY$5)+(CZ16*$CZ$5)+(DA16*$DA$5)+(DB16*$DB$5)+(DC16*$DC$5)+(DD16*$DD$5)+(DE16*$DE$5)+(DF16*$DF$5)+(DG16*$DG$5))/(SUM($CI$5:$DG$5)),3) -> 0 | DI16: =LOOKUP(DH16,'Final Average'!$H$45:$I$57) -> F | EI16: =ROUND(((DJ16*$DJ$5)+(DK16*$DK$5)+(DL16*$DL$5)+(DM16*$DM$5)+(DN16*$DN$5)+(DO16*$DO$5)+(DP16*$DP$5)+(DQ16*$DQ$5)+(DR16*$DR$5)+(DS16*$DS$5)+(DT16*$DT$5)+(DU16*$DU$5)+(DV16*$DV$5)+(DW16*$DW$5)+(DX16*$DX$5)+(DY16*$DY$5)+(DZ16*$DZ$5)+(EA16*$EA$5)+(EB16*$EB$5)+(EC16*$EC$5)+(ED16*$ED$5)+(EE16*$EE$5)+(EF16*$EF$5)+(EG16*$EG$5)+(EH16*$EH$5))/(SUM($DJ$5:$EH$5)),3) -> 0 | EJ16: =LOOKUP(EI16,'Final Average'!$H$45:$I$57) -> F | FJ16: =ROUND(((EK16*$EK$5)+(EL16*$EL$5)+(EM16*$EM$5)+(EN16*$EN$5)+(EO16*$EO$5)+(EP16*$EP$5)+(EQ16*$EQ$5)+(ER16*$ER$5)+(ES16*$ES$5)+(ET16*$ET$5)+(EU16*$EU$5)+(EV16*$EV$5)+(EW16*$EW$5)+(EX16*$EX$5)+(EY16*$EY$5)+(EZ16*$EZ$5)+(FA16*$FA$5)+(FB16*$FB$5)+(FC16*$FC$5)+(FD16*$FD$5)+(FE16*$FE$5)+(FF16*$FF$5)+(FG16*$FG$5)+(FH16*$FH$5)+(FI16*$FI$5))/(SUM($EK$5:$FI$5)),3) -> 0 | FK16: =LOOKUP(FJ16,'Final Average'!$H$45:$I$57) -> F
A17: 11 | B17: =IF('1st Quarter'!B17>0,'1st Quarter'!B17,"") | C17: =IF('1st Quarter'!C17>0,'1st Quarter'!C17,"") | D17: =IF('1st Quarter'!D17>0,'1st Quarter'!D17,"") | AE17: =ROUND(((F17*$F$5)+(G17*$G$5)+(H17*$H$5)+(I17*$I$5)+(J17*$J$5)+(K17*$K$5)+(L17*$L$5)+(M17*$M$5)+(N17*$N$5)+(O17*$O$5)+(P17*$P$5)+(Q17*$Q$5)+(R17*$R$5)+(S17*$S$5)+(T17*$T$5)+(U17*$U$5)+(V17*$V$5)+(W17*$W$5)+(X17*$X$5)+(Y17*$Y$5)+(Z17*$Z$5)+(AA17*$AA$5)+(AB17*$AB$5)+(AC17*$AC$5)+(AD17*$AD$5))/(SUM($F$5:$AD$5)),3) -> 0 | AF17: =LOOKUP(AE17,'Final Average'!$H$45:$I$57) -> F | BF17: =ROUND(((AG17*$AG$5)+(AH17*$AH$5)+(AI17*$AI$5)+(AJ17*$AJ$5)+(AK17*$AK$5)+(AL17*$AL$5)+(AM17*$AM$5)+(AN17*$AN$5)+(AO17*$AO$5)+(AP17*$AP$5)+(AQ17*$AQ$5)+(AR17*$AR$5)+(AS17*$AS$5)+(AT17*$AT$5)+(AU17*$AU$5)+(AV17*$AV$5)+(AW17*$AW$5)+(AX17*$AX$5)+(AY17*$AY$5)+(AZ17*$AZ$5)+(BA17*$BA$5)+(BB17*$BB$5)+(BC17*$BC$5)+(BD17*$BD$5)+(BE17*$BE$5))/(SUM($AG$5:$BE$5)),3) -> 0 | BG17: =LOOKUP(BF17,'Final Average'!$H$45:$I$57) -> F | CG17: =((BH17*$BH$5)+(BI17*$BI$5)+(BJ17*$BJ$5)+(BK17*$BK$5)+(BL17*$BL$5)+(BM17*$BM$5)+(BN17*$BN$5)+(BO17*$BO$5)+(BP17*$BP$5)+(BQ17*$BQ$5)+(BR17*$BR$5)+(BS17*$BS$5)+(BT17*$BT$5)+(BU17*$BU$5)+(BV17*$BV$5)+(BW17*$BW$5)+(BX17*$BX$5)+(BY17*$BY$5)+(BZ17*$BZ$5)+(CA17*$CA$5)+(CB17*$CB$5)+(CC17*$CC$5)+(CD17*$CD$5)+(CE17*$CE$5)+(CF17*$CF$5))/(SUM($BH$5:$CF$5)) -> 0 | CH17: =LOOKUP(CG17,'Final Average'!$H$45:$I$57) -> F | DH17: =ROUND(((CI17*$CI$5)+(CJ17*$CJ$5)+(CK17*$CK$5)+(CL17*$CL$5)+(CM17*$CM$5)+(CN17*$CN$5)+(CO17*$CO$5)+(CP17*$CP$5)+(CQ17*$CQ$5)+(CR17*$CR$5)+(CS17*$CS$5)+(CT17*$CT$5)+(CU17*$CU$5)+(CV17*$CV$5)+(CW17*$CW$5)+(CX17*$CX$5)+(CY17*$CY$5)+(CZ17*$CZ$5)+(DA17*$DA$5)+(DB17*$DB$5)+(DC17*$DC$5)+(DD17*$DD$5)+(DE17*$DE$5)+(DF17*$DF$5)+(DG17*$DG$5))/(SUM($CI$5:$DG$5)),3) -> 0 | DI17: =LOOKUP(DH17,'Final Average'!$H$45:$I$57) -> F | EI17: =ROUND(((DJ17*$DJ$5)+(DK17*$DK$5)+(DL17*$DL$5)+(DM17*$DM$5)+(DN17*$DN$5)+(DO17*$DO$5)+(DP17*$DP$5)+(DQ17*$DQ$5)+(DR17*$DR$5)+(DS17*$DS$5)+(DT17*$DT$5)+(DU17*$DU$5)+(DV17*$DV$5)+(DW17*$DW$5)+(DX17*$DX$5)+(DY17*$DY$5)+(DZ17*$DZ$5)+(EA17*$EA$5)+(EB17*$EB$5)+(EC17*$EC$5)+(ED17*$ED$5)+(EE17*$EE$5)+(EF17*$EF$5)+(EG17*$EG$5)+(EH17*$EH$5))/(SUM($DJ$5:$EH$5)),3) -> 0 | EJ17: =LOOKUP(EI17,'Final Average'!$H$45:$I$57) -> F | FJ17: =ROUND(((EK17*$EK$5)+(EL17*$EL$5)+(EM17*$EM$5)+(EN17*$EN$5)+(EO17*$EO$5)+(EP17*$EP$5)+(EQ17*$EQ$5)+(ER17*$ER$5)+(ES17*$ES$5)+(ET17*$ET$5)+(EU17*$EU$5)+(EV17*$EV$5)+(EW17*$EW$5)+(EX17*$EX$5)+(EY17*$EY$5)+(EZ17*$EZ$5)+(FA17*$FA$5)+(FB17*$FB$5)+(FC17*$FC$5)+(FD17*$FD$5)+(FE17*$FE$5)+(FF17*$FF$5)+(FG17*$FG$5)+(FH17*$FH$5)+(FI17*$FI$5))/(SUM($EK$5:$FI$5)),3) -> 0 | FK17: =LOOKUP(FJ17,'Final Average'!$H$45:$I$57) -> F
A18: 12 | B18: =IF('1st Quarter'!B18>0,'1st Quarter'!B18,"") | C18: =IF('1st Quarter'!C18>0,'1st Quarter'!C18,"") | D18: =IF('1st Quarter'!D18>0,'1st Quarter'!D18,"") | AE18: =ROUND(((F18*$F$5)+(G18*$G$5)+(H18*$H$5)+(I18*$I$5)+(J18*$J$5)+(K18*$K$5)+(L18*$L$5)+(M18*$M$5)+(N18*$N$5)+(O18*$O$5)+(P18*$P$5)+(Q18*$Q$5)+(R18*$R$5)+(S18*$S$5)+(T18*$T$5)+(U18*$U$5)+(V18*$V$5)+(W18*$W$5)+(X18*$X$5)+(Y18*$Y$5)+(Z18*$Z$5)+(AA18*$AA$5)+(AB18*$AB$5)+(AC18*$AC$5)+(AD18*$AD$5))/(SUM($F$5:$AD$5)),3) -> 0 | AF18: =LOOKUP(AE18,'Final Average'!$H$45:$I$57) -> F | BF18: =ROUND(((AG18*$AG$5)+(AH18*$AH$5)+(AI18*$AI$5)+(AJ18*$AJ$5)+(AK18*$AK$5)+(AL18*$AL$5)+(AM18*$AM$5)+(AN18*$AN$5)+(AO18*$AO$5)+(AP18*$AP$5)+(AQ18*$AQ$5)+(AR18*$AR$5)+(AS18*$AS$5)+(AT18*$AT$5)+(AU18*$AU$5)+(AV18*$AV$5)+(AW18*$AW$5)+(AX18*$AX$5)+(AY18*$AY$5)+(AZ18*$AZ$5)+(BA18*$BA$5)+(BB18*$BB$5)+(BC18*$BC$5)+(BD18*$BD$5)+(BE18*$BE$5))/(SUM($AG$5:$BE$5)),3) -> 0 | BG18: =LOOKUP(BF18,'Final Average'!$H$45:$I$57) -> F | CG18: =((BH18*$BH$5)+(BI18*$BI$5)+(BJ18*$BJ$5)+(BK18*$BK$5)+(BL18*$BL$5)+(BM18*$BM$5)+(BN18*$BN$5)+(BO18*$BO$5)+(BP18*$BP$5)+(BQ18*$BQ$5)+(BR18*$BR$5)+(BS18*$BS$5)+(BT18*$BT$5)+(BU18*$BU$5)+(BV18*$BV$5)+(BW18*$BW$5)+(BX18*$BX$5)+(BY18*$BY$5)+(BZ18*$BZ$5)+(CA18*$CA$5)+(CB18*$CB$5)+(CC18*$CC$5)+(CD18*$CD$5)+(CE18*$CE$5)+(CF18*$CF$5))/(SUM($BH$5:$CF$5)) -> 0 | CH18: =LOOKUP(CG18,'Final Average'!$H$45:$I$57) -> F | DH18: =ROUND(((CI18*$CI$5)+(CJ18*$CJ$5)+(CK18*$CK$5)+(CL18*$CL$5)+(CM18*$CM$5)+(CN18*$CN$5)+(CO18*$CO$5)+(CP18*$CP$5)+(CQ18*$CQ$5)+(CR18*$CR$5)+(CS18*$CS$5)+(CT18*$CT$5)+(CU18*$CU$5)+(CV18*$CV$5)+(CW18*$CW$5)+(CX18*$CX$5)+(CY18*$CY$5)+(CZ18*$CZ$5)+(DA18*$DA$5)+(DB18*$DB$5)+(DC18*$DC$5)+(DD18*$DD$5)+(DE18*$DE$5)+(DF18*$DF$5)+(DG18*$DG$5))/(SUM($CI$5:$DG$5)),3) -> 0 | DI18: =LOOKUP(DH18,'Final Average'!$H$45:$I$57) -> F | EI18: =ROUND(((DJ18*$DJ$5)+(DK18*$DK$5)+(DL18*$DL$5)+(DM18*$DM$5)+(DN18*$DN$5)+(DO18*$DO$5)+(DP18*$DP$5)+(DQ18*$DQ$5)+(DR18*$DR$5)+(DS18*$DS$5)+(DT18*$DT$5)+(DU18*$DU$5)+(DV18*$DV$5)+(DW18*$DW$5)+(DX18*$DX$5)+(DY18*$DY$5)+(DZ18*$DZ$5)+(EA18*$EA$5)+(EB18*$EB$5)+(EC18*$EC$5)+(ED18*$ED$5)+(EE18*$EE$5)+(EF18*$EF$5)+(EG18*$EG$5)+(EH18*$EH$5))/(SUM($DJ$5:$EH$5)),3) -> 0 | EJ18: =LOOKUP(EI18,'Final Average'!$H$45:$I$57) -> F | FJ18: =ROUND(((EK18*$EK$5)+(EL18*$EL$5)+(EM18*$EM$5)+(EN18*$EN$5)+(EO18*$EO$5)+(EP18*$EP$5)+(EQ18*$EQ$5)+(ER18*$ER$5)+(ES18*$ES$5)+(ET18*$ET$5)+(EU18*$EU$5)+(EV18*$EV$5)+(EW18*$EW$5)+(EX18*$EX$5)+(EY18*$EY$5)+(EZ18*$EZ$5)+(FA18*$FA$5)+(FB18*$FB$5)+(FC18*$FC$5)+(FD18*$FD$5)+(FE18*$FE$5)+(FF18*$FF$5)+(FG18*$FG$5)+(FH18*$FH$5)+(FI18*$FI$5))/(SUM($EK$5:$FI$5)),3) -> 0 | FK18: =LOOKUP(FJ18,'Final Average'!$H$45:$I$57) -> F
A19: 13 | B19: =IF('1st Quarter'!B19>0,'1st Quarter'!B19,"") | C19: =IF('1st Quarter'!C19>0,'1st Quarter'!C19,"") | D19: =IF('1st Quarter'!D19>0,'1st Quarter'!D19,"") | AE19: =ROUND(((F19*$F$5)+(G19*$G$5)+(H19*$H$5)+(I19*$I$5)+(J19*$J$5)+(K19*$K$5)+(L19*$L$5)+(M19*$M$5)+(N19*$N$5)+(O19*$O$5)+(P19*$P$5)+(Q19*$Q$5)+(R19*$R$5)+(S19*$S$5)+(T19*$T$5)+(U19*$U$5)+(V19*$V$5)+(W19*$W$5)+(X19*$X$5)+(Y19*$Y$5)+(Z19*$Z$5)+(AA19*$AA$5)+(AB19*$AB$5)+(AC19*$AC$5)+(AD19*$AD$5))/(SUM($F$5:$AD$5)),3) -> 0 | AF19: =LOOKUP(AE19,'Final Average'!$H$45:$I$57) -> F | BF19: =ROUND(((AG19*$AG$5)+(AH19*$AH$5)+(AI19*$AI$5)+(AJ19*$AJ$5)+(AK19*$AK$5)+(AL19*$AL$5)+(AM19*$AM$5)+(AN19*$AN$5)+(AO19*$AO$5)+(AP19*$AP$5)+(AQ19*$AQ$5)+(AR19*$AR$5)+(AS19*$AS$5)+(AT19*$AT$5)+(AU19*$AU$5)+(AV19*$AV$5)+(AW19*$AW$5)+(AX19*$AX$5)+(AY19*$AY$5)+(AZ19*$AZ$5)+(BA19*$BA$5)+(BB19*$BB$5)+(BC19*$BC$5)+(BD19*$BD$5)+(BE19*$BE$5))/(SUM($AG$5:$BE$5)),3) -> 0 | BG19: =LOOKUP(BF19,'Final Average'!$H$45:$I$57) -> F | CG19: =((BH19*$BH$5)+(BI19*$BI$5)+(BJ19*$BJ$5)+(BK19*$BK$5)+(BL19*$BL$5)+(BM19*$BM$5)+(BN19*$BN$5)+(BO19*$BO$5)+(BP19*$BP$5)+(BQ19*$BQ$5)+(BR19*$BR$5)+(BS19*$BS$5)+(BT19*$BT$5)+(BU19*$BU$5)+(BV19*$BV$5)+(BW19*$BW$5)+(BX19*$BX$5)+(BY19*$BY$5)+(BZ19*$BZ$5)+(CA19*$CA$5)+(CB19*$CB$5)+(CC19*$CC$5)+(CD19*$CD$5)+(CE19*$CE$5)+(CF19*$CF$5))/(SUM($BH$5:$CF$5)) -> 0 | CH19: =LOOKUP(CG19,'Final Average'!$H$45:$I$57) -> F | DH19: =ROUND(((CI19*$CI$5)+(CJ19*$CJ$5)+(CK19*$CK$5)+(CL19*$CL$5)+(CM19*$CM$5)+(CN19*$CN$5)+(CO19*$CO$5)+(CP19*$CP$5)+(CQ19*$CQ$5)+(CR19*$CR$5)+(CS19*$CS$5)+(CT19*$CT$5)+(CU19*$CU$5)+(CV19*$CV$5)+(CW19*$CW$5)+(CX19*$CX$5)+(CY19*$CY$5)+(CZ19*$CZ$5)+(DA19*$DA$5)+(DB19*$DB$5)+(DC19*$DC$5)+(DD19*$DD$5)+(DE19*$DE$5)+(DF19*$DF$5)+(DG19*$DG$5))/(SUM($CI$5:$DG$5)),3) -> 0 | DI19: =LOOKUP(DH19,'Final Average'!$H$45:$I$57) -> F | EI19: =ROUND(((DJ19*$DJ$5)+(DK19*$DK$5)+(DL19*$DL$5)+(DM19*$DM$5)+(DN19*$DN$5)+(DO19*$DO$5)+(DP19*$DP$5)+(DQ19*$DQ$5)+(DR19*$DR$5)+(DS19*$DS$5)+(DT19*$DT$5)+(DU19*$DU$5)+(DV19*$DV$5)+(DW19*$DW$5)+(DX19*$DX$5)+(DY19*$DY$5)+(DZ19*$DZ$5)+(EA19*$EA$5)+(EB19*$EB$5)+(EC19*$EC$5)+(ED19*$ED$5)+(EE19*$EE$5)+(EF19*$EF$5)+(EG19*$EG$5)+(EH19*$EH$5))/(SUM($DJ$5:$EH$5)),3) -> 0 | EJ19: =LOOKUP(EI19,'Final Average'!$H$45:$I$57) -> F | FJ19: =ROUND(((EK19*$EK$5)+(EL19*$EL$5)+(EM19*$EM$5)+(EN19*$EN$5)+(EO19*$EO$5)+(EP19*$EP$5)+(EQ19*$EQ$5)+(ER19*$ER$5)+(ES19*$ES$5)+(ET19*$ET$5)+(EU19*$EU$5)+(EV19*$EV$5)+(EW19*$EW$5)+(EX19*$EX$5)+(EY19*$EY$5)+(EZ19*$EZ$5)+(FA19*$FA$5)+(FB19*$FB$5)+(FC19*$FC$5)+(FD19*$FD$5)+(FE19*$FE$5)+(FF19*$FF$5)+(FG19*$FG$5)+(FH19*$FH$5)+(FI19*$FI$5))/(SUM($EK$5:$FI$5)),3) -> 0 | FK19: =LOOKUP(FJ19,'Final Average'!$H$45:$I$57) -> F
... A41: 35 | B41: =IF('1st Quarter'!B41>0,'1st Quarter'!B41,"") | C41: =IF('1st Quarter'!C41>0,'1st Quarter'!C41,"") | D41: =IF('1st Quarter'!D41>0,'1st Quarter'!D41,"") | AE41: =ROUND(((F41*$F$5)+(G41*$G$5)+(H41*$H$5)+(I41*$I$5)+(J41*$J$5)+(K41*$K$5)+(L41*$L$5)+(M41*$M$5)+(N41*$N$5)+(O41*$O$5)+(P41*$P$5)+(Q41*$Q$5)+(R41*$R$5)+(S41*$S$5)+(T41*$T$5)+(U41*$U$5)+(V41*$V$5)+(W41*$W$5)+(X41*$X$5)+(Y41*$Y$5)+(Z41*$Z$5)+(AA41*$AA$5)+(AB41*$AB$5)+(AC41*$AC$5)+(AD41*$AD$5))/(SUM($F$5:$AD$5)),3) -> 0 | AF41: =LOOKUP(AE41,'Final Average'!$H$45:$I$57) -> F | BF41: =ROUND(((AG41*$AG$5)+(AH41*$AH$5)+(AI41*$AI$5)+(AJ41*$AJ$5)+(AK41*$AK$5)+(AL41*$AL$5)+(AM41*$AM$5)+(AN41*$AN$5)+(AO41*$AO$5)+(AP41*$AP$5)+(AQ41*$AQ$5)+(AR41*$AR$5)+(AS41*$AS$5)+(AT41*$AT$5)+(AU41*$AU$5)+(AV41*$AV$5)+(AW41*$AW$5)+(AX41*$AX$5)+(AY41*$AY$5)+(AZ41*$AZ$5)+(BA41*$BA$5)+(BB41*$BB$5)+(BC41*$BC$5)+(BD41*$BD$5)+(BE41*$BE$5))/(SUM($AG$5:$BE$5)),3) -> 0 | BG41: =LOOKUP(BF41,'Final Average'!$H$45:$I$57) -> F | CG41: =((BH41*$BH$5)+(BI41*$BI$5)+(BJ41*$BJ$5)+(BK41*$BK$5)+(BL41*$BL$5)+(BM41*$BM$5)+(BN41*$BN$5)+(BO41*$BO$5)+(BP41*$BP$5)+(BQ41*$BQ$5)+(BR41*$BR$5)+(BS41*$BS$5)+(BT41*$BT$5)+(BU41*$BU$5)+(BV41*$BV$5)+(BW41*$BW$5)+(BX41*$BX$5)+(BY41*$BY$5)+(BZ41*$BZ$5)+(CA41*$CA$5)+(CB41*$CB$5)+(CC41*$CC$5)+(CD41*$CD$5)+(CE41*$CE$5)+(CF41*$CF$5))/(SUM($BH$5:$CF$5)) -> 0 | CH41: =LOOKUP(CG41,'Final Average'!$H$45:$I$57) -> F | DH41: =ROUND(((CI41*$CI$5)+(CJ41*$CJ$5)+(CK41*$CK$5)+(CL41*$CL$5)+(CM41*$CM$5)+(CN41*$CN$5)+(CO41*$CO$5)+(CP41*$CP$5)+(CQ41*$CQ$5)+(CR41*$CR$5)+(CS41*$CS$5)+(CT41*$CT$5)+(CU41*$CU$5)+(CV41*$CV$5)+(CW41*$CW$5)+(CX41*$CX$5)+(CY41*$CY$5)+(CZ41*$CZ$5)+(DA41*$DA$5)+(DB41*$DB$5)+(DC41*$DC$5)+(DD41*$DD$5)+(DE41*$DE$5)+(DF41*$DF$5)+(DG41*$DG$5))/(SUM($CI$5:$DG$5)),3) -> 0 | DI41: =LOOKUP(DH41,'Final Average'!$H$45:$I$57) -> F | EI41: =ROUND(((DJ41*$DJ$5)+(DK41*$DK$5)+(DL41*$DL$5)+(DM41*$DM$5)+(DN41*$DN$5)+(DO41*$DO$5)+(DP41*$DP$5)+(DQ41*$DQ$5)+(DR41*$DR$5)+(DS41*$DS$5)+(DT41*$DT$5)+(DU41*$DU$5)+(DV41*$DV$5)+(DW41*$DW$5)+(DX41*$DX$5)+(DY41*$DY$5)+(DZ41*$DZ$5)+(EA41*$EA$5)+(EB41*$EB$5)+(EC41*$EC$5)+(ED41*$ED$5)+(EE41*$EE$5)+(EF41*$EF$5)+(EG41*$EG$5)+(EH41*$EH$5))/(SUM($DJ$5:$EH$5)),3) -> 0 | EJ41: =LOOKUP(EI41,'Final Average'!$H$45:$I$57) -> F | FJ41: =ROUND(((EK41*$EK$5)+(EL41*$EL$5)+(EM41*$EM$5)+(EN41*$EN$5)+(EO41*$EO$5)+(EP41*$EP$5)+(EQ41*$EQ$5)+(ER41*$ER$5)+(ES41*$ES$5)+(ET41*$ET$5)+(EU41*$EU$5)+(EV41*$EV$5)+(EW41*$EW$5)+(EX41*$EX$5)+(EY41*$EY$5)+(EZ41*$EZ$5)+(FA41*$FA$5)+(FB41*$FB$5)+(FC41*$FC$5)+(FD41*$FD$5)+(FE41*$FE$5)+(FF41*$FF$5)+(FG41*$FG$5)+(FH41*$FH$5)+(FI41*$FI$5))/(SUM($EK$5:$FI$5)),3) -> 0 | FK41: =LOOKUP(FJ41,'Final Average'!$H$45:$I$57) -> F
A42: Class Average | F42: =AVERAGE(F7:F41) -> #DIV/0! | G42: =AVERAGE(G7:G41) -> #DIV/0! | H42: =AVERAGE(H7:H41) -> #DIV/0! | I42: =AVERAGE(I7:I41) -> #DIV/0! | J42: =AVERAGE(J7:J41) -> #DIV/0! | K42: =AVERAGE(K7:K41) -> #DIV/0! | L42: =AVERAGE(L7:L41) -> #DIV/0! | M42: =AVERAGE(M7:M41) -> #DIV/0! | ... AD42: =AVERAGE(AD7:AD41) -> #DIV/0! | AE42: =SUM(AE7:AE41)/Basics!$E$6 -> #VALUE! | AF42: =LOOKUP(AE42,'Final Average'!$H$45:$I$57) -> #VALUE! | AG42: =AVERAGE(AG7:AG41) -> #DIV/0! | AH42: =AVERAGE(AH7:AH41) -> #DIV/0! | AI42: =AVERAGE(AI7:AI41) -> #DIV/0! | AJ42: =AVERAGE(AJ7:AJ41) -> #DIV/0! | AK42: =AVERAGE(AK7:AK41) -> #DIV/0! | AL42: =AVERAGE(AL7:AL41) -> #DIV/0! | AM42: =AVERAGE(AM7:AM41) -> #DIV/0! | AN42: =AVERAGE(AN7:AN41) -> #DIV/0! | ... BE42: =AVERAGE(BE7:BE41) -> #DIV/0! | BF42: =SUM(BF7:BF41)/Basics!$E$6 -> #VALUE! | BG42: =LOOKUP(BF42,'Final Average'!$H$45:$I$57) -> #VALUE! | BH42: =AVERAGE(BH7:BH41) -> #DIV/0! | BI42: =AVERAGE(BI7:BI41) -> #DIV/0! | BJ42: =AVERAGE(BJ7:BJ41) -> #DIV/0! | BK42: =AVERAGE(BK7:BK41) -> #DIV/0! | BL42: =AVERAGE(BL7:BL41) -> #DIV/0! | BM42: =AVERAGE(BM7:BM41) -> #DIV/0! | BN42: =AVERAGE(BN7:BN41) -> #DIV/0! | BO42: =AVERAGE(BO7:BO41) -> #DIV/0! | ... CF42: =AVERAGE(CF7:CF41) -> #DIV/0! | CG42: =SUM(CG7:CG41)/Basics!$E$6 -> #VALUE! | CH42: =LOOKUP(CG42,'Final Average'!$H$45:$I$57) -> #VALUE! | CI42: =AVERAGE(CI7:CI41) -> #DIV/0! | CJ42: =AVERAGE(CJ7:CJ41) -> #DIV/0! | CK42: =AVERAGE(CK7:CK41) -> #DIV/0! | CL42: =AVERAGE(CL7:CL41) -> #DIV/0! | CM42: =AVERAGE(CM7:CM41) -> #DIV/0! | CN42: =AVERAGE(CN7:CN41) -> #DIV/0! | CO42: =AVERAGE(CO7:CO41) -> #DIV/0! | CP42: =AVERAGE(CP7:CP41) -> #DIV/0! | ... DG42: =AVERAGE(DG7:DG41) -> #DIV/0! | DH42: =SUM(DH7:DH41)/Basics!$E$6 -> #VALUE! | DI42: =LOOKUP(DH42,'Final Average'!$H$45:$I$57) -> #VALUE! | DJ42: =AVERAGE(DJ7:DJ41) -> #DIV/0! | DK42: =AVERAGE(DK7:DK41) -> #DIV/0! | DL42: =AVERAGE(DL7:DL41) -> #DIV/0! | DM42: =AVERAGE(DM7:DM41) -> #DIV/0! | DN42: =AVERAGE(DN7:DN41) -> #DIV/0! | DO42: =AVERAGE(DO7:DO41) -> #DIV/0! | DP42: =AVERAGE(DP7:DP41) -> #DIV/0! | DQ42: =AVERAGE(DQ7:DQ41) -> #DIV/0! | ... EH42: =AVERAGE(EH7:EH41) -> #DIV/0! | EI42: =SUM(EI7:EI41)/Basics!$E$6 -> #VALUE! | EJ42: =LOOKUP(EI42,'Final Average'!$H$45:$I$57) -> #VALUE! | EK42: =AVERAGE(EK7:EK41) -> #DIV/0! | EL42: =AVERAGE(EL7:EL41) -> #DIV/0! | EM42: =AVERAGE(EM7:EM41) -> #DIV/0! | EN42: =AVERAGE(EN7:EN41) -> #DIV/0! | EO42: =AVERAGE(EO7:EO41) -> #DIV/0! | EP42: =AVERAGE(EP7:EP41) -> #DIV/0! | EQ42: =AVERAGE(EQ7:EQ41) -> #DIV/0! | ER42: =AVERAGE(ER7:ER41) -> #DIV/0! | ... FI42: =AVERAGE(FI7:FI41) -> #DIV/0! | FJ42: =SUM(FJ7:FJ41)/Basics!$E$6 -> #VALUE! | FK42: =LOOKUP(FJ42,'Final Average'!$H$45:$I$57) -> #VALUE!

Sheet 4th Quarter
A2: Fourth Quarter
A3: Student # | B3: Last Name | C3: First Name | D3: M.I. | F3: ='1st Quarter'!F3:AE3 -> Math | AG3: ='1st Quarter'!AG3:BF3 -> Reading | BH3: ='1st Quarter'!BH3:CG3 -> Spelling | CI3: ='1st Quarter'!CI3:DH3 -> Science | DJ3: ='1st Quarter'!DJ3:EI3 -> Social Studies | EK3: ='1st Quarter'!EK3:FJ3 -> English
F4: 1 | G4: 2 | H4: 3 | I4: 4 | J4: 5 | K4: 6 | L4: 7 | M4: 8 | N4: 9 | O4: 10 | P4: 11 | Q4: 12 | R4: 13 | S4: 14 | T4: 15 | U4: 16 | V4: 17 | W4: 18 | X4: 19 | Y4: 20 | Z4: 21 | AA4: 22 | AB4: 23 | AC4: 24 | AD4: 25 | AE4: Average | AG4: 1 | AH4: 2 | AI4: 3 | AJ4: 4 | AK4: 5 | AL4: 6 | AM4: 7 | AN4: 8 | AO4: 9 | AP4: 10 | AQ4: 11 | AR4: 12 | AS4: 13 | AT4: 14 | AU4: 15 | AV4: 16 | AW4: 17 | AX4: 18 | AY4: 19 | AZ4: 20 | BA4: 21 | BB4: 22 | BC4: 23 | BD4: 24 | BE4: 25 | BF4: Average | BH4: 1 | BI4: 2 | BJ4: 3 | BK4: 4 | BL4: 5 | BM4: 6 | BN4: 7 | BO4: 8 | BP4: 9 | BQ4: 10 | BR4: 11 | BS4: 12 | BT4: 13 | BU4: 14 | BV4: 15 | BW4: 16 | BX4: 17 | BY4: 18 | BZ4: 19 | CA4: 20 | CB4: 21 | CC4: 22 | CD4: 23 | CE4: 24 | CF4: 25 | CG4: Average | CI4: 1 | CJ4: 2 | CK4: 3 | CL4: 4 | CM4: 5 | CN4: 6 | CO4: 7 | CP4: 8 | CQ4: 9 | CR4: 10 | CS4: 11 | CT4: 12 | CU4: 13 | CV4: 14 | CW4: 15 | CX4: 16 | CY4: 17 | CZ4: 18 | DA4: 19 | DB4: 20 | DC4: 21 | DD4: 22 | DE4: 23 | DF4: 24 | DG4: 25 | DH4: Average | DJ4: 1 | DK4: 2 | DL4: 3 | DM4: 4 | DN4: 5 | DO4: 6 | DP4: 7 | DQ4: 8 | DR4: 9 | DS4: 10 | DT4: 11 | DU4: 12 | DV4: 13 | DW4: 14 | DX4: 15 | DY4: 16 | DZ4: 17 | EA4: 18 | EB4: 19 | EC4: 20 | ED4: 21 | EE4: 22 | EF4: 23 | EG4: 24 | EH4: 25 | EI4: Average | EK4: 1 | EL4: 2 | EM4: 3 | EN4: 4 | EO4: 5 | EP4: 6 | EQ4: 7 | ER4: 8 | ES4: 9 | ET4: 10 | EU4: 11 | EV4: 12 | EW4: 13 | EX4: 14 | EY4: 15 | EZ4: 16 | FA4: 17 | FB4: 18 | FC4: 19 | FD4: 20 | FE4: 21 | FF4: 22 | FG4: 23 | FH4: 24 | FI4: 25 | FJ4: Average
E5: Weight | F5: 1 | AG5: 1 | BH5: 1 | CI5: 1 | DJ5: 1 | EK5: 1
D6: Assignment
A7: 1 | B7: =IF('1st Quarter'!B7>0,'1st Quarter'!B7,"") | C7: =IF('1st Quarter'!C7>0,'1st Quarter'!C7,"") | D7: =IF('1st Quarter'!D7>0,'1st Quarter'!D7,"") | AE7: =ROUND(((F7*$F$5)+(G7*$G$5)+(H7*$H$5)+(I7*$I$5)+(J7*$J$5)+(K7*$K$5)+(L7*$L$5)+(M7*$M$5)+(N7*$N$5)+(O7*$O$5)+(P7*$P$5)+(Q7*$Q$5)+(R7*$R$5)+(S7*$S$5)+(T7*$T$5)+(U7*$U$5)+(V7*$V$5)+(W7*$W$5)+(X7*$X$5)+(Y7*$Y$5)+(Z7*$Z$5)+(AA7*$AA$5)+(AB7*$AB$5)+(AC7*$AC$5)+(AD7*$AD$5))/(SUM($F$5:$AD$5)),3) -> 0 | AF7: =LOOKUP(AE7,'Final Average'!$H$45:$I$57) -> F | BF7: =ROUND(((AG7*$AG$5)+(AH7*$AH$5)+(AI7*$AI$5)+(AJ7*$AJ$5)+(AK7*$AK$5)+(AL7*$AL$5)+(AM7*$AM$5)+(AN7*$AN$5)+(AO7*$AO$5)+(AP7*$AP$5)+(AQ7*$AQ$5)+(AR7*$AR$5)+(AS7*$AS$5)+(AT7*$AT$5)+(AU7*$AU$5)+(AV7*$AV$5)+(AW7*$AW$5)+(AX7*$AX$5)+(AY7*$AY$5)+(AZ7*$AZ$5)+(BA7*$BA$5)+(BB7*$BB$5)+(BC7*$BC$5)+(BD7*$BD$5)+(BE7*$BE$5))/(SUM($AG$5:$BE$5)),3) -> 0 | BG7: =LOOKUP(BF7,'Final Average'!$H$45:$I$57) -> F | CG7: =ROUND(((BH7*$BH$5)+(BI7*$BI$5)+(BJ7*$BJ$5)+(BK7*$BK$5)+(BL7*$BL$5)+(BM7*$BM$5)+(BN7*$BN$5)+(BO7*$BO$5)+(BP7*$BP$5)+(BQ7*$BQ$5)+(BR7*$BR$5)+(BS7*$BS$5)+(BT7*$BT$5)+(BU7*$BU$5)+(BV7*$BV$5)+(BW7*$BW$5)+(BX7*$BX$5)+(BY7*$BY$5)+(BZ7*$BZ$5)+(CA7*$CA$5)+(CB7*$CB$5)+(CC7*$CC$5)+(CD7*$CD$5)+(CE7*$CE$5)+(CF7*$CF$5))/(SUM($BH$5:$CF$5)),3) -> 0 | CH7: =LOOKUP(CG7,'Final Average'!$H$45:$I$57) -> F | DH7: =ROUND(((CI7*$CI$5)+(CJ7*$CJ$5)+(CK7*$CK$5)+(CL7*$CL$5)+(CM7*$CM$5)+(CN7*$CN$5)+(CO7*$CO$5)+(CP7*$CP$5)+(CQ7*$CQ$5)+(CR7*$CR$5)+(CS7*$CS$5)+(CT7*$CT$5)+(CU7*$CU$5)+(CV7*$CV$5)+(CW7*$CW$5)+(CX7*$CX$5)+(CY7*$CY$5)+(CZ7*$CZ$5)+(DA7*$DA$5)+(DB7*$DB$5)+(DC7*$DC$5)+(DD7*$DD$5)+(DE7*$DE$5)+(DF7*$DF$5)+(DG7*$DG$5))/(SUM($CI$5:$DG$5)),3) -> 0 | DI7: =LOOKUP(DH7,'Final Average'!$H$45:$I$57) -> F | EI7: =ROUND(((DJ7*$DJ$5)+(DK7*$DK$5)+(DL7*$DL$5)+(DM7*$DM$5)+(DN7*$DN$5)+(DO7*$DO$5)+(DP7*$DP$5)+(DQ7*$DQ$5)+(DR7*$DR$5)+(DS7*$DS$5)+(DT7*$DT$5)+(DU7*$DU$5)+(DV7*$DV$5)+(DW7*$DW$5)+(DX7*$DX$5)+(DY7*$DY$5)+(DZ7*$DZ$5)+(EA7*$EA$5)+(EB7*$EB$5)+(EC7*$EC$5)+(ED7*$ED$5)+(EE7*$EE$5)+(EF7*$EF$5)+(EG7*$EG$5)+(EH7*$EH$5))/(SUM($DJ$5:$EH$5)),3) -> 0 | EJ7: =LOOKUP(EI7,'Final Average'!$H$45:$I$57) -> F | FJ7: =ROUND(((EK7*$EK$5)+(EL7*$EL$5)+(EM7*$EM$5)+(EN7*$EN$5)+(EO7*$EO$5)+(EP7*$EP$5)+(EQ7*$EQ$5)+(ER7*$ER$5)+(ES7*$ES$5)+(ET7*$ET$5)+(EU7*$EU$5)+(EV7*$EV$5)+(EW7*$EW$5)+(EX7*$EX$5)+(EY7*$EY$5)+(EZ7*$EZ$5)+(FA7*$FA$5)+(FB7*$FB$5)+(FC7*$FC$5)+(FD7*$FD$5)+(FE7*$FE$5)+(FF7*$FF$5)+(FG7*$FG$5)+(FH7*$FH$5)+(FI7*$FI$5))/(SUM($EK$5:$FI$5)),3) -> 0 | FK7: =LOOKUP(FJ7,'Final Average'!$H$45:$I$57) -> F
A8: 2 | B8: =IF('1st Quarter'!B8>0,'1st Quarter'!B8,"") | C8: =IF('1st Quarter'!C8>0,'1st Quarter'!C8,"") | D8: =IF('1st Quarter'!D8>0,'1st Quarter'!D8,"") | AE8: =ROUND(((F8*$F$5)+(G8*$G$5)+(H8*$H$5)+(I8*$I$5)+(J8*$J$5)+(K8*$K$5)+(L8*$L$5)+(M8*$M$5)+(N8*$N$5)+(O8*$O$5)+(P8*$P$5)+(Q8*$Q$5)+(R8*$R$5)+(S8*$S$5)+(T8*$T$5)+(U8*$U$5)+(V8*$V$5)+(W8*$W$5)+(X8*$X$5)+(Y8*$Y$5)+(Z8*$Z$5)+(AA8*$AA$5)+(AB8*$AB$5)+(AC8*$AC$5)+(AD8*$AD$5))/(SUM($F$5:$AD$5)),3) -> 0 | AF8: =LOOKUP(AE8,'Final Average'!$H$45:$I$57) -> F | BF8: =ROUND(((AG8*$AG$5)+(AH8*$AH$5)+(AI8*$AI$5)+(AJ8*$AJ$5)+(AK8*$AK$5)+(AL8*$AL$5)+(AM8*$AM$5)+(AN8*$AN$5)+(AO8*$AO$5)+(AP8*$AP$5)+(AQ8*$AQ$5)+(AR8*$AR$5)+(AS8*$AS$5)+(AT8*$AT$5)+(AU8*$AU$5)+(AV8*$AV$5)+(AW8*$AW$5)+(AX8*$AX$5)+(AY8*$AY$5)+(AZ8*$AZ$5)+(BA8*$BA$5)+(BB8*$BB$5)+(BC8*$BC$5)+(BD8*$BD$5)+(BE8*$BE$5))/(SUM($AG$5:$BE$5)),3) -> 0 | BG8: =LOOKUP(BF8,'Final Average'!$H$45:$I$57) -> F | CG8: =((BH8*$BH$5)+(BI8*$BI$5)+(BJ8*$BJ$5)+(BK8*$BK$5)+(BL8*$BL$5)+(BM8*$BM$5)+(BN8*$BN$5)+(BO8*$BO$5)+(BP8*$BP$5)+(BQ8*$BQ$5)+(BR8*$BR$5)+(BS8*$BS$5)+(BT8*$BT$5)+(BU8*$BU$5)+(BV8*$BV$5)+(BW8*$BW$5)+(BX8*$BX$5)+(BY8*$BY$5)+(BZ8*$BZ$5)+(CA8*$CA$5)+(CB8*$CB$5)+(CC8*$CC$5)+(CD8*$CD$5)+(CE8*$CE$5)+(CF8*$CF$5))/(SUM($BH$5:$CF$5)) -> 0 | CH8: =LOOKUP(CG8,'Final Average'!$H$45:$I$57) -> F | DH8: =ROUND(((CI8*$CI$5)+(CJ8*$CJ$5)+(CK8*$CK$5)+(CL8*$CL$5)+(CM8*$CM$5)+(CN8*$CN$5)+(CO8*$CO$5)+(CP8*$CP$5)+(CQ8*$CQ$5)+(CR8*$CR$5)+(CS8*$CS$5)+(CT8*$CT$5)+(CU8*$CU$5)+(CV8*$CV$5)+(CW8*$CW$5)+(CX8*$CX$5)+(CY8*$CY$5)+(CZ8*$CZ$5)+(DA8*$DA$5)+(DB8*$DB$5)+(DC8*$DC$5)+(DD8*$DD$5)+(DE8*$DE$5)+(DF8*$DF$5)+(DG8*$DG$5))/(SUM($CI$5:$DG$5)),3) -> 0 | DI8: =LOOKUP(DH8,'Final Average'!$H$45:$I$57) -> F | EI8: =ROUND(((DJ8*$DJ$5)+(DK8*$DK$5)+(DL8*$DL$5)+(DM8*$DM$5)+(DN8*$DN$5)+(DO8*$DO$5)+(DP8*$DP$5)+(DQ8*$DQ$5)+(DR8*$DR$5)+(DS8*$DS$5)+(DT8*$DT$5)+(DU8*$DU$5)+(DV8*$DV$5)+(DW8*$DW$5)+(DX8*$DX$5)+(DY8*$DY$5)+(DZ8*$DZ$5)+(EA8*$EA$5)+(EB8*$EB$5)+(EC8*$EC$5)+(ED8*$ED$5)+(EE8*$EE$5)+(EF8*$EF$5)+(EG8*$EG$5)+(EH8*$EH$5))/(SUM($DJ$5:$EH$5)),3) -> 0 | EJ8: =LOOKUP(EI8,'Final Average'!$H$45:$I$57) -> F | FJ8: =ROUND(((EK8*$EK$5)+(EL8*$EL$5)+(EM8*$EM$5)+(EN8*$EN$5)+(EO8*$EO$5)+(EP8*$EP$5)+(EQ8*$EQ$5)+(ER8*$ER$5)+(ES8*$ES$5)+(ET8*$ET$5)+(EU8*$EU$5)+(EV8*$EV$5)+(EW8*$EW$5)+(EX8*$EX$5)+(EY8*$EY$5)+(EZ8*$EZ$5)+(FA8*$FA$5)+(FB8*$FB$5)+(FC8*$FC$5)+(FD8*$FD$5)+(FE8*$FE$5)+(FF8*$FF$5)+(FG8*$FG$5)+(FH8*$FH$5)+(FI8*$FI$5))/(SUM($EK$5:$FI$5)),3) -> 0 | FK8: =LOOKUP(FJ8,'Final Average'!$H$45:$I$57) -> F
A9: 3 | B9: =IF('1st Quarter'!B9>0,'1st Quarter'!B9,"") | C9: =IF('1st Quarter'!C9>0,'1st Quarter'!C9,"") | D9: =IF('1st Quarter'!D9>0,'1st Quarter'!D9,"") | AE9: =ROUND(((F9*$F$5)+(G9*$G$5)+(H9*$H$5)+(I9*$I$5)+(J9*$J$5)+(K9*$K$5)+(L9*$L$5)+(M9*$M$5)+(N9*$N$5)+(O9*$O$5)+(P9*$P$5)+(Q9*$Q$5)+(R9*$R$5)+(S9*$S$5)+(T9*$T$5)+(U9*$U$5)+(V9*$V$5)+(W9*$W$5)+(X9*$X$5)+(Y9*$Y$5)+(Z9*$Z$5)+(AA9*$AA$5)+(AB9*$AB$5)+(AC9*$AC$5)+(AD9*$AD$5))/(SUM($F$5:$AD$5)),3) -> 0 | AF9: =LOOKUP(AE9,'Final Average'!$H$45:$I$57) -> F | BF9: =ROUND(((AG9*$AG$5)+(AH9*$AH$5)+(AI9*$AI$5)+(AJ9*$AJ$5)+(AK9*$AK$5)+(AL9*$AL$5)+(AM9*$AM$5)+(AN9*$AN$5)+(AO9*$AO$5)+(AP9*$AP$5)+(AQ9*$AQ$5)+(AR9*$AR$5)+(AS9*$AS$5)+(AT9*$AT$5)+(AU9*$AU$5)+(AV9*$AV$5)+(AW9*$AW$5)+(AX9*$AX$5)+(AY9*$AY$5)+(AZ9*$AZ$5)+(BA9*$BA$5)+(BB9*$BB$5)+(BC9*$BC$5)+(BD9*$BD$5)+(BE9*$BE$5))/(SUM($AG$5:$BE$5)),3) -> 0 | BG9: =LOOKUP(BF9,'Final Average'!$H$45:$I$57) -> F | CG9: =((BH9*$BH$5)+(BI9*$BI$5)+(BJ9*$BJ$5)+(BK9*$BK$5)+(BL9*$BL$5)+(BM9*$BM$5)+(BN9*$BN$5)+(BO9*$BO$5)+(BP9*$BP$5)+(BQ9*$BQ$5)+(BR9*$BR$5)+(BS9*$BS$5)+(BT9*$BT$5)+(BU9*$BU$5)+(BV9*$BV$5)+(BW9*$BW$5)+(BX9*$BX$5)+(BY9*$BY$5)+(BZ9*$BZ$5)+(CA9*$CA$5)+(CB9*$CB$5)+(CC9*$CC$5)+(CD9*$CD$5)+(CE9*$CE$5)+(CF9*$CF$5))/(SUM($BH$5:$CF$5)) -> 0 | CH9: =LOOKUP(CG9,'Final Average'!$H$45:$I$57) -> F | DH9: =ROUND(((CI9*$CI$5)+(CJ9*$CJ$5)+(CK9*$CK$5)+(CL9*$CL$5)+(CM9*$CM$5)+(CN9*$CN$5)+(CO9*$CO$5)+(CP9*$CP$5)+(CQ9*$CQ$5)+(CR9*$CR$5)+(CS9*$CS$5)+(CT9*$CT$5)+(CU9*$CU$5)+(CV9*$CV$5)+(CW9*$CW$5)+(CX9*$CX$5)+(CY9*$CY$5)+(CZ9*$CZ$5)+(DA9*$DA$5)+(DB9*$DB$5)+(DC9*$DC$5)+(DD9*$DD$5)+(DE9*$DE$5)+(DF9*$DF$5)+(DG9*$DG$5))/(SUM($CI$5:$DG$5)),3) -> 0 | DI9: =LOOKUP(DH9,'Final Average'!$H$45:$I$57) -> F | EI9: =ROUND(((DJ9*$DJ$5)+(DK9*$DK$5)+(DL9*$DL$5)+(DM9*$DM$5)+(DN9*$DN$5)+(DO9*$DO$5)+(DP9*$DP$5)+(DQ9*$DQ$5)+(DR9*$DR$5)+(DS9*$DS$5)+(DT9*$DT$5)+(DU9*$DU$5)+(DV9*$DV$5)+(DW9*$DW$5)+(DX9*$DX$5)+(DY9*$DY$5)+(DZ9*$DZ$5)+(EA9*$EA$5)+(EB9*$EB$5)+(EC9*$EC$5)+(ED9*$ED$5)+(EE9*$EE$5)+(EF9*$EF$5)+(EG9*$EG$5)+(EH9*$EH$5))/(SUM($DJ$5:$EH$5)),3) -> 0 | EJ9: =LOOKUP(EI9,'Final Average'!$H$45:$I$57) -> F | FJ9: =ROUND(((EK9*$EK$5)+(EL9*$EL$5)+(EM9*$EM$5)+(EN9*$EN$5)+(EO9*$EO$5)+(EP9*$EP$5)+(EQ9*$EQ$5)+(ER9*$ER$5)+(ES9*$ES$5)+(ET9*$ET$5)+(EU9*$EU$5)+(EV9*$EV$5)+(EW9*$EW$5)+(EX9*$EX$5)+(EY9*$EY$5)+(EZ9*$EZ$5)+(FA9*$FA$5)+(FB9*$FB$5)+(FC9*$FC$5)+(FD9*$FD$5)+(FE9*$FE$5)+(FF9*$FF$5)+(FG9*$FG$5)+(FH9*$FH$5)+(FI9*$FI$5))/(SUM($EK$5:$FI$5)),3) -> 0 | FK9: =LOOKUP(FJ9,'Final Average'!$H$45:$I$57) -> F
A10: 4 | B10: =IF('1st Quarter'!B10>0,'1st Quarter'!B10,"") | C10: =IF('1st Quarter'!C10>0,'1st Quarter'!C10,"") | D10: =IF('1st Quarter'!D10>0,'1st Quarter'!D10,"") | AE10: =ROUND(((F10*$F$5)+(G10*$G$5)+(H10*$H$5)+(I10*$I$5)+(J10*$J$5)+(K10*$K$5)+(L10*$L$5)+(M10*$M$5)+(N10*$N$5)+(O10*$O$5)+(P10*$P$5)+(Q10*$Q$5)+(R10*$R$5)+(S10*$S$5)+(T10*$T$5)+(U10*$U$5)+(V10*$V$5)+(W10*$W$5)+(X10*$X$5)+(Y10*$Y$5)+(Z10*$Z$5)+(AA10*$AA$5)+(AB10*$AB$5)+(AC10*$AC$5)+(AD10*$AD$5))/(SUM($F$5:$AD$5)),3) -> 0 | AF10: =LOOKUP(AE10,'Final Average'!$H$45:$I$57) -> F | BF10: =ROUND(((AG10*$AG$5)+(AH10*$AH$5)+(AI10*$AI$5)+(AJ10*$AJ$5)+(AK10*$AK$5)+(AL10*$AL$5)+(AM10*$AM$5)+(AN10*$AN$5)+(AO10*$AO$5)+(AP10*$AP$5)+(AQ10*$AQ$5)+(AR10*$AR$5)+(AS10*$AS$5)+(AT10*$AT$5)+(AU10*$AU$5)+(AV10*$AV$5)+(AW10*$AW$5)+(AX10*$AX$5)+(AY10*$AY$5)+(AZ10*$AZ$5)+(BA10*$BA$5)+(BB10*$BB$5)+(BC10*$BC$5)+(BD10*$BD$5)+(BE10*$BE$5))/(SUM($AG$5:$BE$5)),3) -> 0 | BG10: =LOOKUP(BF10,'Final Average'!$H$45:$I$57) -> F | CG10: =((BH10*$BH$5)+(BI10*$BI$5)+(BJ10*$BJ$5)+(BK10*$BK$5)+(BL10*$BL$5)+(BM10*$BM$5)+(BN10*$BN$5)+(BO10*$BO$5)+(BP10*$BP$5)+(BQ10*$BQ$5)+(BR10*$BR$5)+(BS10*$BS$5)+(BT10*$BT$5)+(BU10*$BU$5)+(BV10*$BV$5)+(BW10*$BW$5)+(BX10*$BX$5)+(BY10*$BY$5)+(BZ10*$BZ$5)+(CA10*$CA$5)+(CB10*$CB$5)+(CC10*$CC$5)+(CD10*$CD$5)+(CE10*$CE$5)+(CF10*$CF$5))/(SUM($BH$5:$CF$5)) -> 0 | CH10: =LOOKUP(CG10,'Final Average'!$H$45:$I$57) -> F | DH10: =ROUND(((CI10*$CI$5)+(CJ10*$CJ$5)+(CK10*$CK$5)+(CL10*$CL$5)+(CM10*$CM$5)+(CN10*$CN$5)+(CO10*$CO$5)+(CP10*$CP$5)+(CQ10*$CQ$5)+(CR10*$CR$5)+(CS10*$CS$5)+(CT10*$CT$5)+(CU10*$CU$5)+(CV10*$CV$5)+(CW10*$CW$5)+(CX10*$CX$5)+(CY10*$CY$5)+(CZ10*$CZ$5)+(DA10*$DA$5)+(DB10*$DB$5)+(DC10*$DC$5)+(DD10*$DD$5)+(DE10*$DE$5)+(DF10*$DF$5)+(DG10*$DG$5))/(SUM($CI$5:$DG$5)),3) -> 0 | DI10: =LOOKUP(DH10,'Final Average'!$H$45:$I$57) -> F | EI10: =ROUND(((DJ10*$DJ$5)+(DK10*$DK$5)+(DL10*$DL$5)+(DM10*$DM$5)+(DN10*$DN$5)+(DO10*$DO$5)+(DP10*$DP$5)+(DQ10*$DQ$5)+(DR10*$DR$5)+(DS10*$DS$5)+(DT10*$DT$5)+(DU10*$DU$5)+(DV10*$DV$5)+(DW10*$DW$5)+(DX10*$DX$5)+(DY10*$DY$5)+(DZ10*$DZ$5)+(EA10*$EA$5)+(EB10*$EB$5)+(EC10*$EC$5)+(ED10*$ED$5)+(EE10*$EE$5)+(EF10*$EF$5)+(EG10*$EG$5)+(EH10*$EH$5))/(SUM($DJ$5:$EH$5)),3) -> 0 | EJ10: =LOOKUP(EI10,'Final Average'!$H$45:$I$57) -> F | FJ10: =ROUND(((EK10*$EK$5)+(EL10*$EL$5)+(EM10*$EM$5)+(EN10*$EN$5)+(EO10*$EO$5)+(EP10*$EP$5)+(EQ10*$EQ$5)+(ER10*$ER$5)+(ES10*$ES$5)+(ET10*$ET$5)+(EU10*$EU$5)+(EV10*$EV$5)+(EW10*$EW$5)+(EX10*$EX$5)+(EY10*$EY$5)+(EZ10*$EZ$5)+(FA10*$FA$5)+(FB10*$FB$5)+(FC10*$FC$5)+(FD10*$FD$5)+(FE10*$FE$5)+(FF10*$FF$5)+(FG10*$FG$5)+(FH10*$FH$5)+(FI10*$FI$5))/(SUM($EK$5:$FI$5)),3) -> 0 | FK10: =LOOKUP(FJ10,'Final Average'!$H$45:$I$57) -> F
A11: 5 | B11: =IF('1st Quarter'!B11>0,'1st Quarter'!B11,"") | C11: =IF('1st Quarter'!C11>0,'1st Quarter'!C11,"") | D11: =IF('1st Quarter'!D11>0,'1st Quarter'!D11,"") | AE11: =ROUND(((F11*$F$5)+(G11*$G$5)+(H11*$H$5)+(I11*$I$5)+(J11*$J$5)+(K11*$K$5)+(L11*$L$5)+(M11*$M$5)+(N11*$N$5)+(O11*$O$5)+(P11*$P$5)+(Q11*$Q$5)+(R11*$R$5)+(S11*$S$5)+(T11*$T$5)+(U11*$U$5)+(V11*$V$5)+(W11*$W$5)+(X11*$X$5)+(Y11*$Y$5)+(Z11*$Z$5)+(AA11*$AA$5)+(AB11*$AB$5)+(AC11*$AC$5)+(AD11*$AD$5))/(SUM($F$5:$AD$5)),3) -> 0 | AF11: =LOOKUP(AE11,'Final Average'!$H$45:$I$57) -> F | BF11: =ROUND(((AG11*$AG$5)+(AH11*$AH$5)+(AI11*$AI$5)+(AJ11*$AJ$5)+(AK11*$AK$5)+(AL11*$AL$5)+(AM11*$AM$5)+(AN11*$AN$5)+(AO11*$AO$5)+(AP11*$AP$5)+(AQ11*$AQ$5)+(AR11*$AR$5)+(AS11*$AS$5)+(AT11*$AT$5)+(AU11*$AU$5)+(AV11*$AV$5)+(AW11*$AW$5)+(AX11*$AX$5)+(AY11*$AY$5)+(AZ11*$AZ$5)+(BA11*$BA$5)+(BB11*$BB$5)+(BC11*$BC$5)+(BD11*$BD$5)+(BE11*$BE$5))/(SUM($AG$5:$BE$5)),3) -> 0 | BG11: =LOOKUP(BF11,'Final Average'!$H$45:$I$57) -> F | CG11: =((BH11*$BH$5)+(BI11*$BI$5)+(BJ11*$BJ$5)+(BK11*$BK$5)+(BL11*$BL$5)+(BM11*$BM$5)+(BN11*$BN$5)+(BO11*$BO$5)+(BP11*$BP$5)+(BQ11*$BQ$5)+(BR11*$BR$5)+(BS11*$BS$5)+(BT11*$BT$5)+(BU11*$BU$5)+(BV11*$BV$5)+(BW11*$BW$5)+(BX11*$BX$5)+(BY11*$BY$5)+(BZ11*$BZ$5)+(CA11*$CA$5)+(CB11*$CB$5)+(CC11*$CC$5)+(CD11*$CD$5)+(CE11*$CE$5)+(CF11*$CF$5))/(SUM($BH$5:$CF$5)) -> 0 | CH11: =LOOKUP(CG11,'Final Average'!$H$45:$I$57) -> F | DH11: =ROUND(((CI11*$CI$5)+(CJ11*$CJ$5)+(CK11*$CK$5)+(CL11*$CL$5)+(CM11*$CM$5)+(CN11*$CN$5)+(CO11*$CO$5)+(CP11*$CP$5)+(CQ11*$CQ$5)+(CR11*$CR$5)+(CS11*$CS$5)+(CT11*$CT$5)+(CU11*$CU$5)+(CV11*$CV$5)+(CW11*$CW$5)+(CX11*$CX$5)+(CY11*$CY$5)+(CZ11*$CZ$5)+(DA11*$DA$5)+(DB11*$DB$5)+(DC11*$DC$5)+(DD11*$DD$5)+(DE11*$DE$5)+(DF11*$DF$5)+(DG11*$DG$5))/(SUM($CI$5:$DG$5)),3) -> 0 | DI11: =LOOKUP(DH11,'Final Average'!$H$45:$I$57) -> F | EI11: =ROUND(((DJ11*$DJ$5)+(DK11*$DK$5)+(DL11*$DL$5)+(DM11*$DM$5)+(DN11*$DN$5)+(DO11*$DO$5)+(DP11*$DP$5)+(DQ11*$DQ$5)+(DR11*$DR$5)+(DS11*$DS$5)+(DT11*$DT$5)+(DU11*$DU$5)+(DV11*$DV$5)+(DW11*$DW$5)+(DX11*$DX$5)+(DY11*$DY$5)+(DZ11*$DZ$5)+(EA11*$EA$5)+(EB11*$EB$5)+(EC11*$EC$5)+(ED11*$ED$5)+(EE11*$EE$5)+(EF11*$EF$5)+(EG11*$EG$5)+(EH11*$EH$5))/(SUM($DJ$5:$EH$5)),3) -> 0 | EJ11: =LOOKUP(EI11,'Final Average'!$H$45:$I$57) -> F | FJ11: =ROUND(((EK11*$EK$5)+(EL11*$EL$5)+(EM11*$EM$5)+(EN11*$EN$5)+(EO11*$EO$5)+(EP11*$EP$5)+(EQ11*$EQ$5)+(ER11*$ER$5)+(ES11*$ES$5)+(ET11*$ET$5)+(EU11*$EU$5)+(EV11*$EV$5)+(EW11*$EW$5)+(EX11*$EX$5)+(EY11*$EY$5)+(EZ11*$EZ$5)+(FA11*$FA$5)+(FB11*$FB$5)+(FC11*$FC$5)+(FD11*$FD$5)+(FE11*$FE$5)+(FF11*$FF$5)+(FG11*$FG$5)+(FH11*$FH$5)+(FI11*$FI$5))/(SUM($EK$5:$FI$5)),3) -> 0 | FK11: =LOOKUP(FJ11,'Final Average'!$H$45:$I$57) -> F
A12: 6 | B12: =IF('1st Quarter'!B12>0,'1st Quarter'!B12,"") | C12: =IF('1st Quarter'!C12>0,'1st Quarter'!C12,"") | D12: =IF('1st Quarter'!D12>0,'1st Quarter'!D12,"") | AE12: =ROUND(((F12*$F$5)+(G12*$G$5)+(H12*$H$5)+(I12*$I$5)+(J12*$J$5)+(K12*$K$5)+(L12*$L$5)+(M12*$M$5)+(N12*$N$5)+(O12*$O$5)+(P12*$P$5)+(Q12*$Q$5)+(R12*$R$5)+(S12*$S$5)+(T12*$T$5)+(U12*$U$5)+(V12*$V$5)+(W12*$W$5)+(X12*$X$5)+(Y12*$Y$5)+(Z12*$Z$5)+(AA12*$AA$5)+(AB12*$AB$5)+(AC12*$AC$5)+(AD12*$AD$5))/(SUM($F$5:$AD$5)),3) -> 0 | AF12: =LOOKUP(AE12,'Final Average'!$H$45:$I$57) -> F | BF12: =ROUND(((AG12*$AG$5)+(AH12*$AH$5)+(AI12*$AI$5)+(AJ12*$AJ$5)+(AK12*$AK$5)+(AL12*$AL$5)+(AM12*$AM$5)+(AN12*$AN$5)+(AO12*$AO$5)+(AP12*$AP$5)+(AQ12*$AQ$5)+(AR12*$AR$5)+(AS12*$AS$5)+(AT12*$AT$5)+(AU12*$AU$5)+(AV12*$AV$5)+(AW12*$AW$5)+(AX12*$AX$5)+(AY12*$AY$5)+(AZ12*$AZ$5)+(BA12*$BA$5)+(BB12*$BB$5)+(BC12*$BC$5)+(BD12*$BD$5)+(BE12*$BE$5))/(SUM($AG$5:$BE$5)),3) -> 0 | BG12: =LOOKUP(BF12,'Final Average'!$H$45:$I$57) -> F | CG12: =((BH12*$BH$5)+(BI12*$BI$5)+(BJ12*$BJ$5)+(BK12*$BK$5)+(BL12*$BL$5)+(BM12*$BM$5)+(BN12*$BN$5)+(BO12*$BO$5)+(BP12*$BP$5)+(BQ12*$BQ$5)+(BR12*$BR$5)+(BS12*$BS$5)+(BT12*$BT$5)+(BU12*$BU$5)+(BV12*$BV$5)+(BW12*$BW$5)+(BX12*$BX$5)+(BY12*$BY$5)+(BZ12*$BZ$5)+(CA12*$CA$5)+(CB12*$CB$5)+(CC12*$CC$5)+(CD12*$CD$5)+(CE12*$CE$5)+(CF12*$CF$5))/(SUM($BH$5:$CF$5)) -> 0 | CH12: =LOOKUP(CG12,'Final Average'!$H$45:$I$57) -> F | DH12: =ROUND(((CI12*$CI$5)+(CJ12*$CJ$5)+(CK12*$CK$5)+(CL12*$CL$5)+(CM12*$CM$5)+(CN12*$CN$5)+(CO12*$CO$5)+(CP12*$CP$5)+(CQ12*$CQ$5)+(CR12*$CR$5)+(CS12*$CS$5)+(CT12*$CT$5)+(CU12*$CU$5)+(CV12*$CV$5)+(CW12*$CW$5)+(CX12*$CX$5)+(CY12*$CY$5)+(CZ12*$CZ$5)+(DA12*$DA$5)+(DB12*$DB$5)+(DC12*$DC$5)+(DD12*$DD$5)+(DE12*$DE$5)+(DF12*$DF$5)+(DG12*$DG$5))/(SUM($CI$5:$DG$5)),3) -> 0 | DI12: =LOOKUP(DH12,'Final Average'!$H$45:$I$57) -> F | EI12: =ROUND(((DJ12*$DJ$5)+(DK12*$DK$5)+(DL12*$DL$5)+(DM12*$DM$5)+(DN12*$DN$5)+(DO12*$DO$5)+(DP12*$DP$5)+(DQ12*$DQ$5)+(DR12*$DR$5)+(DS12*$DS$5)+(DT12*$DT$5)+(DU12*$DU$5)+(DV12*$DV$5)+(DW12*$DW$5)+(DX12*$DX$5)+(DY12*$DY$5)+(DZ12*$DZ$5)+(EA12*$EA$5)+(EB12*$EB$5)+(EC12*$EC$5)+(ED12*$ED$5)+(EE12*$EE$5)+(EF12*$EF$5)+(EG12*$EG$5)+(EH12*$EH$5))/(SUM($DJ$5:$EH$5)),3) -> 0 | EJ12: =LOOKUP(EI12,'Final Average'!$H$45:$I$57) -> F | FJ12: =ROUND(((EK12*$EK$5)+(EL12*$EL$5)+(EM12*$EM$5)+(EN12*$EN$5)+(EO12*$EO$5)+(EP12*$EP$5)+(EQ12*$EQ$5)+(ER12*$ER$5)+(ES12*$ES$5)+(ET12*$ET$5)+(EU12*$EU$5)+(EV12*$EV$5)+(EW12*$EW$5)+(EX12*$EX$5)+(EY12*$EY$5)+(EZ12*$EZ$5)+(FA12*$FA$5)+(FB12*$FB$5)+(FC12*$FC$5)+(FD12*$FD$5)+(FE12*$FE$5)+(FF12*$FF$5)+(FG12*$FG$5)+(FH12*$FH$5)+(FI12*$FI$5))/(SUM($EK$5:$FI$5)),3) -> 0 | FK12: =LOOKUP(FJ12,'Final Average'!$H$45:$I$57) -> F
A13: 7 | B13: =IF('1st Quarter'!B13>0,'1st Quarter'!B13,"") | C13: =IF('1st Quarter'!C13>0,'1st Quarter'!C13,"") | D13: =IF('1st Quarter'!D13>0,'1st Quarter'!D13,"") | AE13: =ROUND(((F13*$F$5)+(G13*$G$5)+(H13*$H$5)+(I13*$I$5)+(J13*$J$5)+(K13*$K$5)+(L13*$L$5)+(M13*$M$5)+(N13*$N$5)+(O13*$O$5)+(P13*$P$5)+(Q13*$Q$5)+(R13*$R$5)+(S13*$S$5)+(T13*$T$5)+(U13*$U$5)+(V13*$V$5)+(W13*$W$5)+(X13*$X$5)+(Y13*$Y$5)+(Z13*$Z$5)+(AA13*$AA$5)+(AB13*$AB$5)+(AC13*$AC$5)+(AD13*$AD$5))/(SUM($F$5:$AD$5)),3) -> 0 | AF13: =LOOKUP(AE13,'Final Average'!$H$45:$I$57) -> F | BF13: =ROUND(((AG13*$AG$5)+(AH13*$AH$5)+(AI13*$AI$5)+(AJ13*$AJ$5)+(AK13*$AK$5)+(AL13*$AL$5)+(AM13*$AM$5)+(AN13*$AN$5)+(AO13*$AO$5)+(AP13*$AP$5)+(AQ13*$AQ$5)+(AR13*$AR$5)+(AS13*$AS$5)+(AT13*$AT$5)+(AU13*$AU$5)+(AV13*$AV$5)+(AW13*$AW$5)+(AX13*$AX$5)+(AY13*$AY$5)+(AZ13*$AZ$5)+(BA13*$BA$5)+(BB13*$BB$5)+(BC13*$BC$5)+(BD13*$BD$5)+(BE13*$BE$5))/(SUM($AG$5:$BE$5)),3) -> 0 | BG13: =LOOKUP(BF13,'Final Average'!$H$45:$I$57) -> F | CG13: =((BH13*$BH$5)+(BI13*$BI$5)+(BJ13*$BJ$5)+(BK13*$BK$5)+(BL13*$BL$5)+(BM13*$BM$5)+(BN13*$BN$5)+(BO13*$BO$5)+(BP13*$BP$5)+(BQ13*$BQ$5)+(BR13*$BR$5)+(BS13*$BS$5)+(BT13*$BT$5)+(BU13*$BU$5)+(BV13*$BV$5)+(BW13*$BW$5)+(BX13*$BX$5)+(BY13*$BY$5)+(BZ13*$BZ$5)+(CA13*$CA$5)+(CB13*$CB$5)+(CC13*$CC$5)+(CD13*$CD$5)+(CE13*$CE$5)+(CF13*$CF$5))/(SUM($BH$5:$CF$5)) -> 0 | CH13: =LOOKUP(CG13,'Final Average'!$H$45:$I$57) -> F | DH13: =ROUND(((CI13*$CI$5)+(CJ13*$CJ$5)+(CK13*$CK$5)+(CL13*$CL$5)+(CM13*$CM$5)+(CN13*$CN$5)+(CO13*$CO$5)+(CP13*$CP$5)+(CQ13*$CQ$5)+(CR13*$CR$5)+(CS13*$CS$5)+(CT13*$CT$5)+(CU13*$CU$5)+(CV13*$CV$5)+(CW13*$CW$5)+(CX13*$CX$5)+(CY13*$CY$5)+(CZ13*$CZ$5)+(DA13*$DA$5)+(DB13*$DB$5)+(DC13*$DC$5)+(DD13*$DD$5)+(DE13*$DE$5)+(DF13*$DF$5)+(DG13*$DG$5))/(SUM($CI$5:$DG$5)),3) -> 0 | DI13: =LOOKUP(DH13,'Final Average'!$H$45:$I$57) -> F | EI13: =ROUND(((DJ13*$DJ$5)+(DK13*$DK$5)+(DL13*$DL$5)+(DM13*$DM$5)+(DN13*$DN$5)+(DO13*$DO$5)+(DP13*$DP$5)+(DQ13*$DQ$5)+(DR13*$DR$5)+(DS13*$DS$5)+(DT13*$DT$5)+(DU13*$DU$5)+(DV13*$DV$5)+(DW13*$DW$5)+(DX13*$DX$5)+(DY13*$DY$5)+(DZ13*$DZ$5)+(EA13*$EA$5)+(EB13*$EB$5)+(EC13*$EC$5)+(ED13*$ED$5)+(EE13*$EE$5)+(EF13*$EF$5)+(EG13*$EG$5)+(EH13*$EH$5))/(SUM($DJ$5:$EH$5)),3) -> 0 | EJ13: =LOOKUP(EI13,'Final Average'!$H$45:$I$57) -> F | FJ13: =ROUND(((EK13*$EK$5)+(EL13*$EL$5)+(EM13*$EM$5)+(EN13*$EN$5)+(EO13*$EO$5)+(EP13*$EP$5)+(EQ13*$EQ$5)+(ER13*$ER$5)+(ES13*$ES$5)+(ET13*$ET$5)+(EU13*$EU$5)+(EV13*$EV$5)+(EW13*$EW$5)+(EX13*$EX$5)+(EY13*$EY$5)+(EZ13*$EZ$5)+(FA13*$FA$5)+(FB13*$FB$5)+(FC13*$FC$5)+(FD13*$FD$5)+(FE13*$FE$5)+(FF13*$FF$5)+(FG13*$FG$5)+(FH13*$FH$5)+(FI13*$FI$5))/(SUM($EK$5:$FI$5)),3) -> 0 | FK13: =LOOKUP(FJ13,'Final Average'!$H$45:$I$57) -> F
A14: 8 | B14: =IF('1st Quarter'!B14>0,'1st Quarter'!B14,"") | C14: =IF('1st Quarter'!C14>0,'1st Quarter'!C14,"") | D14: =IF('1st Quarter'!D14>0,'1st Quarter'!D14,"") | AE14: =ROUND(((F14*$F$5)+(G14*$G$5)+(H14*$H$5)+(I14*$I$5)+(J14*$J$5)+(K14*$K$5)+(L14*$L$5)+(M14*$M$5)+(N14*$N$5)+(O14*$O$5)+(P14*$P$5)+(Q14*$Q$5)+(R14*$R$5)+(S14*$S$5)+(T14*$T$5)+(U14*$U$5)+(V14*$V$5)+(W14*$W$5)+(X14*$X$5)+(Y14*$Y$5)+(Z14*$Z$5)+(AA14*$AA$5)+(AB14*$AB$5)+(AC14*$AC$5)+(AD14*$AD$5))/(SUM($F$5:$AD$5)),3) -> 0 | AF14: =LOOKUP(AE14,'Final Average'!$H$45:$I$57) -> F | BF14: =ROUND(((AG14*$AG$5)+(AH14*$AH$5)+(AI14*$AI$5)+(AJ14*$AJ$5)+(AK14*$AK$5)+(AL14*$AL$5)+(AM14*$AM$5)+(AN14*$AN$5)+(AO14*$AO$5)+(AP14*$AP$5)+(AQ14*$AQ$5)+(AR14*$AR$5)+(AS14*$AS$5)+(AT14*$AT$5)+(AU14*$AU$5)+(AV14*$AV$5)+(AW14*$AW$5)+(AX14*$AX$5)+(AY14*$AY$5)+(AZ14*$AZ$5)+(BA14*$BA$5)+(BB14*$BB$5)+(BC14*$BC$5)+(BD14*$BD$5)+(BE14*$BE$5))/(SUM($AG$5:$BE$5)),3) -> 0 | BG14: =LOOKUP(BF14,'Final Average'!$H$45:$I$57) -> F | CG14: =((BH14*$BH$5)+(BI14*$BI$5)+(BJ14*$BJ$5)+(BK14*$BK$5)+(BL14*$BL$5)+(BM14*$BM$5)+(BN14*$BN$5)+(BO14*$BO$5)+(BP14*$BP$5)+(BQ14*$BQ$5)+(BR14*$BR$5)+(BS14*$BS$5)+(BT14*$BT$5)+(BU14*$BU$5)+(BV14*$BV$5)+(BW14*$BW$5)+(BX14*$BX$5)+(BY14*$BY$5)+(BZ14*$BZ$5)+(CA14*$CA$5)+(CB14*$CB$5)+(CC14*$CC$5)+(CD14*$CD$5)+(CE14*$CE$5)+(CF14*$CF$5))/(SUM($BH$5:$CF$5)) -> 0 | CH14: =LOOKUP(CG14,'Final Average'!$H$45:$I$57) -> F | DH14: =ROUND(((CI14*$CI$5)+(CJ14*$CJ$5)+(CK14*$CK$5)+(CL14*$CL$5)+(CM14*$CM$5)+(CN14*$CN$5)+(CO14*$CO$5)+(CP14*$CP$5)+(CQ14*$CQ$5)+(CR14*$CR$5)+(CS14*$CS$5)+(CT14*$CT$5)+(CU14*$CU$5)+(CV14*$CV$5)+(CW14*$CW$5)+(CX14*$CX$5)+(CY14*$CY$5)+(CZ14*$CZ$5)+(DA14*$DA$5)+(DB14*$DB$5)+(DC14*$DC$5)+(DD14*$DD$5)+(DE14*$DE$5)+(DF14*$DF$5)+(DG14*$DG$5))/(SUM($CI$5:$DG$5)),3) -> 0 | DI14: =LOOKUP(DH14,'Final Average'!$H$45:$I$57) -> F | EI14: =ROUND(((DJ14*$DJ$5)+(DK14*$DK$5)+(DL14*$DL$5)+(DM14*$DM$5)+(DN14*$DN$5)+(DO14*$DO$5)+(DP14*$DP$5)+(DQ14*$DQ$5)+(DR14*$DR$5)+(DS14*$DS$5)+(DT14*$DT$5)+(DU14*$DU$5)+(DV14*$DV$5)+(DW14*$DW$5)+(DX14*$DX$5)+(DY14*$DY$5)+(DZ14*$DZ$5)+(EA14*$EA$5)+(EB14*$EB$5)+(EC14*$EC$5)+(ED14*$ED$5)+(EE14*$EE$5)+(EF14*$EF$5)+(EG14*$EG$5)+(EH14*$EH$5))/(SUM($DJ$5:$EH$5)),3) -> 0 | EJ14: =LOOKUP(EI14,'Final Average'!$H$45:$I$57) -> F | FJ14: =ROUND(((EK14*$EK$5)+(EL14*$EL$5)+(EM14*$EM$5)+(EN14*$EN$5)+(EO14*$EO$5)+(EP14*$EP$5)+(EQ14*$EQ$5)+(ER14*$ER$5)+(ES14*$ES$5)+(ET14*$ET$5)+(EU14*$EU$5)+(EV14*$EV$5)+(EW14*$EW$5)+(EX14*$EX$5)+(EY14*$EY$5)+(EZ14*$EZ$5)+(FA14*$FA$5)+(FB14*$FB$5)+(FC14*$FC$5)+(FD14*$FD$5)+(FE14*$FE$5)+(FF14*$FF$5)+(FG14*$FG$5)+(FH14*$FH$5)+(FI14*$FI$5))/(SUM($EK$5:$FI$5)),3) -> 0 | FK14: =LOOKUP(FJ14,'Final Average'!$H$45:$I$57) -> F
A15: 9 | B15: =IF('1st Quarter'!B15>0,'1st Quarter'!B15,"") | C15: =IF('1st Quarter'!C15>0,'1st Quarter'!C15,"") | D15: =IF('1st Quarter'!D15>0,'1st Quarter'!D15,"") | AE15: =ROUND(((F15*$F$5)+(G15*$G$5)+(H15*$H$5)+(I15*$I$5)+(J15*$J$5)+(K15*$K$5)+(L15*$L$5)+(M15*$M$5)+(N15*$N$5)+(O15*$O$5)+(P15*$P$5)+(Q15*$Q$5)+(R15*$R$5)+(S15*$S$5)+(T15*$T$5)+(U15*$U$5)+(V15*$V$5)+(W15*$W$5)+(X15*$X$5)+(Y15*$Y$5)+(Z15*$Z$5)+(AA15*$AA$5)+(AB15*$AB$5)+(AC15*$AC$5)+(AD15*$AD$5))/(SUM($F$5:$AD$5)),3) -> 0 | AF15: =LOOKUP(AE15,'Final Average'!$H$45:$I$57) -> F | BF15: =ROUND(((AG15*$AG$5)+(AH15*$AH$5)+(AI15*$AI$5)+(AJ15*$AJ$5)+(AK15*$AK$5)+(AL15*$AL$5)+(AM15*$AM$5)+(AN15*$AN$5)+(AO15*$AO$5)+(AP15*$AP$5)+(AQ15*$AQ$5)+(AR15*$AR$5)+(AS15*$AS$5)+(AT15*$AT$5)+(AU15*$AU$5)+(AV15*$AV$5)+(AW15*$AW$5)+(AX15*$AX$5)+(AY15*$AY$5)+(AZ15*$AZ$5)+(BA15*$BA$5)+(BB15*$BB$5)+(BC15*$BC$5)+(BD15*$BD$5)+(BE15*$BE$5))/(SUM($AG$5:$BE$5)),3) -> 0 | BG15: =LOOKUP(BF15,'Final Average'!$H$45:$I$57) -> F | CG15: =((BH15*$BH$5)+(BI15*$BI$5)+(BJ15*$BJ$5)+(BK15*$BK$5)+(BL15*$BL$5)+(BM15*$BM$5)+(BN15*$BN$5)+(BO15*$BO$5)+(BP15*$BP$5)+(BQ15*$BQ$5)+(BR15*$BR$5)+(BS15*$BS$5)+(BT15*$BT$5)+(BU15*$BU$5)+(BV15*$BV$5)+(BW15*$BW$5)+(BX15*$BX$5)+(BY15*$BY$5)+(BZ15*$BZ$5)+(CA15*$CA$5)+(CB15*$CB$5)+(CC15*$CC$5)+(CD15*$CD$5)+(CE15*$CE$5)+(CF15*$CF$5))/(SUM($BH$5:$CF$5)) -> 0 | CH15: =LOOKUP(CG15,'Final Average'!$H$45:$I$57) -> F | DH15: =ROUND(((CI15*$CI$5)+(CJ15*$CJ$5)+(CK15*$CK$5)+(CL15*$CL$5)+(CM15*$CM$5)+(CN15*$CN$5)+(CO15*$CO$5)+(CP15*$CP$5)+(CQ15*$CQ$5)+(CR15*$CR$5)+(CS15*$CS$5)+(CT15*$CT$5)+(CU15*$CU$5)+(CV15*$CV$5)+(CW15*$CW$5)+(CX15*$CX$5)+(CY15*$CY$5)+(CZ15*$CZ$5)+(DA15*$DA$5)+(DB15*$DB$5)+(DC15*$DC$5)+(DD15*$DD$5)+(DE15*$DE$5)+(DF15*$DF$5)+(DG15*$DG$5))/(SUM($CI$5:$DG$5)),3) -> 0 | DI15: =LOOKUP(DH15,'Final Average'!$H$45:$I$57) -> F | EI15: =ROUND(((DJ15*$DJ$5)+(DK15*$DK$5)+(DL15*$DL$5)+(DM15*$DM$5)+(DN15*$DN$5)+(DO15*$DO$5)+(DP15*$DP$5)+(DQ15*$DQ$5)+(DR15*$DR$5)+(DS15*$DS$5)+(DT15*$DT$5)+(DU15*$DU$5)+(DV15*$DV$5)+(DW15*$DW$5)+(DX15*$DX$5)+(DY15*$DY$5)+(DZ15*$DZ$5)+(EA15*$EA$5)+(EB15*$EB$5)+(EC15*$EC$5)+(ED15*$ED$5)+(EE15*$EE$5)+(EF15*$EF$5)+(EG15*$EG$5)+(EH15*$EH$5))/(SUM($DJ$5:$EH$5)),3) -> 0 | EJ15: =LOOKUP(EI15,'Final Average'!$H$45:$I$57) -> F | FJ15: =ROUND(((EK15*$EK$5)+(EL15*$EL$5)+(EM15*$EM$5)+(EN15*$EN$5)+(EO15*$EO$5)+(EP15*$EP$5)+(EQ15*$EQ$5)+(ER15*$ER$5)+(ES15*$ES$5)+(ET15*$ET$5)+(EU15*$EU$5)+(EV15*$EV$5)+(EW15*$EW$5)+(EX15*$EX$5)+(EY15*$EY$5)+(EZ15*$EZ$5)+(FA15*$FA$5)+(FB15*$FB$5)+(FC15*$FC$5)+(FD15*$FD$5)+(FE15*$FE$5)+(FF15*$FF$5)+(FG15*$FG$5)+(FH15*$FH$5)+(FI15*$FI$5))/(SUM($EK$5:$FI$5)),3) -> 0 | FK15: =LOOKUP(FJ15,'Final Average'!$H$45:$I$57) -> F
A16: 10 | B16: =IF('1st Quarter'!B16>0,'1st Quarter'!B16,"") | C16: =IF('1st Quarter'!C16>0,'1st Quarter'!C16,"") | D16: =IF('1st Quarter'!D16>0,'1st Quarter'!D16,"") | AE16: =ROUND(((F16*$F$5)+(G16*$G$5)+(H16*$H$5)+(I16*$I$5)+(J16*$J$5)+(K16*$K$5)+(L16*$L$5)+(M16*$M$5)+(N16*$N$5)+(O16*$O$5)+(P16*$P$5)+(Q16*$Q$5)+(R16*$R$5)+(S16*$S$5)+(T16*$T$5)+(U16*$U$5)+(V16*$V$5)+(W16*$W$5)+(X16*$X$5)+(Y16*$Y$5)+(Z16*$Z$5)+(AA16*$AA$5)+(AB16*$AB$5)+(AC16*$AC$5)+(AD16*$AD$5))/(SUM($F$5:$AD$5)),3) -> 0 | AF16: =LOOKUP(AE16,'Final Average'!$H$45:$I$57) -> F | BF16: =ROUND(((AG16*$AG$5)+(AH16*$AH$5)+(AI16*$AI$5)+(AJ16*$AJ$5)+(AK16*$AK$5)+(AL16*$AL$5)+(AM16*$AM$5)+(AN16*$AN$5)+(AO16*$AO$5)+(AP16*$AP$5)+(AQ16*$AQ$5)+(AR16*$AR$5)+(AS16*$AS$5)+(AT16*$AT$5)+(AU16*$AU$5)+(AV16*$AV$5)+(AW16*$AW$5)+(AX16*$AX$5)+(AY16*$AY$5)+(AZ16*$AZ$5)+(BA16*$BA$5)+(BB16*$BB$5)+(BC16*$BC$5)+(BD16*$BD$5)+(BE16*$BE$5))/(SUM($AG$5:$BE$5)),3) -> 0 | BG16: =LOOKUP(BF16,'Final Average'!$H$45:$I$57) -> F | CG16: =((BH16*$BH$5)+(BI16*$BI$5)+(BJ16*$BJ$5)+(BK16*$BK$5)+(BL16*$BL$5)+(BM16*$BM$5)+(BN16*$BN$5)+(BO16*$BO$5)+(BP16*$BP$5)+(BQ16*$BQ$5)+(BR16*$BR$5)+(BS16*$BS$5)+(BT16*$BT$5)+(BU16*$BU$5)+(BV16*$BV$5)+(BW16*$BW$5)+(BX16*$BX$5)+(BY16*$BY$5)+(BZ16*$BZ$5)+(CA16*$CA$5)+(CB16*$CB$5)+(CC16*$CC$5)+(CD16*$CD$5)+(CE16*$CE$5)+(CF16*$CF$5))/(SUM($BH$5:$CF$5)) -> 0 | CH16: =LOOKUP(CG16,'Final Average'!$H$45:$I$57) -> F | DH16: =ROUND(((CI16*$CI$5)+(CJ16*$CJ$5)+(CK16*$CK$5)+(CL16*$CL$5)+(CM16*$CM$5)+(CN16*$CN$5)+(CO16*$CO$5)+(CP16*$CP$5)+(CQ16*$CQ$5)+(CR16*$CR$5)+(CS16*$CS$5)+(CT16*$CT$5)+(CU16*$CU$5)+(CV16*$CV$5)+(CW16*$CW$5)+(CX16*$CX$5)+(CY16*$CY$5)+(CZ16*$CZ$5)+(DA16*$DA$5)+(DB16*$DB$5)+(DC16*$DC$5)+(DD16*$DD$5)+(DE16*$DE$5)+(DF16*$DF$5)+(DG16*$DG$5))/(SUM($CI$5:$DG$5)),3) -> 0 | DI16: =LOOKUP(DH16,'Final Average'!$H$45:$I$57) -> F | EI16: =ROUND(((DJ16*$DJ$5)+(DK16*$DK$5)+(DL16*$DL$5)+(DM16*$DM$5)+(DN16*$DN$5)+(DO16*$DO$5)+(DP16*$DP$5)+(DQ16*$DQ$5)+(DR16*$DR$5)+(DS16*$DS$5)+(DT16*$DT$5)+(DU16*$DU$5)+(DV16*$DV$5)+(DW16*$DW$5)+(DX16*$DX$5)+(DY16*$DY$5)+(DZ16*$DZ$5)+(EA16*$EA$5)+(EB16*$EB$5)+(EC16*$EC$5)+(ED16*$ED$5)+(EE16*$EE$5)+(EF16*$EF$5)+(EG16*$EG$5)+(EH16*$EH$5))/(SUM($DJ$5:$EH$5)),3) -> 0 | EJ16: =LOOKUP(EI16,'Final Average'!$H$45:$I$57) -> F | FJ16: =ROUND(((EK16*$EK$5)+(EL16*$EL$5)+(EM16*$EM$5)+(EN16*$EN$5)+(EO16*$EO$5)+(EP16*$EP$5)+(EQ16*$EQ$5)+(ER16*$ER$5)+(ES16*$ES$5)+(ET16*$ET$5)+(EU16*$EU$5)+(EV16*$EV$5)+(EW16*$EW$5)+(EX16*$EX$5)+(EY16*$EY$5)+(EZ16*$EZ$5)+(FA16*$FA$5)+(FB16*$FB$5)+(FC16*$FC$5)+(FD16*$FD$5)+(FE16*$FE$5)+(FF16*$FF$5)+(FG16*$FG$5)+(FH16*$FH$5)+(FI16*$FI$5))/(SUM($EK$5:$FI$5)),3) -> 0 | FK16: =LOOKUP(FJ16,'Final Average'!$H$45:$I$57) -> F
A17: 11 | B17: =IF('1st Quarter'!B17>0,'1st Quarter'!B17,"") | C17: =IF('1st Quarter'!C17>0,'1st Quarter'!C17,"") | D17: =IF('1st Quarter'!D17>0,'1st Quarter'!D17,"") | AE17: =ROUND(((F17*$F$5)+(G17*$G$5)+(H17*$H$5)+(I17*$I$5)+(J17*$J$5)+(K17*$K$5)+(L17*$L$5)+(M17*$M$5)+(N17*$N$5)+(O17*$O$5)+(P17*$P$5)+(Q17*$Q$5)+(R17*$R$5)+(S17*$S$5)+(T17*$T$5)+(U17*$U$5)+(V17*$V$5)+(W17*$W$5)+(X17*$X$5)+(Y17*$Y$5)+(Z17*$Z$5)+(AA17*$AA$5)+(AB17*$AB$5)+(AC17*$AC$5)+(AD17*$AD$5))/(SUM($F$5:$AD$5)),3) -> 0 | AF17: =LOOKUP(AE17,'Final Average'!$H$45:$I$57) -> F | BF17: =ROUND(((AG17*$AG$5)+(AH17*$AH$5)+(AI17*$AI$5)+(AJ17*$AJ$5)+(AK17*$AK$5)+(AL17*$AL$5)+(AM17*$AM$5)+(AN17*$AN$5)+(AO17*$AO$5)+(AP17*$AP$5)+(AQ17*$AQ$5)+(AR17*$AR$5)+(AS17*$AS$5)+(AT17*$AT$5)+(AU17*$AU$5)+(AV17*$AV$5)+(AW17*$AW$5)+(AX17*$AX$5)+(AY17*$AY$5)+(AZ17*$AZ$5)+(BA17*$BA$5)+(BB17*$BB$5)+(BC17*$BC$5)+(BD17*$BD$5)+(BE17*$BE$5))/(SUM($AG$5:$BE$5)),3) -> 0 | BG17: =LOOKUP(BF17,'Final Average'!$H$45:$I$57) -> F | CG17: =((BH17*$BH$5)+(BI17*$BI$5)+(BJ17*$BJ$5)+(BK17*$BK$5)+(BL17*$BL$5)+(BM17*$BM$5)+(BN17*$BN$5)+(BO17*$BO$5)+(BP17*$BP$5)+(BQ17*$BQ$5)+(BR17*$BR$5)+(BS17*$BS$5)+(BT17*$BT$5)+(BU17*$BU$5)+(BV17*$BV$5)+(BW17*$BW$5)+(BX17*$BX$5)+(BY17*$BY$5)+(BZ17*$BZ$5)+(CA17*$CA$5)+(CB17*$CB$5)+(CC17*$CC$5)+(CD17*$CD$5)+(CE17*$CE$5)+(CF17*$CF$5))/(SUM($BH$5:$CF$5)) -> 0 | CH17: =LOOKUP(CG17,'Final Average'!$H$45:$I$57) -> F | DH17: =ROUND(((CI17*$CI$5)+(CJ17*$CJ$5)+(CK17*$CK$5)+(CL17*$CL$5)+(CM17*$CM$5)+(CN17*$CN$5)+(CO17*$CO$5)+(CP17*$CP$5)+(CQ17*$CQ$5)+(CR17*$CR$5)+(CS17*$CS$5)+(CT17*$CT$5)+(CU17*$CU$5)+(CV17*$CV$5)+(CW17*$CW$5)+(CX17*$CX$5)+(CY17*$CY$5)+(CZ17*$CZ$5)+(DA17*$DA$5)+(DB17*$DB$5)+(DC17*$DC$5)+(DD17*$DD$5)+(DE17*$DE$5)+(DF17*$DF$5)+(DG17*$DG$5))/(SUM($CI$5:$DG$5)),3) -> 0 | DI17: =LOOKUP(DH17,'Final Average'!$H$45:$I$57) -> F | EI17: =ROUND(((DJ17*$DJ$5)+(DK17*$DK$5)+(DL17*$DL$5)+(DM17*$DM$5)+(DN17*$DN$5)+(DO17*$DO$5)+(DP17*$DP$5)+(DQ17*$DQ$5)+(DR17*$DR$5)+(DS17*$DS$5)+(DT17*$DT$5)+(DU17*$DU$5)+(DV17*$DV$5)+(DW17*$DW$5)+(DX17*$DX$5)+(DY17*$DY$5)+(DZ17*$DZ$5)+(EA17*$EA$5)+(EB17*$EB$5)+(EC17*$EC$5)+(ED17*$ED$5)+(EE17*$EE$5)+(EF17*$EF$5)+(EG17*$EG$5)+(EH17*$EH$5))/(SUM($DJ$5:$EH$5)),3) -> 0 | EJ17: =LOOKUP(EI17,'Final Average'!$H$45:$I$57) -> F | FJ17: =ROUND(((EK17*$EK$5)+(EL17*$EL$5)+(EM17*$EM$5)+(EN17*$EN$5)+(EO17*$EO$5)+(EP17*$EP$5)+(EQ17*$EQ$5)+(ER17*$ER$5)+(ES17*$ES$5)+(ET17*$ET$5)+(EU17*$EU$5)+(EV17*$EV$5)+(EW17*$EW$5)+(EX17*$EX$5)+(EY17*$EY$5)+(EZ17*$EZ$5)+(FA17*$FA$5)+(FB17*$FB$5)+(FC17*$FC$5)+(FD17*$FD$5)+(FE17*$FE$5)+(FF17*$FF$5)+(FG17*$FG$5)+(FH17*$FH$5)+(FI17*$FI$5))/(SUM($EK$5:$FI$5)),3) -> 0 | FK17: =LOOKUP(FJ17,'Final Average'!$H$45:$I$57) -> F
A18: 12 | B18: =IF('1st Quarter'!B18>0,'1st Quarter'!B18,"") | C18: =IF('1st Quarter'!C18>0,'1st Quarter'!C18,"") | D18: =IF('1st Quarter'!D18>0,'1st Quarter'!D18,"") | AE18: =ROUND(((F18*$F$5)+(G18*$G$5)+(H18*$H$5)+(I18*$I$5)+(J18*$J$5)+(K18*$K$5)+(L18*$L$5)+(M18*$M$5)+(N18*$N$5)+(O18*$O$5)+(P18*$P$5)+(Q18*$Q$5)+(R18*$R$5)+(S18*$S$5)+(T18*$T$5)+(U18*$U$5)+(V18*$V$5)+(W18*$W$5)+(X18*$X$5)+(Y18*$Y$5)+(Z18*$Z$5)+(AA18*$AA$5)+(AB18*$AB$5)+(AC18*$AC$5)+(AD18*$AD$5))/(SUM($F$5:$AD$5)),3) -> 0 | AF18: =LOOKUP(AE18,'Final Average'!$H$45:$I$57) -> F | BF18: =ROUND(((AG18*$AG$5)+(AH18*$AH$5)+(AI18*$AI$5)+(AJ18*$AJ$5)+(AK18*$AK$5)+(AL18*$AL$5)+(AM18*$AM$5)+(AN18*$AN$5)+(AO18*$AO$5)+(AP18*$AP$5)+(AQ18*$AQ$5)+(AR18*$AR$5)+(AS18*$AS$5)+(AT18*$AT$5)+(AU18*$AU$5)+(AV18*$AV$5)+(AW18*$AW$5)+(AX18*$AX$5)+(AY18*$AY$5)+(AZ18*$AZ$5)+(BA18*$BA$5)+(BB18*$BB$5)+(BC18*$BC$5)+(BD18*$BD$5)+(BE18*$BE$5))/(SUM($AG$5:$BE$5)),3) -> 0 | BG18: =LOOKUP(BF18,'Final Average'!$H$45:$I$57) -> F | CG18: =((BH18*$BH$5)+(BI18*$BI$5)+(BJ18*$BJ$5)+(BK18*$BK$5)+(BL18*$BL$5)+(BM18*$BM$5)+(BN18*$BN$5)+(BO18*$BO$5)+(BP18*$BP$5)+(BQ18*$BQ$5)+(BR18*$BR$5)+(BS18*$BS$5)+(BT18*$BT$5)+(BU18*$BU$5)+(BV18*$BV$5)+(BW18*$BW$5)+(BX18*$BX$5)+(BY18*$BY$5)+(BZ18*$BZ$5)+(CA18*$CA$5)+(CB18*$CB$5)+(CC18*$CC$5)+(CD18*$CD$5)+(CE18*$CE$5)+(CF18*$CF$5))/(SUM($BH$5:$CF$5)) -> 0 | CH18: =LOOKUP(CG18,'Final Average'!$H$45:$I$57) -> F | DH18: =ROUND(((CI18*$CI$5)+(CJ18*$CJ$5)+(CK18*$CK$5)+(CL18*$CL$5)+(CM18*$CM$5)+(CN18*$CN$5)+(CO18*$CO$5)+(CP18*$CP$5)+(CQ18*$CQ$5)+(CR18*$CR$5)+(CS18*$CS$5)+(CT18*$CT$5)+(CU18*$CU$5)+(CV18*$CV$5)+(CW18*$CW$5)+(CX18*$CX$5)+(CY18*$CY$5)+(CZ18*$CZ$5)+(DA18*$DA$5)+(DB18*$DB$5)+(DC18*$DC$5)+(DD18*$DD$5)+(DE18*$DE$5)+(DF18*$DF$5)+(DG18*$DG$5))/(SUM($CI$5:$DG$5)),3) -> 0 | DI18: =LOOKUP(DH18,'Final Average'!$H$45:$I$57) -> F | EI18: =ROUND(((DJ18*$DJ$5)+(DK18*$DK$5)+(DL18*$DL$5)+(DM18*$DM$5)+(DN18*$DN$5)+(DO18*$DO$5)+(DP18*$DP$5)+(DQ18*$DQ$5)+(DR18*$DR$5)+(DS18*$DS$5)+(DT18*$DT$5)+(DU18*$DU$5)+(DV18*$DV$5)+(DW18*$DW$5)+(DX18*$DX$5)+(DY18*$DY$5)+(DZ18*$DZ$5)+(EA18*$EA$5)+(EB18*$EB$5)+(EC18*$EC$5)+(ED18*$ED$5)+(EE18*$EE$5)+(EF18*$EF$5)+(EG18*$EG$5)+(EH18*$EH$5))/(SUM($DJ$5:$EH$5)),3) -> 0 | EJ18: =LOOKUP(EI18,'Final Average'!$H$45:$I$57) -> F | FJ18: =ROUND(((EK18*$EK$5)+(EL18*$EL$5)+(EM18*$EM$5)+(EN18*$EN$5)+(EO18*$EO$5)+(EP18*$EP$5)+(EQ18*$EQ$5)+(ER18*$ER$5)+(ES18*$ES$5)+(ET18*$ET$5)+(EU18*$EU$5)+(EV18*$EV$5)+(EW18*$EW$5)+(EX18*$EX$5)+(EY18*$EY$5)+(EZ18*$EZ$5)+(FA18*$FA$5)+(FB18*$FB$5)+(FC18*$FC$5)+(FD18*$FD$5)+(FE18*$FE$5)+(FF18*$FF$5)+(FG18*$FG$5)+(FH18*$FH$5)+(FI18*$FI$5))/(SUM($EK$5:$FI$5)),3) -> 0 | FK18: =LOOKUP(FJ18,'Final Average'!$H$45:$I$57) -> F
A19: 13 | B19: =IF('1st Quarter'!B19>0,'1st Quarter'!B19,"") | C19: =IF('1st Quarter'!C19>0,'1st Quarter'!C19,"") | D19: =IF('1st Quarter'!D19>0,'1st Quarter'!D19,"") | AE19: =ROUND(((F19*$F$5)+(G19*$G$5)+(H19*$H$5)+(I19*$I$5)+(J19*$J$5)+(K19*$K$5)+(L19*$L$5)+(M19*$M$5)+(N19*$N$5)+(O19*$O$5)+(P19*$P$5)+(Q19*$Q$5)+(R19*$R$5)+(S19*$S$5)+(T19*$T$5)+(U19*$U$5)+(V19*$V$5)+(W19*$W$5)+(X19*$X$5)+(Y19*$Y$5)+(Z19*$Z$5)+(AA19*$AA$5)+(AB19*$AB$5)+(AC19*$AC$5)+(AD19*$AD$5))/(SUM($F$5:$AD$5)),3) -> 0 | AF19: =LOOKUP(AE19,'Final Average'!$H$45:$I$57) -> F | BF19: =ROUND(((AG19*$AG$5)+(AH19*$AH$5)+(AI19*$AI$5)+(AJ19*$AJ$5)+(AK19*$AK$5)+(AL19*$AL$5)+(AM19*$AM$5)+(AN19*$AN$5)+(AO19*$AO$5)+(AP19*$AP$5)+(AQ19*$AQ$5)+(AR19*$AR$5)+(AS19*$AS$5)+(AT19*$AT$5)+(AU19*$AU$5)+(AV19*$AV$5)+(AW19*$AW$5)+(AX19*$AX$5)+(AY19*$AY$5)+(AZ19*$AZ$5)+(BA19*$BA$5)+(BB19*$BB$5)+(BC19*$BC$5)+(BD19*$BD$5)+(BE19*$BE$5))/(SUM($AG$5:$BE$5)),3) -> 0 | BG19: =LOOKUP(BF19,'Final Average'!$H$45:$I$57) -> F | CG19: =((BH19*$BH$5)+(BI19*$BI$5)+(BJ19*$BJ$5)+(BK19*$BK$5)+(BL19*$BL$5)+(BM19*$BM$5)+(BN19*$BN$5)+(BO19*$BO$5)+(BP19*$BP$5)+(BQ19*$BQ$5)+(BR19*$BR$5)+(BS19*$BS$5)+(BT19*$BT$5)+(BU19*$BU$5)+(BV19*$BV$5)+(BW19*$BW$5)+(BX19*$BX$5)+(BY19*$BY$5)+(BZ19*$BZ$5)+(CA19*$CA$5)+(CB19*$CB$5)+(CC19*$CC$5)+(CD19*$CD$5)+(CE19*$CE$5)+(CF19*$CF$5))/(SUM($BH$5:$CF$5)) -> 0 | CH19: =LOOKUP(CG19,'Final Average'!$H$45:$I$57) -> F | DH19: =ROUND(((CI19*$CI$5)+(CJ19*$CJ$5)+(CK19*$CK$5)+(CL19*$CL$5)+(CM19*$CM$5)+(CN19*$CN$5)+(CO19*$CO$5)+(CP19*$CP$5)+(CQ19*$CQ$5)+(CR19*$CR$5)+(CS19*$CS$5)+(CT19*$CT$5)+(CU19*$CU$5)+(CV19*$CV$5)+(CW19*$CW$5)+(CX19*$CX$5)+(CY19*$CY$5)+(CZ19*$CZ$5)+(DA19*$DA$5)+(DB19*$DB$5)+(DC19*$DC$5)+(DD19*$DD$5)+(DE19*$DE$5)+(DF19*$DF$5)+(DG19*$DG$5))/(SUM($CI$5:$DG$5)),3) -> 0 | DI19: =LOOKUP(DH19,'Final Average'!$H$45:$I$57) -> F | EI19: =ROUND(((DJ19*$DJ$5)+(DK19*$DK$5)+(DL19*$DL$5)+(DM19*$DM$5)+(DN19*$DN$5)+(DO19*$DO$5)+(DP19*$DP$5)+(DQ19*$DQ$5)+(DR19*$DR$5)+(DS19*$DS$5)+(DT19*$DT$5)+(DU19*$DU$5)+(DV19*$DV$5)+(DW19*$DW$5)+(DX19*$DX$5)+(DY19*$DY$5)+(DZ19*$DZ$5)+(EA19*$EA$5)+(EB19*$EB$5)+(EC19*$EC$5)+(ED19*$ED$5)+(EE19*$EE$5)+(EF19*$EF$5)+(EG19*$EG$5)+(EH19*$EH$5))/(SUM($DJ$5:$EH$5)),3) -> 0 | EJ19: =LOOKUP(EI19,'Final Average'!$H$45:$I$57) -> F | FJ19: =ROUND(((EK19*$EK$5)+(EL19*$EL$5)+(EM19*$EM$5)+(EN19*$EN$5)+(EO19*$EO$5)+(EP19*$EP$5)+(EQ19*$EQ$5)+(ER19*$ER$5)+(ES19*$ES$5)+(ET19*$ET$5)+(EU19*$EU$5)+(EV19*$EV$5)+(EW19*$EW$5)+(EX19*$EX$5)+(EY19*$EY$5)+(EZ19*$EZ$5)+(FA19*$FA$5)+(FB19*$FB$5)+(FC19*$FC$5)+(FD19*$FD$5)+(FE19*$FE$5)+(FF19*$FF$5)+(FG19*$FG$5)+(FH19*$FH$5)+(FI19*$FI$5))/(SUM($EK$5:$FI$5)),3) -> 0 | FK19: =LOOKUP(FJ19,'Final Average'!$H$45:$I$57) -> F
... A41: 35 | B41: =IF('1st Quarter'!B41>0,'1st Quarter'!B41,"") | C41: =IF('1st Quarter'!C41>0,'1st Quarter'!C41,"") | D41: =IF('1st Quarter'!D41>0,'1st Quarter'!D41,"") | AE41: =ROUND(((F41*$F$5)+(G41*$G$5)+(H41*$H$5)+(I41*$I$5)+(J41*$J$5)+(K41*$K$5)+(L41*$L$5)+(M41*$M$5)+(N41*$N$5)+(O41*$O$5)+(P41*$P$5)+(Q41*$Q$5)+(R41*$R$5)+(S41*$S$5)+(T41*$T$5)+(U41*$U$5)+(V41*$V$5)+(W41*$W$5)+(X41*$X$5)+(Y41*$Y$5)+(Z41*$Z$5)+(AA41*$AA$5)+(AB41*$AB$5)+(AC41*$AC$5)+(AD41*$AD$5))/(SUM($F$5:$AD$5)),3) -> 0 | AF41: =LOOKUP(AE41,'Final Average'!$H$45:$I$57) -> F | BF41: =ROUND(((AG41*$AG$5)+(AH41*$AH$5)+(AI41*$AI$5)+(AJ41*$AJ$5)+(AK41*$AK$5)+(AL41*$AL$5)+(AM41*$AM$5)+(AN41*$AN$5)+(AO41*$AO$5)+(AP41*$AP$5)+(AQ41*$AQ$5)+(AR41*$AR$5)+(AS41*$AS$5)+(AT41*$AT$5)+(AU41*$AU$5)+(AV41*$AV$5)+(AW41*$AW$5)+(AX41*$AX$5)+(AY41*$AY$5)+(AZ41*$AZ$5)+(BA41*$BA$5)+(BB41*$BB$5)+(BC41*$BC$5)+(BD41*$BD$5)+(BE41*$BE$5))/(SUM($AG$5:$BE$5)),3) -> 0 | BG41: =LOOKUP(BF41,'Final Average'!$H$45:$I$57) -> F | CG41: =((BH41*$BH$5)+(BI41*$BI$5)+(BJ41*$BJ$5)+(BK41*$BK$5)+(BL41*$BL$5)+(BM41*$BM$5)+(BN41*$BN$5)+(BO41*$BO$5)+(BP41*$BP$5)+(BQ41*$BQ$5)+(BR41*$BR$5)+(BS41*$BS$5)+(BT41*$BT$5)+(BU41*$BU$5)+(BV41*$BV$5)+(BW41*$BW$5)+(BX41*$BX$5)+(BY41*$BY$5)+(BZ41*$BZ$5)+(CA41*$CA$5)+(CB41*$CB$5)+(CC41*$CC$5)+(CD41*$CD$5)+(CE41*$CE$5)+(CF41*$CF$5))/(SUM($BH$5:$CF$5)) -> 0 | CH41: =LOOKUP(CG41,'Final Average'!$H$45:$I$57) -> F | DH41: =ROUND(((CI41*$CI$5)+(CJ41*$CJ$5)+(CK41*$CK$5)+(CL41*$CL$5)+(CM41*$CM$5)+(CN41*$CN$5)+(CO41*$CO$5)+(CP41*$CP$5)+(CQ41*$CQ$5)+(CR41*$CR$5)+(CS41*$CS$5)+(CT41*$CT$5)+(CU41*$CU$5)+(CV41*$CV$5)+(CW41*$CW$5)+(CX41*$CX$5)+(CY41*$CY$5)+(CZ41*$CZ$5)+(DA41*$DA$5)+(DB41*$DB$5)+(DC41*$DC$5)+(DD41*$DD$5)+(DE41*$DE$5)+(DF41*$DF$5)+(DG41*$DG$5))/(SUM($CI$5:$DG$5)),3) -> 0 | DI41: =LOOKUP(DH41,'Final Average'!$H$45:$I$57) -> F | EI41: =ROUND(((DJ41*$DJ$5)+(DK41*$DK$5)+(DL41*$DL$5)+(DM41*$DM$5)+(DN41*$DN$5)+(DO41*$DO$5)+(DP41*$DP$5)+(DQ41*$DQ$5)+(DR41*$DR$5)+(DS41*$DS$5)+(DT41*$DT$5)+(DU41*$DU$5)+(DV41*$DV$5)+(DW41*$DW$5)+(DX41*$DX$5)+(DY41*$DY$5)+(DZ41*$DZ$5)+(EA41*$EA$5)+(EB41*$EB$5)+(EC41*$EC$5)+(ED41*$ED$5)+(EE41*$EE$5)+(EF41*$EF$5)+(EG41*$EG$5)+(EH41*$EH$5))/(SUM($DJ$5:$EH$5)),3) -> 0 | EJ41: =LOOKUP(EI41,'Final Average'!$H$45:$I$57) -> F | FJ41: =ROUND(((EK41*$EK$5)+(EL41*$EL$5)+(EM41*$EM$5)+(EN41*$EN$5)+(EO41*$EO$5)+(EP41*$EP$5)+(EQ41*$EQ$5)+(ER41*$ER$5)+(ES41*$ES$5)+(ET41*$ET$5)+(EU41*$EU$5)+(EV41*$EV$5)+(EW41*$EW$5)+(EX41*$EX$5)+(EY41*$EY$5)+(EZ41*$EZ$5)+(FA41*$FA$5)+(FB41*$FB$5)+(FC41*$FC$5)+(FD41*$FD$5)+(FE41*$FE$5)+(FF41*$FF$5)+(FG41*$FG$5)+(FH41*$FH$5)+(FI41*$FI$5))/(SUM($EK$5:$FI$5)),3) -> 0 | FK41: =LOOKUP(FJ41,'Final Average'!$H$45:$I$57) -> F
A42: Class Average | F42: =AVERAGE(F7:F41) -> #DIV/0! | G42: =AVERAGE(G7:G41) -> #DIV/0! | H42: =AVERAGE(H7:H41) -> #DIV/0! | I42: =AVERAGE(I7:I41) -> #DIV/0! | J42: =AVERAGE(J7:J41) -> #DIV/0! | K42: =AVERAGE(K7:K41) -> #DIV/0! | L42: =AVERAGE(L7:L41) -> #DIV/0! | M42: =AVERAGE(M7:M41) -> #DIV/0! | ... AD42: =AVERAGE(AD7:AD41) -> #DIV/0! | AE42: =SUM(AE7:AE41)/Basics!$E$6 -> #VALUE! | AF42: =LOOKUP(AE42,'Final Average'!$H$45:$I$57) -> #VALUE! | AG42: =AVERAGE(AG7:AG41) -> #DIV/0! | AH42: =AVERAGE(AH7:AH41) -> #DIV/0! | AI42: =AVERAGE(AI7:AI41) -> #DIV/0! | AJ42: =AVERAGE(AJ7:AJ41) -> #DIV/0! | AK42: =AVERAGE(AK7:AK41) -> #DIV/0! | AL42: =AVERAGE(AL7:AL41) -> #DIV/0! | AM42: =AVERAGE(AM7:AM41) -> #DIV/0! | AN42: =AVERAGE(AN7:AN41) -> #DIV/0! | ... BE42: =AVERAGE(BE7:BE41) -> #DIV/0! | BF42: =SUM(BF7:BF41)/Basics!$E$6 -> #VALUE! | BG42: =LOOKUP(BF42,'Final Average'!$H$45:$I$57) -> #VALUE! | BH42: =AVERAGE(BH7:BH41) -> #DIV/0! | BI42: =AVERAGE(BI7:BI41) -> #DIV/0! | BJ42: =AVERAGE(BJ7:BJ41) -> #DIV/0! | BK42: =AVERAGE(BK7:BK41) -> #DIV/0! | BL42: =AVERAGE(BL7:BL41) -> #DIV/0! | BM42: =AVERAGE(BM7:BM41) -> #DIV/0! | BN42: =AVERAGE(BN7:BN41) -> #DIV/0! | BO42: =AVERAGE(BO7:BO41) -> #DIV/0! | ... CF42: =AVERAGE(CF7:CF41) -> #DIV/0! | CG42: =SUM(CG7:CG41)/Basics!$E$6 -> #VALUE! | CH42: =LOOKUP(CG42,'Final Average'!$H$45:$I$57) -> #VALUE! | CI42: =AVERAGE(CI7:CI41) -> #DIV/0! | CJ42: =AVERAGE(CJ7:CJ41) -> #DIV/0! | CK42: =AVERAGE(CK7:CK41) -> #DIV/0! | CL42: =AVERAGE(CL7:CL41) -> #DIV/0! | CM42: =AVERAGE(CM7:CM41) -> #DIV/0! | CN42: =AVERAGE(CN7:CN41) -> #DIV/0! | CO42: =AVERAGE(CO7:CO41) -> #DIV/0! | CP42: =AVERAGE(CP7:CP41) -> #DIV/0! | ... DG42: =AVERAGE(DG7:DG41) -> #DIV/0! | DH42: =SUM(DH7:DH41)/Basics!$E$6 -> #VALUE! | DI42: =LOOKUP(DH42,'Final Average'!$H$45:$I$57) -> #VALUE! | DJ42: =AVERAGE(DJ7:DJ41) -> #DIV/0! | DK42: =AVERAGE(DK7:DK41) -> #DIV/0! | DL42: =AVERAGE(DL7:DL41) -> #DIV/0! | DM42: =AVERAGE(DM7:DM41) -> #DIV/0! | DN42: =AVERAGE(DN7:DN41) -> #DIV/0! | DO42: =AVERAGE(DO7:DO41) -> #DIV/0! | DP42: =AVERAGE(DP7:DP41) -> #DIV/0! | DQ42: =AVERAGE(DQ7:DQ41) -> #DIV/0! | ... EH42: =AVERAGE(EH7:EH41) -> #DIV/0! | EI42: =SUM(EI7:EI41)/Basics!$E$6 -> #VALUE! | EJ42: =LOOKUP(EI42,'Final Average'!$H$45:$I$57) -> #VALUE! | EK42: =AVERAGE(EK7:EK41) -> #DIV/0! | EL42: =AVERAGE(EL7:EL41) -> #DIV/0! | EM42: =AVERAGE(EM7:EM41) -> #DIV/0! | EN42: =AVERAGE(EN7:EN41) -> #DIV/0! | EO42: =AVERAGE(EO7:EO41) -> #DIV/0! | EP42: =AVERAGE(EP7:EP41) -> #DIV/0! | EQ42: =AVERAGE(EQ7:EQ41) -> #DIV/0! | ER42: =AVERAGE(ER7:ER41) -> #DIV/0! | ... FI42: =AVERAGE(FI7:FI41) -> #DIV/0! | FJ42: =SUM(FJ7:FJ41)/Basics!$E$6 -> #VALUE! | FK42: =LOOKUP(FJ42,'Final Average'!$H$45:$I$57) -> #VALUE!

Sheet Final Average
F1: # of Students | G1: =COUNTA('1st Quarter'!B7:B41) -> 0 | I1: Quarters Complete: | K1: 1
A2: Final Average (Year)
A3: Student # | B3: Last Name | C3: First Name | D3: M.I. | F3: ='1st Quarter'!F3 -> Math | H3: ='1st Quarter'!AG3 -> Reading | J3: ='1st Quarter'!BH3 -> Spelling | L3: ='1st Quarter'!CI3 -> Science | N3: ='1st Quarter'!DJ3 -> Social Studies | P3: ='1st Quarter'!EK3 -> English
A7: ='1st Quarter'!A7 -> 1 | B7: =IF('1st Quarter'!B7>0,'1st Quarter'!B7,"") | C7: =IF('1st Quarter'!C7>0,'1st Quarter'!C7,"") | D7: =IF('1st Quarter'!D7>0,'1st Quarter'!D7,"") | F7: =ROUND((('1st Quarter'!AE7+'2nd Quarter'!AE7+'3rd Quarter'!AE7+'4th Quarter'!AE7)/$K$1),3) -> 0 | G7: =LOOKUP(F7,$H$45:$I$57) -> F | H7: =ROUND((('1st Quarter'!BF7+'2nd Quarter'!BF7+'3rd Quarter'!BF7+'4th Quarter'!BF7)/'Final Average'!$K$1),3) -> 0 | I7: =LOOKUP(H7,$H$45:$I$57) -> F | J7: =ROUND((('1st Quarter'!CG7+'2nd Quarter'!CG7+'3rd Quarter'!CG7+'4th Quarter'!CG7)/$K$1),3) -> 0 | K7: =LOOKUP(J7,$H$45:$I$57) -> F | L7: =ROUND((('1st Quarter'!DH7+'2nd Quarter'!DH7+'3rd Quarter'!DH7+'4th Quarter'!DH7)),3) -> 0 | M7: =LOOKUP(L7,$H$45:$I$57) -> F | N7: =ROUND((('1st Quarter'!EI7+'2nd Quarter'!EI7+'3rd Quarter'!EI7+'4th Quarter'!EI7)),3) -> 0 | O7: =LOOKUP(N7,$H$45:$I$57) -> F | P7: =ROUND((('1st Quarter'!FJ7+'2nd Quarter'!FJ7+'3rd Quarter'!FJ7+'4th Quarter'!FJ7)/$K$1),3) -> 0 | Q7: =LOOKUP(P7,$H$45:$I$57) -> F
A8: ='1st Quarter'!A8 -> 2 | B8: =IF('1st Quarter'!B8>0,'1st Quarter'!B8,"") | C8: =IF('1st Quarter'!C8>0,'1st Quarter'!C8,"") | D8: =IF('1st Quarter'!D8>0,'1st Quarter'!D8,"") | F8: =ROUND((('1st Quarter'!AE8+'2nd Quarter'!AE8+'3rd Quarter'!AE8+'4th Quarter'!AE8)/$K$1),3) -> 0 | G8: =LOOKUP(F8,$H$45:$I$57) -> F | H8: =ROUND((('1st Quarter'!BF8+'2nd Quarter'!BF8+'3rd Quarter'!BF8+'4th Quarter'!BF8)/'Final Average'!$K$1),3) -> 0 | I8: =LOOKUP(H8,$H$45:$I$57) -> F | J8: =ROUND((('1st Quarter'!CG8+'2nd Quarter'!CG8+'3rd Quarter'!CG8+'4th Quarter'!CG8)/$K$1),3) -> 0 | K8: =LOOKUP(J8,$H$45:$I$57) -> F | L8: =ROUND((('1st Quarter'!DH8+'2nd Quarter'!DH8+'3rd Quarter'!DH8+'4th Quarter'!DH8)),3) -> 0 | M8: =LOOKUP(L8,$H$45:$I$57) -> F | N8: =ROUND((('1st Quarter'!EI8+'2nd Quarter'!EI8+'3rd Quarter'!EI8+'4th Quarter'!EI8)),3) -> 0 | O8: =LOOKUP(N8,$H$45:$I$57) -> F | P8: =ROUND((('1st Quarter'!FJ8+'2nd Quarter'!FJ8+'3rd Quarter'!FJ8+'4th Quarter'!FJ8)/$K$1),3) -> 0 | Q8: =LOOKUP(P8,$H$45:$I$57) -> F
A9: ='1st Quarter'!A9 -> 3 | B9: =IF('1st Quarter'!B9>0,'1st Quarter'!B9,"") | C9: =IF('1st Quarter'!C9>0,'1st Quarter'!C9,"") | D9: =IF('1st Quarter'!D9>0,'1st Quarter'!D9,"") | F9: =ROUND((('1st Quarter'!AE9+'2nd Quarter'!AE9+'3rd Quarter'!AE9+'4th Quarter'!AE9)/$K$1),3) -> 0 | G9: =LOOKUP(F9,$H$45:$I$57) -> F | H9: =ROUND((('1st Quarter'!BF9+'2nd Quarter'!BF9+'3rd Quarter'!BF9+'4th Quarter'!BF9)/'Final Average'!$K$1),3) -> 0 | I9: =LOOKUP(H9,$H$45:$I$57) -> F | J9: =ROUND((('1st Quarter'!CG9+'2nd Quarter'!CG9+'3rd Quarter'!CG9+'4th Quarter'!CG9)/$K$1),3) -> 0 | K9: =LOOKUP(J9,$H$45:$I$57) -> F | L9: =ROUND((('1st Quarter'!DH9+'2nd Quarter'!DH9+'3rd Quarter'!DH9+'4th Quarter'!DH9)),3) -> 0 | M9: =LOOKUP(L9,$H$45:$I$57) -> F | N9: =ROUND((('1st Quarter'!EI9+'2nd Quarter'!EI9+'3rd Quarter'!EI9+'4th Quarter'!EI9)),3) -> 0 | O9: =LOOKUP(N9,$H$45:$I$57) -> F | P9: =ROUND((('1st Quarter'!FJ9+'2nd Quarter'!FJ9+'3rd Quarter'!FJ9+'4th Quarter'!FJ9)/$K$1),3) -> 0 | Q9: =LOOKUP(P9,$H$45:$I$57) -> F
A10: ='1st Quarter'!A10 -> 4 | B10: =IF('1st Quarter'!B10>0,'1st Quarter'!B10,"") | C10: =IF('1st Quarter'!C10>0,'1st Quarter'!C10,"") | D10: =IF('1st Quarter'!D10>0,'1st Quarter'!D10,"") | F10: =ROUND((('1st Quarter'!AE10+'2nd Quarter'!AE10+'3rd Quarter'!AE10+'4th Quarter'!AE10)/$K$1),3) -> 0 | G10: =LOOKUP(F10,$H$45:$I$57) -> F | H10: =ROUND((('1st Quarter'!BF10+'2nd Quarter'!BF10+'3rd Quarter'!BF10+'4th Quarter'!BF10)/'Final Average'!$K$1),3) -> 0 | I10: =LOOKUP(H10,$H$45:$I$57) -> F | J10: =ROUND((('1st Quarter'!CG10+'2nd Quarter'!CG10+'3rd Quarter'!CG10+'4th Quarter'!CG10)/$K$1),3) -> 0 | K10: =LOOKUP(J10,$H$45:$I$57) -> F | L10: =ROUND((('1st Quarter'!DH10+'2nd Quarter'!DH10+'3rd Quarter'!DH10+'4th Quarter'!DH10)),3) -> 0 | M10: =LOOKUP(L10,$H$45:$I$57) -> F | N10: =ROUND((('1st Quarter'!EI10+'2nd Quarter'!EI10+'3rd Quarter'!EI10+'4th Quarter'!EI10)),3) -> 0 | O10: =LOOKUP(N10,$H$45:$I$57) -> F | P10: =ROUND((('1st Quarter'!FJ10+'2nd Quarter'!FJ10+'3rd Quarter'!FJ10+'4th Quarter'!FJ10)/$K$1),3) -> 0 | Q10: =LOOKUP(P10,$H$45:$I$57) -> F
A11: ='1st Quarter'!A11 -> 5 | B11: =IF('1st Quarter'!B11>0,'1st Quarter'!B11,"") | C11: =IF('1st Quarter'!C11>0,'1st Quarter'!C11,"") | D11: =IF('1st Quarter'!D11>0,'1st Quarter'!D11,"") | F11: =ROUND((('1st Quarter'!AE11+'2nd Quarter'!AE11+'3rd Quarter'!AE11+'4th Quarter'!AE11)/$K$1),3) -> 0 | G11: =LOOKUP(F11,$H$45:$I$57) -> F | H11: =ROUND((('1st Quarter'!BF11+'2nd Quarter'!BF11+'3rd Quarter'!BF11+'4th Quarter'!BF11)/'Final Average'!$K$1),3) -> 0 | I11: =LOOKUP(H11,$H$45:$I$57) -> F | J11: =ROUND((('1st Quarter'!CG11+'2nd Quarter'!CG11+'3rd Quarter'!CG11+'4th Quarter'!CG11)/$K$1),3) -> 0 | K11: =LOOKUP(J11,$H$45:$I$57) -> F | L11: =ROUND((('1st Quarter'!DH11+'2nd Quarter'!DH11+'3rd Quarter'!DH11+'4th Quarter'!DH11)),3) -> 0 | M11: =LOOKUP(L11,$H$45:$I$57) -> F | N11: =ROUND((('1st Quarter'!EI11+'2nd Quarter'!EI11+'3rd Quarter'!EI11+'4th Quarter'!EI11)),3) -> 0 | O11: =LOOKUP(N11,$H$45:$I$57) -> F | P11: =ROUND((('1st Quarter'!FJ11+'2nd Quarter'!FJ11+'3rd Quarter'!FJ11+'4th Quarter'!FJ11)/$K$1),3) -> 0 | Q11: =LOOKUP(P11,$H$45:$I$57) -> F
A12: ='1st Quarter'!A12 -> 6 | B12: =IF('1st Quarter'!B12>0,'1st Quarter'!B12,"") | C12: =IF('1st Quarter'!C12>0,'1st Quarter'!C12,"") | D12: =IF('1st Quarter'!D12>0,'1st Quarter'!D12,"") | F12: =ROUND((('1st Quarter'!AE12+'2nd Quarter'!AE12+'3rd Quarter'!AE12+'4th Quarter'!AE12)/$K$1),3) -> 0 | G12: =LOOKUP(F12,$H$45:$I$57) -> F | H12: =ROUND((('1st Quarter'!BF12+'2nd Quarter'!BF12+'3rd Quarter'!BF12+'4th Quarter'!BF12)/'Final Average'!$K$1),3) -> 0 | I12: =LOOKUP(H12,$H$45:$I$57) -> F | J12: =ROUND((('1st Quarter'!CG12+'2nd Quarter'!CG12+'3rd Quarter'!CG12+'4th Quarter'!CG12)/$K$1),3) -> 0 | K12: =LOOKUP(J12,$H$45:$I$57) -> F | L12: =ROUND((('1st Quarter'!DH12+'2nd Quarter'!DH12+'3rd Quarter'!DH12+'4th Quarter'!DH12)),3) -> 0 | M12: =LOOKUP(L12,$H$45:$I$57) -> F | N12: =ROUND((('1st Quarter'!EI12+'2nd Quarter'!EI12+'3rd Quarter'!EI12+'4th Quarter'!EI12)),3) -> 0 | O12: =LOOKUP(N12,$H$45:$I$57) -> F | P12: =ROUND((('1st Quarter'!FJ12+'2nd Quarter'!FJ12+'3rd Quarter'!FJ12+'4th Quarter'!FJ12)/$K$1),3) -> 0 | Q12: =LOOKUP(P12,$H$45:$I$57) -> F
A13: ='1st Quarter'!A13 -> 7 | B13: =IF('1st Quarter'!B13>0,'1st Quarter'!B13,"") | C13: =IF('1st Quarter'!C13>0,'1st Quarter'!C13,"") | D13: =IF('1st Quarter'!D13>0,'1st Quarter'!D13,"") | F13: =ROUND((('1st Quarter'!AE13+'2nd Quarter'!AE13+'3rd Quarter'!AE13+'4th Quarter'!AE13)/$K$1),3) -> 0 | G13: =LOOKUP(F13,$H$45:$I$57) -> F | H13: =ROUND((('1st Quarter'!BF13+'2nd Quarter'!BF13+'3rd Quarter'!BF13+'4th Quarter'!BF13)/'Final Average'!$K$1),3) -> 0 | I13: =LOOKUP(H13,$H$45:$I$57) -> F | J13: =ROUND((('1st Quarter'!CG13+'2nd Quarter'!CG13+'3rd Quarter'!CG13+'4th Quarter'!CG13)/$K$1),3) -> 0 | K13: =LOOKUP(J13,$H$45:$I$57) -> F | L13: =ROUND((('1st Quarter'!DH13+'2nd Quarter'!DH13+'3rd Quarter'!DH13+'4th Quarter'!DH13)),3) -> 0 | M13: =LOOKUP(L13,$H$45:$I$57) -> F | N13: =ROUND((('1st Quarter'!EI13+'2nd Quarter'!EI13+'3rd Quarter'!EI13+'4th Quarter'!EI13)),3) -> 0 | O13: =LOOKUP(N13,$H$45:$I$57) -> F | P13: =ROUND((('1st Quarter'!FJ13+'2nd Quarter'!FJ13+'3rd Quarter'!FJ13+'4th Quarter'!FJ13)/$K$1),3) -> 0 | Q13: =LOOKUP(P13,$H$45:$I$57) -> F
A14: ='1st Quarter'!A14 -> 8 | B14: =IF('1st Quarter'!B14>0,'1st Quarter'!B14,"") | C14: =IF('1st Quarter'!C14>0,'1st Quarter'!C14,"") | D14: =IF('1st Quarter'!D14>0,'1st Quarter'!D14,"") | F14: =ROUND((('1st Quarter'!AE14+'2nd Quarter'!AE14+'3rd Quarter'!AE14+'4th Quarter'!AE14)/$K$1),3) -> 0 | G14: =LOOKUP(F14,$H$45:$I$57) -> F | H14: =ROUND((('1st Quarter'!BF14+'2nd Quarter'!BF14+'3rd Quarter'!BF14+'4th Quarter'!BF14)/'Final Average'!$K$1),3) -> 0 | I14: =LOOKUP(H14,$H$45:$I$57) -> F | J14: =ROUND((('1st Quarter'!CG14+'2nd Quarter'!CG14+'3rd Quarter'!CG14+'4th Quarter'!CG14)/$K$1),3) -> 0 | K14: =LOOKUP(J14,$H$45:$I$57) -> F | L14: =ROUND((('1st Quarter'!DH14+'2nd Quarter'!DH14+'3rd Quarter'!DH14+'4th Quarter'!DH14)),3) -> 0 | M14: =LOOKUP(L14,$H$45:$I$57) -> F | N14: =ROUND((('1st Quarter'!EI14+'2nd Quarter'!EI14+'3rd Quarter'!EI14+'4th Quarter'!EI14)),3) -> 0 | O14: =LOOKUP(N14,$H$45:$I$57) -> F | P14: =ROUND((('1st Quarter'!FJ14+'2nd Quarter'!FJ14+'3rd Quarter'!FJ14+'4th Quarter'!FJ14)/$K$1),3) -> 0 | Q14: =LOOKUP(P14,$H$45:$I$57) -> F
A15: ='1st Quarter'!A15 -> 9 | B15: =IF('1st Quarter'!B15>0,'1st Quarter'!B15,"") | C15: =IF('1st Quarter'!C15>0,'1st Quarter'!C15,"") | D15: =IF('1st Quarter'!D15>0,'1st Quarter'!D15,"") | F15: =ROUND((('1st Quarter'!AE15+'2nd Quarter'!AE15+'3rd Quarter'!AE15+'4th Quarter'!AE15)/$K$1),3) -> 0 | G15: =LOOKUP(F15,$H$45:$I$57) -> F | H15: =ROUND((('1st Quarter'!BF15+'2nd Quarter'!BF15+'3rd Quarter'!BF15+'4th Quarter'!BF15)/'Final Average'!$K$1),3) -> 0 | I15: =LOOKUP(H15,$H$45:$I$57) -> F | J15: =ROUND((('1st Quarter'!CG15+'2nd Quarter'!CG15+'3rd Quarter'!CG15+'4th Quarter'!CG15)/$K$1),3) -> 0 | K15: =LOOKUP(J15,$H$45:$I$57) -> F | L15: =ROUND((('1st Quarter'!DH15+'2nd Quarter'!DH15+'3rd Quarter'!DH15+'4th Quarter'!DH15)),3) -> 0 | M15: =LOOKUP(L15,$H$45:$I$57) -> F | N15: =ROUND((('1st Quarter'!EI15+'2nd Quarter'!EI15+'3rd Quarter'!EI15+'4th Quarter'!EI15)),3) -> 0 | O15: =LOOKUP(N15,$H$45:$I$57) -> F | P15: =ROUND((('1st Quarter'!FJ15+'2nd Quarter'!FJ15+'3rd Quarter'!FJ15+'4th Quarter'!FJ15)/$K$1),3) -> 0 | Q15: =LOOKUP(P15,$H$45:$I$57) -> F
A16: ='1st Quarter'!A16 -> 10 | B16: =IF('1st Quarter'!B16>0,'1st Quarter'!B16,"") | C16: =IF('1st Quarter'!C16>0,'1st Quarter'!C16,"") | D16: =IF('1st Quarter'!D16>0,'1st Quarter'!D16,"") | F16: =ROUND((('1st Quarter'!AE16+'2nd Quarter'!AE16+'3rd Quarter'!AE16+'4th Quarter'!AE16)/$K$1),3) -> 0 | G16: =LOOKUP(F16,$H$45:$I$57) -> F | H16: =ROUND((('1st Quarter'!BF16+'2nd Quarter'!BF16+'3rd Quarter'!BF16+'4th Quarter'!BF16)/'Final Average'!$K$1),3) -> 0 | I16: =LOOKUP(H16,$H$45:$I$57) -> F | J16: =ROUND((('1st Quarter'!CG16+'2nd Quarter'!CG16+'3rd Quarter'!CG16+'4th Quarter'!CG16)/$K$1),3) -> 0 | K16: =LOOKUP(J16,$H$45:$I$57) -> F | L16: =ROUND((('1st Quarter'!DH16+'2nd Quarter'!DH16+'3rd Quarter'!DH16+'4th Quarter'!DH16)),3) -> 0 | M16: =LOOKUP(L16,$H$45:$I$57) -> F | N16: =ROUND((('1st Quarter'!EI16+'2nd Quarter'!EI16+'3rd Quarter'!EI16+'4th Quarter'!EI16)),3) -> 0 | O16: =LOOKUP(N16,$H$45:$I$57) -> F | P16: =ROUND((('1st Quarter'!FJ16+'2nd Quarter'!FJ16+'3rd Quarter'!FJ16+'4th Quarter'!FJ16)/$K$1),3) -> 0 | Q16: =LOOKUP(P16,$H$45:$I$57) -> F
A17: ='1st Quarter'!A17 -> 11 | B17: =IF('1st Quarter'!B17>0,'1st Quarter'!B17,"") | C17: =IF('1st Quarter'!C17>0,'1st Quarter'!C17,"") | D17: =IF('1st Quarter'!D17>0,'1st Quarter'!D17,"") | F17: =ROUND((('1st Quarter'!AE17+'2nd Quarter'!AE17+'3rd Quarter'!AE17+'4th Quarter'!AE17)/$K$1),3) -> 0 | G17: =LOOKUP(F17,$H$45:$I$57) -> F | H17: =ROUND((('1st Quarter'!BF17+'2nd Quarter'!BF17+'3rd Quarter'!BF17+'4th Quarter'!BF17)/'Final Average'!$K$1),3) -> 0 | I17: =LOOKUP(H17,$H$45:$I$57) -> F | J17: =ROUND((('1st Quarter'!CG17+'2nd Quarter'!CG17+'3rd Quarter'!CG17+'4th Quarter'!CG17)/$K$1),3) -> 0 | K17: =LOOKUP(J17,$H$45:$I$57) -> F | L17: =ROUND((('1st Quarter'!DH17+'2nd Quarter'!DH17+'3rd Quarter'!DH17+'4th Quarter'!DH17)),3) -> 0 | M17: =LOOKUP(L17,$H$45:$I$57) -> F | N17: =ROUND((('1st Quarter'!EI17+'2nd Quarter'!EI17+'3rd Quarter'!EI17+'4th Quarter'!EI17)),3) -> 0 | O17: =LOOKUP(N17,$H$45:$I$57) -> F | P17: =ROUND((('1st Quarter'!FJ17+'2nd Quarter'!FJ17+'3rd Quarter'!FJ17+'4th Quarter'!FJ17)/$K$1),3) -> 0 | Q17: =LOOKUP(P17,$H$45:$I$57) -> F
A18: ='1st Quarter'!A18 -> 12 | B18: =IF('1st Quarter'!B18>0,'1st Quarter'!B18,"") | C18: =IF('1st Quarter'!C18>0,'1st Quarter'!C18,"") | D18: =IF('1st Quarter'!D18>0,'1st Quarter'!D18,"") | F18: =ROUND((('1st Quarter'!AE18+'2nd Quarter'!AE18+'3rd Quarter'!AE18+'4th Quarter'!AE18)/$K$1),3) -> 0 | G18: =LOOKUP(F18,$H$45:$I$57) -> F | H18: =ROUND((('1st Quarter'!BF18+'2nd Quarter'!BF18+'3rd Quarter'!BF18+'4th Quarter'!BF18)/'Final Average'!$K$1),3) -> 0 | I18: =LOOKUP(H18,$H$45:$I$57) -> F | J18: =ROUND((('1st Quarter'!CG18+'2nd Quarter'!CG18+'3rd Quarter'!CG18+'4th Quarter'!CG18)/$K$1),3) -> 0 | K18: =LOOKUP(J18,$H$45:$I$57) -> F | L18: =ROUND((('1st Quarter'!DH18+'2nd Quarter'!DH18+'3rd Quarter'!DH18+'4th Quarter'!DH18)),3) -> 0 | M18: =LOOKUP(L18,$H$45:$I$57) -> F | N18: =ROUND((('1st Quarter'!EI18+'2nd Quarter'!EI18+'3rd Quarter'!EI18+'4th Quarter'!EI18)),3) -> 0 | O18: =LOOKUP(N18,$H$45:$I$57) -> F | P18: =ROUND((('1st Quarter'!FJ18+'2nd Quarter'!FJ18+'3rd Quarter'!FJ18+'4th Quarter'!FJ18)/$K$1),3) -> 0 | Q18: =LOOKUP(P18,$H$45:$I$57) -> F
... A36: ='1st Quarter'!A36 -> 30 | B36: =IF('1st Quarter'!B36>0,'1st Quarter'!B36,"") | C36: =IF('1st Quarter'!C36>0,'1st Quarter'!C36,"") | D36: =IF('1st Quarter'!D36>0,'1st Quarter'!D36,"") | F36: =ROUND((('1st Quarter'!AE36+'2nd Quarter'!AE36+'3rd Quarter'!AE36+'4th Quarter'!AE36)/$K$1),3) -> 0 | G36: =LOOKUP(F36,$H$45:$I$57) -> F | H36: =ROUND((('1st Quarter'!BF36+'2nd Quarter'!BF36+'3rd Quarter'!BF36+'4th Quarter'!BF36)/'Final Average'!$K$1),3) -> 0 | I36: =LOOKUP(H36,$H$45:$I$57) -> F | J36: =ROUND((('1st Quarter'!CG36+'2nd Quarter'!CG36+'3rd Quarter'!CG36+'4th Quarter'!CG36)/$K$1),3) -> 0 | K36: =LOOKUP(J36,$H$45:$I$57) -> F | L36: =ROUND((('1st Quarter'!DH36+'2nd Quarter'!DH36+'3rd Quarter'!DH36+'4th Quarter'!DH36)),3) -> 0 | M36: =LOOKUP(L36,$H$45:$I$57) -> F | N36: =ROUND((('1st Quarter'!EI36+'2nd Quarter'!EI36+'3rd Quarter'!EI36+'4th Quarter'!EI36)),3) -> 0 | O36: =LOOKUP(N36,$H$45:$I$57) -> F | P36: =ROUND((('1st Quarter'!FJ36+'2nd Quarter'!FJ36+'3rd Quarter'!FJ36+'4th Quarter'!FJ36)/$K$1),3) -> 0 | Q36: =LOOKUP(P36,$H$45:$I$57) -> F
A37: 31 | B37: =IF('1st Quarter'!B37>0,'1st Quarter'!B37,"") | C37: =IF('1st Quarter'!C37>0,'1st Quarter'!C37,"") | D37: =IF('1st Quarter'!D37>0,'1st Quarter'!D37,"") | F37: =ROUND((('1st Quarter'!AE37+'2nd Quarter'!AE37+'3rd Quarter'!AE37+'4th Quarter'!AE37)/$K$1),3) -> 0 | G37: =LOOKUP(F37,$H$45:$I$57) -> F | H37: =ROUND((('1st Quarter'!BF37+'2nd Quarter'!BF37+'3rd Quarter'!BF37+'4th Quarter'!BF37)/'Final Average'!$K$1),3) -> 0 | I37: =LOOKUP(H37,$H$45:$I$57) -> F | J37: =ROUND((('1st Quarter'!CG37+'2nd Quarter'!CG37+'3rd Quarter'!CG37+'4th Quarter'!CG37)/$K$1),3) -> 0 | K37: =LOOKUP(J37,$H$45:$I$57) -> F | L37: =ROUND((('1st Quarter'!DH37+'2nd Quarter'!DH37+'3rd Quarter'!DH37+'4th Quarter'!DH37)),3) -> 0 | M37: =LOOKUP(L37,$H$45:$I$57) -> F | N37: =ROUND((('1st Quarter'!EI37+'2nd Quarter'!EI37+'3rd Quarter'!EI37+'4th Quarter'!EI37)),3) -> 0 | O37: =LOOKUP(N37,$H$45:$I$57) -> F | P37: =ROUND((('1st Quarter'!FJ37+'2nd Quarter'!FJ37+'3rd Quarter'!FJ37+'4th Quarter'!FJ37)/$K$1),3) -> 0 | Q37: =LOOKUP(P37,$H$45:$I$57) -> F
A38: 32 | B38: =IF('1st Quarter'!B38>0,'1st Quarter'!B38,"") | C38: =IF('1st Quarter'!C38>0,'1st Quarter'!C38,"") | D38: =IF('1st Quarter'!D38>0,'1st Quarter'!D38,"") | F38: =ROUND((('1st Quarter'!AE38+'2nd Quarter'!AE38+'3rd Quarter'!AE38+'4th Quarter'!AE38)/$K$1),3) -> 0 | G38: =LOOKUP(F38,$H$45:$I$57) -> F | H38: =ROUND((('1st Quarter'!BF38+'2nd Quarter'!BF38+'3rd Quarter'!BF38+'4th Quarter'!BF38)/'Final Average'!$K$1),3) -> 0 | I38: =LOOKUP(H38,$H$45:$I$57) -> F | J38: =ROUND((('1st Quarter'!CG38+'2nd Quarter'!CG38+'3rd Quarter'!CG38+'4th Quarter'!CG38)/$K$1),3) -> 0 | K38: =LOOKUP(J38,$H$45:$I$57) -> F | L38: =ROUND((('1st Quarter'!DH38+'2nd Quarter'!DH38+'3rd Quarter'!DH38+'4th Quarter'!DH38)),3) -> 0 | M38: =LOOKUP(L38,$H$45:$I$57) -> F | N38: =ROUND((('1st Quarter'!EI38+'2nd Quarter'!EI38+'3rd Quarter'!EI38+'4th Quarter'!EI38)),3) -> 0 | O38: =LOOKUP(N38,$H$45:$I$57) -> F | P38: =ROUND((('1st Quarter'!FJ38+'2nd Quarter'!FJ38+'3rd Quarter'!FJ38+'4th Quarter'!FJ38)/$K$1),3) -> 0 | Q38: =LOOKUP(P38,$H$45:$I$57) -> F
A39: 33 | B39: =IF('1st Quarter'!B39>0,'1st Quarter'!B39,"") | C39: =IF('1st Quarter'!C39>0,'1st Quarter'!C39,"") | D39: =IF('1st Quarter'!D39>0,'1st Quarter'!D39,"") | F39: =ROUND((('1st Quarter'!AE39+'2nd Quarter'!AE39+'3rd Quarter'!AE39+'4th Quarter'!AE39)/$K$1),3) -> 0 | G39: =LOOKUP(F39,$H$45:$I$57) -> F | H39: =ROUND((('1st Quarter'!BF39+'2nd Quarter'!BF39+'3rd Quarter'!BF39+'4th Quarter'!BF39)/'Final Average'!$K$1),3) -> 0 | I39: =LOOKUP(H39,$H$45:$I$57) -> F | J39: =ROUND((('1st Quarter'!CG39+'2nd Quarter'!CG39+'3rd Quarter'!CG39+'4th Quarter'!CG39)/$K$1),3) -> 0 | K39: =LOOKUP(J39,$H$45:$I$57) -> F | L39: =ROUND((('1st Quarter'!DH39+'2nd Quarter'!DH39+'3rd Quarter'!DH39+'4th Quarter'!DH39)),3) -> 0 | M39: =LOOKUP(L39,$H$45:$I$57) -> F | N39: =ROUND((('1st Quarter'!EI39+'2nd Quarter'!EI39+'3rd Quarter'!EI39+'4th Quarter'!EI39)),3) -> 0 | O39: =LOOKUP(N39,$H$45:$I$57) -> F | P39: =ROUND((('1st Quarter'!FJ39+'2nd Quarter'!FJ39+'3rd Quarter'!FJ39+'4th Quarter'!FJ39)/$K$1),3) -> 0 | Q39: =LOOKUP(P39,$H$45:$I$57) -> F
A40: 34 | B40: =IF('1st Quarter'!B40>0,'1st Quarter'!B40,"") | C40: =IF('1st Quarter'!C40>0,'1st Quarter'!C40,"") | D40: =IF('1st Quarter'!D40>0,'1st Quarter'!D40,"") | F40: =ROUND((('1st Quarter'!AE40+'2nd Quarter'!AE40+'3rd Quarter'!AE40+'4th Quarter'!AE40)/$K$1),3) -> 0 | G40: =LOOKUP(F40,$H$45:$I$57) -> F | H40: =ROUND((('1st Quarter'!BF40+'2nd Quarter'!BF40+'3rd Quarter'!BF40+'4th Quarter'!BF40)/'Final Average'!$K$1),3) -> 0 | I40: =LOOKUP(H40,$H$45:$I$57) -> F | J40: =ROUND((('1st Quarter'!CG40+'2nd Quarter'!CG40+'3rd Quarter'!CG40+'4th Quarter'!CG40)/$K$1),3) -> 0 | K40: =LOOKUP(J40,$H$45:$I$57) -> F | L40: =ROUND((('1st Quarter'!DH40+'2nd Quarter'!DH40+'3rd Quarter'!DH40+'4th Quarter'!DH40)),3) -> 0 | M40: =LOOKUP(L40,$H$45:$I$57) -> F | N40: =ROUND((('1st Quarter'!EI40+'2nd Quarter'!EI40+'3rd Quarter'!EI40+'4th Quarter'!EI40)),3) -> 0 | O40: =LOOKUP(N40,$H$45:$I$57) -> F | P40: =ROUND((('1st Quarter'!FJ40+'2nd Quarter'!FJ40+'3rd Quarter'!FJ40+'4th Quarter'!FJ40)/$K$1),3) -> 0 | Q40: =LOOKUP(P40,$H$45:$I$57) -> F
A41: 35 | B41: =IF('1st Quarter'!B41>0,'1st Quarter'!B41,"") | C41: =IF('1st Quarter'!C41>0,'1st Quarter'!C41,"") | D41: =IF('1st Quarter'!D41>0,'1st Quarter'!D41,"") | F41: =ROUND((('1st Quarter'!AE41+'2nd Quarter'!AE41+'3rd Quarter'!AE41+'4th Quarter'!AE41)/$K$1),3) -> 0 | G41: =LOOKUP(F41,$H$45:$I$57) -> F | H41: =ROUND((('1st Quarter'!BF41+'2nd Quarter'!BF41+'3rd Quarter'!BF41+'4th Quarter'!BF41)/'Final Average'!$K$1),3) -> 0 | I41: =LOOKUP(H41,$H$45:$I$57) -> F | J41: =ROUND((('1st Quarter'!CG41+'2nd Quarter'!CG41+'3rd Quarter'!CG41+'4th Quarter'!CG41)/$K$1),3) -> 0 | K41: =LOOKUP(J41,$H$45:$I$57) -> F | L41: =ROUND((('1st Quarter'!DH41+'2nd Quarter'!DH41+'3rd Quarter'!DH41+'4th Quarter'!DH41)),3) -> 0 | M41: =LOOKUP(L41,$H$45:$I$57) -> F | N41: =ROUND((('1st Quarter'!EI41+'2nd Quarter'!EI41+'3rd Quarter'!EI41+'4th Quarter'!EI41)),3) -> 0 | O41: =LOOKUP(N41,$H$45:$I$57) -> F | P41: =ROUND((('1st Quarter'!FJ41+'2nd Quarter'!FJ41+'3rd Quarter'!FJ41+'4th Quarter'!FJ41)/$K$1),3) -> 0 | Q41: =LOOKUP(P41,$H$45:$I$57) -> F
A42: Class Average | F42: =ROUND((SUM(F7:F41)/$G$1),3) -> #DIV/0! | G42: =LOOKUP(F42,$H$45:$I$57) -> #DIV/0! | H42: =ROUND((SUM(H7:H41)/$G$1),3) -> #DIV/0! | I42: =LOOKUP(H42,$H$45:$I$57) -> #DIV/0! | J42: =ROUND((SUM(J7:J41)/$G$1),3) -> #DIV/0! | K42: =LOOKUP(J42,$H$45:$I$57) -> #DIV/0! | L42: =ROUND((SUM(L7:L41)/$G$1),3) -> #DIV/0! | M42: =LOOKUP(L42,$H$45:$I$57) -> #DIV/0! | N42: =ROUND((SUM(N7:N41)/$G$1),3) -> #DIV/0! | O42: =LOOKUP(N42,$H$45:$I$57) -> #DIV/0! | P42: =ROUND((SUM(P7:P41)/$G$1),3) -> #DIV/0! | Q42: =LOOKUP(P42,$H$45:$I$57) -> #DIV/0!
H45: 0 | I45: F | J45: To change the grading ranges, put the low end and the top end of the range. For example, if an F is anything below a 60.000, then put 0 in the F cell and 60.000 in the D- cell. Default is set to standard 3.333 points per grade level (A-, A, A+) format. For different formats, please adjust the values or contact creator for update and provide grade levels.
H46: 60 | I46: D-
H47: 63.333333 | I47: D
H48: 66.666667 | I48: D+
H49: 70 | I49: C-
H50: 73.333333 | I50: C
H51: 76.666667 | I51: C+
H52: 80 | I52: B-
H53: 83.333333 | I53: B
H54: 86.666667 | I54: B+
H55: 90 | I55: A-
H56: 93.333333 | I56: A
H57: 96.666667 | I57: A+
